Workbook

Sheet PL1
A1: Phụ lục 1
A2: TỔ CHỨC, BIÊN CHẾ DÂN QUÂN TỰ VỆ (Kèm theo Đề án tổ chức lực lượng, huấn luyện, hoạt động và bảo đảm chế độ, chính sách cho Dân quân tự vệ trên địa bàn phường, giai đoạn 2026- 2030)
A4: Đơn vị DQTV | B4: Tổng quân số | C4: Ban CHQS | E4: Tổng số | K4: Thành phần lực lượng DQTV
E5: Quân số | F5: Tổ chức | K5: Cơ động | M5: Thường trực | Q5: Tại chỗ | V5: Biển | Y5: Phòng không | AB5: Pháo binh | AF5: Tr/sát, T/tin, C/binh, Ph/ hóa, Y tế
C6: Quân số | D6: Số lượng | F6: Đại đội | G6: Trung đội | H6: Tiểu đội | I6: Khẩu đội | J6: Tổ | K6: Quân số | L6: b | M6: Quân số | N6: Hải đội | O6: b | P6: a | Q6: Quân số | R6: c | S6: b | T6: a | U6: Tổ | V6: Quân số | W6: b | X6: a | Y6: Quân số | Z6: c | AA6: b | AB6: Quân số | AC6: c | AD6: b | AE6: Kđ | AF6: Quân số | AG6: a
A7: TỔNG | B7: 1083 | C7: =C8+C12+C14 -> 1 | D7: =D8+D12+D14 -> 1 | E7: =E8+E12+E14 -> 0 | F7: =F8+F12+F14 -> 0 | G7: =G8+G12+G14 -> 0 | H7: =H8+H12+H14 -> 0 | I7: =I8+I12+I14 -> 0 | J7: =J8+J12+J14 -> 0 | ... AG7: =AG8+AG12+AG14 -> 10
A8: Đơn vị DQTV/ cấp tỉnh | B8: =SUM(B9:B11) -> 0 | C8: =SUM(C9:C11) -> 0 | D8: =SUM(D9:D11) -> 0 | E8: =SUM(E9:E11) -> 0 | F8: =SUM(F9:F11) -> 0 | G8: =SUM(G9:G11) -> 0 | H8: =SUM(H9:H11) -> 0 | I8: =SUM(I9:I11) -> 0 | ... AG8: =SUM(AG9:AG11) -> 0
A9: Pháo PK 37mm
A10: Pháo 76,2mm
A11: Hải đội DQTT
A12: Đơn vị DQ/ cấp xã | B12: =B13 -> 1002 | C12: =C13 -> 1 | D12: =D13 -> 1 | E12: =E13 -> 0 | F12: =F13 -> 0 | G12: =G13 -> 0 | H12: =H13 -> 0 | I12: =I13 -> 0 | ... Y12: =Y13 -> 84 | Z12: 1 | AA12: =AA13 -> 1 | AB12: =AB13 -> 36 | AC12: =AC13 -> 0 | AD12: =AD13 -> 2 | AE12: =AE13 -> 1 | AF12: =AF13 -> 78 | AG12: =AG13 -> 10
A13: Dân quân | B13: 1002 | C13: 1 | D13: 1 | K13: 84 | L13: 3 | M13: 28 | O13: 1 | Q13: 692 | S13: 17 | T13: 24 | Y13: 84 | Z13: 1 | AA13: 1 | AB13: 36 | AD13: 2 | AE13: 1 | AF13: 78 | AG13: 10
A14: Đơn vị Tự vệ | B14: =B15 -> 99 | C14: =C15 -> 0 | D14: =D15 -> 0 | E14: =E15 -> 0 | F14: =F15 -> 0 | G14: =G15 -> 0 | H14: =H15 -> 0 | I14: =I15 -> 0 | ... AG14: =AG15 -> 0
A15: Tự vệ | B15: 99 | Q15: 99 | T15: 11 | AF15: =AG15*9 -> 0
A17: Cán bộ đvị DQTV | B17: =B18+B19 -> 154 | K17: 12 | L17: 3 | M17: 4 | N17: =N7*12 -> 0 | O17: 1 | P17: =P7 -> 0 | Q17: =S17+T17 -> 103 | R17: =R7*16 -> 0 | S17: 17 | T17: =T18+T19 -> 86 | U17: =U7 -> 0 | W17: =W7*4 -> 0 | X17: =X7 -> 0 | Y17: 17 | Z17: 1 | AA17: 1 | AB17: 8 | AC17: =AC7*10 -> 0 | AD17: 2 | AE17: =AE7 -> 1 | AF17: 10 | AG17: =AG7 -> 10
A18: Cán bộ DQ | B18: =K18+M18+Q18+Y18+AB18+AF18 -> 143 | K18: 12 | L18: 3 | M18: 4 | N18: =N17-N19 -> 0 | O18: 1 | P18: =P17-P19 -> 0 | Q18: =S18+T18 -> 92 | R18: =R17-R19 -> 0 | S18: 17 | T18: 75 | U18: =U17-U19 -> 0 | V18: =V17-V19 -> 0 | W18: =W17-W19 -> 0 | X18: =X17-X19 -> 0 | Y18: 17 | Z18: 1 | AA18: 1 | AB18: 8 | AC18: =AC17-AC19 -> 0 | AD18: =AD17-AD19 -> 2 | AE18: =AE17-AE19 -> 1 | AF18: 10 | AG18: =AG17-AG19 -> 10
A19: Cán bộ TV | B19: =Q19 -> 11 | L19: =L14*4 -> 0 | Q19: 11 | R19: =R14*16 -> 0 | S19: =S14*4 -> 0 | T19: =T14 -> 11 | W19: =W14*4 -> 0
A20: Tổng csi DQTV | B20: =B21+B22 -> 947
A21: Csi DQ | B21: =K21+M21+Q21+Y21+AB21+AF21 -> 859 | K21: 72 | M21: 24 | Q21: 600 | Y21: 67 | AB21: 28 | AF21: 68
A22: Csi TV | B22: =B14-B19-C14 -> 88 | Q22: 88
A23: Tổng DQ | B23: =B18+B21 -> 1002 | K23: 84 | Q23: 692 | Y23: 84 | AB23: 36 | AF23: 78
A24: Tổng TV | B24: =B19+B22 -> 99 | Q24: 99
A26: - Sau sắp xếp: Phường Ninh Hoà hiện có 22 tổ dân phố; là phường trọng điểm về QP.
A27: - Dự kiến tổ chức xây dưng lực lượng DQ:
A28: + DQ thường trực: tổ chức 01b DQTT 28 đ/c
A29: + DQ cơ động: tổ chức 3b
A30: + DQ tại chỗ: Cấp tổ dân phố tổ chức 1b tại chỗ
A31: + DQ binh chủng Phòng không, Pháo binh giữ nguyên như hiện có gồm: 1c PPK 37mm-1, 1b SMPK 12,7mm, 1b ĐKZ 82mm, 1b Co82mm, 1a Co60mm.
A32: + DQ cối 60mm: tổ chức 01kđ.
A33: + DQ các binh chủng Thông tin, Công binh, Trinh sát, Phòng hóa, Y tế: tổ chức 02a/ mỗi binh chủng./.

Sheet PL2A
A1: Phụ lục 2A
A2: BẢO ĐẢM TRANG PHỤC CHO DÂN QUÂN (Kèm theo Đề án tổ chức lực lượng, huấn luyện, hoạt động và bảo đảm chế độ, chính sách cho Dân quân tự vệ trên địa bàn phường, giai đoạn 2026- 2030)
A5: TT | B5: Loại trang phục | C5: ĐVT | D5: Đơn giá (đồng) | E5: Năm 2026 | G5: Năm 2027 | I5: Năm 2028 | K5: Năm 2029 | M5: Năm 2030 | O5: Tổng 5 năm (đồng)
E6: SL | F6: Thành tiền (đồng) | G6: SL | H6: Thành tiền (đồng) | I6: SL | J6: Thành tiền (đồng) | K6: SL | L6: Thành tiền (đồng) | M6: SL | N6: Thành tiền (đồng)
A7: * | B7: CỘNG | E7: =E115+E106+E97+E89+E51+E26+E18+E8 -> 1507 | F7: =SUBTOTAL(9,F8:F123) -> 2568639000 | G7: =G115+G106+G97+G89+G51+G26+G18+G8 -> 392 | H7: =SUBTOTAL(9,H8:H123) -> 567814280 | I7: =I115+I106+I97+I89+I51+I26+I18+I8 -> 1282 | J7: =SUBTOTAL(9,J8:J123) -> 1829205960 | K7: =K115+K106+K97+K89+K51+K26+K18+K8 -> 1282 | L7: =SUBTOTAL(9,L8:L123) -> 999880980 | M7: =M115+M106+M97+M89+M51+M26+M18+M8 -> 1282 | N7: =SUBTOTAL(9,N8:N123) -> 2102372160 | O7: =SUBTOTAL(9,O8:O123) -> 8067912380 | P7: 313349756240 | Q7: =P7-O7 -> 305281843860
A8: I | B8: Ban CHQS phường | E8: =E9 -> 0 | F8: =SUBTOTAL(9,F9:F17) -> 0 | G8: =G9 -> 0 | H8: =SUBTOTAL(9,H9:H17) -> 0 | I8: =I9 -> 0 | J8: =SUBTOTAL(9,J9:J17) -> 0 | K8: =K9 -> 0 | L8: =SUBTOTAL(9,L9:L17) -> 0 | M8: =M9 -> 0 | N8: =SUBTOTAL(9,N9:N17) -> 0 | O8: =SUBTOTAL(9,O9:O17) -> 0 | P8: =E7-E9-#REF!-#REF! -> #REF! | Q8: =Q7-PL2B!O7 -> 304993783560
B9: Chính trị viên | F9: =SUBTOTAL(9,F10:F17) -> 0 | G9: =E9 -> 0 | H9: =SUBTOTAL(9,H10:H17) -> 0 | I9: =G9 -> 0 | J9: =SUBTOTAL(9,J10:J17) -> 0 | K9: =I9 -> 0 | L9: =SUBTOTAL(9,L10:L17) -> 0 | M9: =K9 -> 0 | N9: =SUBTOTAL(9,N10:N17) -> 0 | O9: =SUBTOTAL(9,O10:O17) -> 0
B10: Quần áo | C10: Bộ | D10: 700000 | F10: =E10*D10 -> 0 | H10: =G10*(D10+D10*3%) -> 0 | J10: =I10*(D10+D10*6%) -> 0 | K10: 0 | L10: =K10*(D10+D10*9%) -> 0 | N10: =M10*(D10+D10*12%) -> 0 | O10: =F10+H10+J10+L10+N10 -> 0
B11: Mũ cứng | C11: Cái | D11: 155000 | F11: =E11*D11 -> 0 | H11: =G11*(D11+D11*3%) -> 0 | J11: =I11*(D11+D11*6%) -> 0 | L11: =K11*(D11+D11*9%) -> 0 | N11: =M11*(D11+D11*12%) -> 0 | O11: =F11+H11+J11+L11+N11 -> 0
B12: Mũ mềm | C12: Cái | D12: 78000 | F12: =E12*D12 -> 0 | H12: =G12*(D12+D12*3%) -> 0 | J12: =I12*(D12+D12*6%) -> 0 | L12: =K12*(D12+D12*9%) -> 0 | N12: =M12*(D12+D12*12%) -> 0 | O12: =F12+H12+J12+L12+N12 -> 0
B13: Giày da | C13: Đôi | D13: 490000 | F13: =E13*D13 -> 0 | H13: =G13*(D13+D13*3%) -> 0 | J13: =I13*(D13+D13*6%) -> 0 | L13: =K13*(D13+D13*9%) -> 0 | N13: =M13*(D13+D13*12%) -> 0 | O13: =F13+H13+J13+L13+N13 -> 0
B14: Giày vải | C14: Đôi | D14: 175000 | F14: =E14*D14 -> 0 | H14: =G14*(D14+D14*3%) -> 0 | J14: =I14*(D14+D14*6%) -> 0 | L14: =K14*(D14+D14*9%) -> 0 | N14: =M14*(D14+D14*12%) -> 0 | O14: =F14+H14+J14+L14+N14 -> 0
B15: Tất chân | C15: Đôi | D15: 35000 | F15: =E15*D15 -> 0 | H15: =G15*(D15+D15*3%) -> 0 | J15: =I15*(D15+D15*6%) -> 0 | L15: =K15*(D15+D15*9%) -> 0 | N15: =M15*(D15+D15*12%) -> 0 | O15: =F15+H15+J15+L15+N15 -> 0
B16: Dây lưng nhỏ | C16: Cái | D16: 75000 | F16: =E16*D16 -> 0 | H16: =G16*(D16+D16*3%) -> 0 | I16: 0 | J16: =I16*(D16+D16*6%) -> 0 | L16: =K16*(D16+D16*9%) -> 0 | M16: 0 | N16: =M16*(D16+D16*12%) -> 0 | O16: =F16+H16+J16+L16+N16 -> 0
B17: Quần áo mưa | C17: Bộ | D17: 350000 | F17: =E17*D17 -> 0 | H17: =G17*(D17+D17*3%) -> 0 | I17: 0 | J17: =I17*(D17+D17*6%) -> 0 | L17: =K17*(D17+D17*9%) -> 0 | M17: 0 | N17: =M17*(D17+D17*12%) -> 0 | O17: =F17+H17+J17+L17+N17 -> 0
A18: II | B18: DQ năm thứ nhất | E18: 475 | F18: =SUBTOTAL(9,F19:F25) -> 796575000 | G18: 250 | H18: =SUBTOTAL(9,H19:H25) -> 431827500 | I18: 250 | J18: =SUBTOTAL(9,J19:J25) -> 444405000 | K18: =G18 -> 250 | L18: =SUBTOTAL(9,L19:L25) -> 456982500 | M18: =G18 -> 250 | N18: =SUBTOTAL(9,N19:N25) -> 469560000 | O18: =SUBTOTAL(9,O19:O25) -> 2599350000
B19: Quần áo | C19: Bộ | D19: 517000 | E19: =E18*2 -> 950 | F19: =E19*D19 -> 491150000 | G19: =G18*2 -> 500 | H19: =G19*(D19+D19*3%) -> 266255000 | I19: =I18*2 -> 500 | J19: =I19*(D19+D19*6%) -> 274010000 | K19: =K18*2 -> 500 | L19: =K19*(D19+D19*9%) -> 281765000 | M19: =M18*2 -> 500 | N19: =M19*(D19+D19*12%) -> 289520000 | O19: =F19+H19+J19+L19+N19 -> 1602700000
B20: Mũ cứng | C20: Cái | D20: 155000 | E20: =E18 -> 475 | F20: =E20*D20 -> 73625000 | G20: =G18 -> 250 | H20: =G20*(D20+D20*3%) -> 39912500 | I20: =I18 -> 250 | J20: =I20*(D20+D20*6%) -> 41075000 | K20: =K18 -> 250 | L20: =K20*(D20+D20*9%) -> 42237500 | M20: =M18 -> 250 | N20: =M20*(D20+D20*12%) -> 43400000 | O20: =F20+H20+J20+L20+N20 -> 240250000
B21: Mũ mềm | C21: Cái | D21: 78000 | E21: =E18 -> 475 | F21: =E21*D21 -> 37050000 | G21: =G18 -> 250 | H21: =G21*(D21+D21*3%) -> 20085000 | I21: =I18 -> 250 | J21: =I21*(D21+D21*6%) -> 20670000 | K21: =K18 -> 250 | L21: =K21*(D21+D21*9%) -> 21255000 | M21: =M18 -> 250 | N21: =M21*(D21+D21*12%) -> 21840000 | O21: =F21+H21+J21+L21+N21 -> 120900000
B22: Giày vải | C22: Đôi | D22: 175000 | E22: =E18 -> 475 | F22: =E22*D22 -> 83125000 | G22: =G18 -> 250 | H22: =G22*(D22+D22*3%) -> 45062500 | I22: =I18 -> 250 | J22: =I22*(D22+D22*6%) -> 46375000 | K22: =K18 -> 250 | L22: =K22*(D22+D22*9%) -> 47687500 | M22: =M18 -> 250 | N22: =M22*(D22+D22*12%) -> 49000000 | O22: =F22+H22+J22+L22+N22 -> 271250000
B23: Tất chân | C23: Đôi | D23: 35000 | E23: =E19 -> 950 | F23: =E23*D23 -> 33250000 | G23: =G19 -> 500 | H23: =G23*(D23+D23*3%) -> 18025000 | I23: =I19 -> 500 | J23: =I23*(D23+D23*6%) -> 18550000 | K23: =K19 -> 500 | L23: =K23*(D23+D23*9%) -> 19075000 | M23: =M19 -> 500 | N23: =M23*(D23+D23*12%) -> 19600000 | O23: =F23+H23+J23+L23+N23 -> 108500000
B24: Dây lưng nhỏ | C24: Cái | D24: 75000 | E24: =E18 -> 475 | F24: =E24*D24 -> 35625000 | G24: =G18 -> 250 | H24: =G24*(D24+D24*3%) -> 19312500 | I24: =I18 -> 250 | J24: =I24*(D24+D24*6%) -> 19875000 | K24: =K18 -> 250 | L24: =K24*(D24+D24*9%) -> 20437500 | M24: =M18 -> 250 | N24: =M24*(D24+D24*12%) -> 21000000 | O24: =F24+H24+J24+L24+N24 -> 116250000
B25: Áo mưa | C25: Cái | D25: 90000 | E25: =E18 -> 475 | F25: =E25*D25 -> 42750000 | G25: =G18 -> 250 | H25: =G25*(D25+D25*3%) -> 23175000 | I25: =I18 -> 250 | J25: =I25*(D25+D25*6%) -> 23850000 | K25: =K18 -> 250 | L25: =K25*(D25+D25*9%) -> 24525000 | M25: =M18 -> 250 | N25: =M25*(D25+D25*12%) -> 25200000 | O25: =F25+H25+J25+L25+N25 -> 139500000
A26: III | B26: DQ năm thứ hai trở đi | E26: =E27+E35+E43 -> 974 | F26: =SUBTOTAL(9,F27:F50) -> 1589970000 | G26: =G27+G35+G43 -> 84 | H26: =SUBTOTAL(9,H27:H50) -> 65928240 | I26: =I27+I35+I43 -> 974 | J26: =SUBTOTAL(9,J27:J50) -> 1244270400 | K26: =K27+K35+K43 -> 974 | L26: =SUBTOTAL(9,L27:L50) -> 391351420 | M26: =M27+M35+M43 -> 974 | N26: =SUBTOTAL(9,N27:N50) -> 1450332800 | O26: =SUBTOTAL(9,O27:O50) -> 4741852860
A27: 1 | B27: Dân quân cơ động | E27: 84 | F27: =SUBTOTAL(9,F28:F34) -> 97440000 | G27: =E27 -> 84 | H27: =SUBTOTAL(9,H28:H34) -> 65928240 | I27: =G27 -> 84 | J27: =SUBTOTAL(9,J28:J34) -> 95272800 | K27: =G27 -> 84 | L27: =SUBTOTAL(9,L28:L34) -> 78009120 | M27: =I27 -> 84 | N27: =SUBTOTAL(9,N28:N34) -> 100665600 | O27: =SUBTOTAL(9,O28:O34) -> 437315760
B28: Quần áo | C28: Bộ | D28: 517000 | E28: 84 | F28: =E28*D28 -> 43428000 | G28: 84 | H28: =G28*(D28+D28*3%) -> 44730840 | I28: =I27 -> 84 | J28: =I28*(D28+D28*6%) -> 46033680 | K28: =I27 -> 84 | L28: =K28*(D28+D28*9%) -> 47336520 | M28: =I28 -> 84 | N28: =M28*(D28+D28*12%) -> 48639360 | O28: =F28+H28+J28+L28+N28 -> 230168400
B29: Mũ cứng | C29: Cái | D29: 155000 | E29: 84 | F29: =E29*D29 -> 13020000 | H29: =G29*(D29+D29*3%) -> 0 | I29: =I27 -> 84 | J29: =I29*(D29+D29*6%) -> 13801200 | L29: =K29*(D29+D29*9%) -> 0 | M29: =I29 -> 84 | N29: =M29*(D29+D29*12%) -> 14582400 | O29: =F29+H29+J29+L29+N29 -> 41403600
B30: Mũ mềm | C30: Cái | D30: 78000 | E30: 84 | F30: =E30*D30 -> 6552000 | G30: =G29 -> 0 | H30: =G30*(D30+D30*3%) -> 0 | I30: =I27 -> 84 | J30: =I30*(D30+D30*6%) -> 6945120 | L30: =K30*(D30+D30*9%) -> 0 | M30: =I30 -> 84 | N30: =M30*(D30+D30*12%) -> 7338240 | O30: =F30+H30+J30+L30+N30 -> 20835360
B31: Giày vải | C31: Đôi | D31: 175000 | E31: 84 | F31: =E31*D31 -> 14700000 | G31: 84 | H31: =G31*(D31+D31*3%) -> 15141000 | I31: =I27 -> 84 | J31: =I31*(D31+D31*6%) -> 15582000 | K31: =I31 -> 84 | L31: =K31*(D31+D31*9%) -> 16023000 | M31: =I31 -> 84 | N31: =M31*(D31+D31*12%) -> 16464000 | O31: =F31+H31+J31+L31+N31 -> 77910000
B32: Tất chân | C32: Đôi | D32: 35000 | E32: 168 | F32: =E32*D32 -> 5880000 | G32: 168 | H32: =G32*(D32+D32*3%) -> 6056400 | I32: =I27*2 -> 168 | J32: =I32*(D32+D32*6%) -> 6232800 | K32: =I32 -> 168 | L32: =K32*(D32+D32*9%) -> 6409200 | M32: =I32 -> 168 | N32: =M32*(D32+D32*12%) -> 6585600 | O32: =F32+H32+J32+L32+N32 -> 31164000
B33: Dây lưng nhỏ | C33: Cái | D33: 75000 | E33: 84 | F33: =E33*D33 -> 6300000 | H33: =G33*(D33+D33*3%) -> 0 | I33: =I27 -> 84 | J33: =I33*(D33+D33*6%) -> 6678000 | L33: =K33*(D33+D33*9%) -> 0 | M33: =I33 -> 84 | N33: =M33*(D33+D33*12%) -> 7056000 | O33: =F33+H33+J33+L33+N33 -> 20034000
B34: Áo mưa | C34: Cái | D34: 90000 | E34: 84 | F34: =E34*D34 -> 7560000 | H34: =G34*(D34+D34*3%) -> 0 | J34: =I34*(D34+D34*6%) -> 0 | K34: =K27 -> 84 | L34: =K34*(D34+D34*9%) -> 8240400 | M34: =I34 -> 0 | N34: =M34*(D34+D34*12%) -> 0 | O34: =F34+H34+J34+L34+N34 -> 15800400
A35: 2 | B35: Dân quân tại chỗ | E35: 692 | F35: =SUBTOTAL(9,F36:F42) -> 1160484000 | H35: =SUBTOTAL(9,H36:H42) -> 0 | I35: =E35 -> 692 | J35: =SUBTOTAL(9,J36:J42) -> 864820080 | K35: =I35 -> 692 | L35: =SUBTOTAL(9,L36:L42) -> 243632440 | M35: =K35 -> 692 | N35: =SUBTOTAL(9,N36:N42) -> 1049404160 | O35: =SUBTOTAL(9,O36:O42) -> 3318340680
B36: Quần áo | C36: Bộ | D36: 517000 | E36: =E35*2 -> 1384 | F36: =E36*D36 -> 715528000 | H36: =G36*(D36+D36*3%) -> 0 | I36: =I35*2 -> 1384 | J36: =I36*(D36+D36*6%) -> 758459680 | L36: =K36*(D36+D36*9%) -> 0 | M36: =M35*2 -> 1384 | N36: =M36*(D36+D36*12%) -> 801391360 | O36: =F36+H36+J36+L36+N36 -> 2275379040
B37: Mũ cứng | C37: Cái | D37: 155000 | E37: =$E$35 -> 692 | F37: =E37*D37 -> 107260000 | H37: =G37*(D37+D37*3%) -> 0 | J37: =I37*(D37+D37*6%) -> 0 | K37: =K35 -> 692 | L37: =K37*(D37+D37*9%) -> 116913400 | N37: =M37*(D37+D37*12%) -> 0 | O37: =F37+H37+J37+L37+N37 -> 224173400
B38: Mũ mềm | C38: Cái | D38: 78000 | E38: =$E$35 -> 692 | F38: =E38*D38 -> 53976000 | H38: =G38*(D38+D38*3%) -> 0 | J38: =I38*(D38+D38*6%) -> 0 | K38: =K35 -> 692 | L38: =K38*(D38+D38*9%) -> 58833840 | N38: =M38*(D38+D38*12%) -> 0 | O38: =F38+H38+J38+L38+N38 -> 112809840
B39: Giày vải | C39: Đôi | D39: 175000 | E39: =$E$35 -> 692 | F39: =E39*D39 -> 121100000 | H39: =H38 -> 0 | I39: =H39*G39 -> 0 | J39: =I39*(D39+D39*6%) -> 0 | L39: =K39*(D39+D39*9%) -> 0 | M39: =M35 -> 692 | N39: =M39*(D39+D39*12%) -> 135632000 | O39: =F39+H39+J39+L39+N39 -> 256732000
B40: Tất chân | C40: Đôi | D40: 35000 | E40: =E36 -> 1384 | F40: =E40*D40 -> 48440000 | H40: =G40*(D40+D40*3%) -> 0 | I40: =I35*2 -> 1384 | J40: =I40*(D40+D40*6%) -> 51346400 | L40: =K40*(D40+D40*9%) -> 0 | M40: =M35*2 -> 1384 | N40: =M40*(D40+D40*12%) -> 54252800 | O40: =F40+H40+J40+L40+N40 -> 154039200
B41: Dây lưng nhỏ | C41: Cái | D41: 75000 | E41: =$E$35 -> 692 | F41: =E41*D41 -> 51900000 | H41: =G41*(D41+D41*3%) -> 0 | I41: =I35 -> 692 | J41: =I41*(D41+D41*6%) -> 55014000 | L41: =K41*(D41+D41*9%) -> 0 | M41: =M35 -> 692 | N41: =M41*(D41+D41*12%) -> 58128000 | O41: =F41+H41+J41+L41+N41 -> 165042000
B42: Áo mưa | C42: Cái | D42: 90000 | E42: =$E$35 -> 692 | F42: =E42*D42 -> 62280000 | H42: =G42*(D42+D42*3%) -> 0 | J42: =I42*(D42+D42*6%) -> 0 | K42: =K35 -> 692 | L42: =K42*(D42+D42*9%) -> 67885200 | N42: =M42*(D42+D42*12%) -> 0 | O42: =F42+H42+J42+L42+N42 -> 130165200
...

Sheet PL2B
A1: Phụ lục 2B
A2: BẢO ĐẢM TRANG PHỤC CHO TỰ VỆ KHỐI CƠ QUAN, TỔ CHỨC NHÀ NƯỚC, TỔ CHỨC CHÍNH TRỊ, TỔ CHỨC CHÍNH TRỊ XÃ HỘI CÔNG LẬP (Kèm theo Đề án tổ chức lực lượng, huấn luyện, hoạt động và bảo đảm chế độ, chính sách cho Dân quân tự vệ trên địa bàn phường, giai đoạn 2026- 2030)
A5: TT | B5: Loại trang phục | C5: ĐVT | D5: Đơn giá (đồng) | E5: Năm 2026 | G5: Năm 2027 | I5: Năm 2028 | K5: Năm 2029 | M5: Năm 2030 | O5: Tổng 5 năm (đồng)
E6: SL | F6: Thành tiền (đồng) | G6: SL | H6: Thành tiền (đồng) | I6: SL | J6: Thành tiền (đồng) | K6: SL | L6: Thành tiền (đồng) | M6: SL | N6: Thành tiền (đồng)
A7: * | B7: CỘNG | E7: =E39+E8+E45 -> 99 | F7: =F39+F8+F45 -> 90585000 | G7: =G39+G8+G45 -> 0 | H7: =H39+H8+H45 -> 0 | I7: =I39+I8+I45 -> 99 | J7: =J39+J8+J45 -> 96020100 | K7: =K39+K8+K45 -> 0 | L7: =L39+L8+L45 -> 0 | ... O7: =O39+O8+O45 -> 288060300
A8: I | B8: Ban CHQS cơ quan, tổ chức | E8: =E9+E15+E21+E27 -> 0 | F8: =SUBTOTAL(9,F9:F32) -> 0 | G8: =G9+G15+G21+G27 -> 0 | H8: =SUBTOTAL(9,H9:H32) -> 0 | I8: =I9+I15+I21+I27 -> 0 | J8: =SUBTOTAL(9,J9:J32) -> 0 | K8: =K9+K15+K21+K27 -> 0 | L8: =SUBTOTAL(9,L9:L32) -> 0 | M8: =M9+M15+M21+M27 -> 0 | N8: =SUBTOTAL(9,N9:N32) -> 0 | O8: =SUBTOTAL(9,O9:O32) -> 0
A9: 1 | B9: Chỉ huy trưởng | E9: 0 | F9: =SUBTOTAL(9,F10:F14) -> 0 | H9: =SUBTOTAL(9,H10:H14) -> 0 | I9: =E9 -> 0 | J9: =SUBTOTAL(9,J10:J14) -> 0 | L9: =SUBTOTAL(9,L10:L14) -> 0 | M9: =E9 -> 0 | N9: =SUBTOTAL(9,N10:N14) -> 0 | O9: =SUBTOTAL(9,O10:O14) -> 0
B10: Quần áo | C10: Bộ | D10: 700000 | E10: =E$9 -> 0 | F10: =E10*D10 -> 0 | G10: =G9 -> 0 | H10: =G10*(D10+D10*3%) -> 0 | I10: =I$9 -> 0 | J10: =I10*(D10+D10*6%) -> 0 | K10: =K9 -> 0 | L10: =K10*(D10+D10*9%) -> 0 | M10: =M$9 -> 0 | N10: =M10*(D10+D10*12%) -> 0 | O10: =F10+H10+J10+L10+N10 -> 0
B11: Mũ mềm | C11: Cái | D11: 78000 | E11: =E$9 -> 0 | F11: =E11*D11 -> 0 | G11: =G10 -> 0 | H11: =G11*(D11+D11*3%) -> 0 | I11: =I$9 -> 0 | J11: =I11*(D11+D11*6%) -> 0 | K11: =K10 -> 0 | L11: =K11*(D11+D11*9%) -> 0 | M11: =M$9 -> 0 | N11: =M11*(D11+D11*12%) -> 0 | O11: =F11+H11+J11+L11+N11 -> 0
B12: Giày da | C12: Đôi | D12: 490000 | E12: =E$9 -> 0 | F12: =E12*D12 -> 0 | G12: =G11 -> 0 | H12: =G12*(D12+D12*3%) -> 0 | I12: =I$9 -> 0 | J12: =I12*(D12+D12*6%) -> 0 | K12: =K11 -> 0 | L12: =K12*(D12+D12*9%) -> 0 | M12: =M$9 -> 0 | N12: =M12*(D12+D12*12%) -> 0 | O12: =F12+H12+J12+L12+N12 -> 0
B13: Tất chân | C13: Đôi | D13: 35000 | E13: =E$9*2 -> 0 | F13: =E13*D13 -> 0 | G13: =G12 -> 0 | H13: =G13*(D13+D13*3%) -> 0 | I13: =I$9 -> 0 | J13: =I13*(D13+D13*6%) -> 0 | K13: =K12 -> 0 | L13: =K13*(D13+D13*9%) -> 0 | M13: =M$9 -> 0 | N13: =M13*(D13+D13*12%) -> 0 | O13: =F13+H13+J13+L13+N13 -> 0
B14: Dây lưng nhỏ | C14: Cái | D14: 75000 | E14: =E$9 -> 0 | F14: =E14*D14 -> 0 | G14: =G13 -> 0 | H14: =G14*(D14+D14*3%) -> 0 | I14: =I$9 -> 0 | J14: =I14*(D14+D14*6%) -> 0 | K14: =K13 -> 0 | L14: =K14*(D14+D14*9%) -> 0 | M14: =M$9 -> 0 | N14: =M14*(D14+D14*12%) -> 0 | O14: =F14+H14+J14+L14+N14 -> 0
A15: 2 | B15: Chính trị viên | E15: =E9 -> 0 | F15: =SUBTOTAL(9,F16:F20) -> 0 | H15: =SUBTOTAL(9,H16:H20) -> 0 | I15: =I9 -> 0 | J15: =SUBTOTAL(9,J16:J20) -> 0 | L15: =SUBTOTAL(9,L16:L20) -> 0 | M15: =M9 -> 0 | N15: =SUBTOTAL(9,N16:N20) -> 0 | O15: =SUBTOTAL(9,O16:O20) -> 0
B16: Quần áo | C16: Bộ | D16: 700000 | E16: =E$15 -> 0 | F16: =E16*D16 -> 0 | H16: =G16*(D16+D16*3%) -> 0 | I16: =I15 -> 0 | J16: =I16*(D16+D16*6%) -> 0 | K16: 0 | L16: =K16*(D16+D16*9%) -> 0 | M16: =M15 -> 0 | N16: =M16*(D16+D16*12%) -> 0 | O16: =F16+H16+J16+L16+N16 -> 0
B17: Mũ mềm | C17: Cái | D17: 78000 | E17: =E$15 -> 0 | F17: =E17*D17 -> 0 | H17: =G17*(D17+D17*3%) -> 0 | I17: =E17 -> 0 | J17: =I17*(D17+D17*6%) -> 0 | L17: =K17*(D17+D17*9%) -> 0 | M17: =E17 -> 0 | N17: =M17*(D17+D17*12%) -> 0 | O17: =F17+H17+J17+L17+N17 -> 0
B18: Giày da | C18: Đôi | D18: 490000 | E18: =E$15 -> 0 | F18: =E18*D18 -> 0 | H18: =G18*(D18+D18*3%) -> 0 | I18: =I15 -> 0 | J18: =I18*(D18+D18*6%) -> 0 | K18: 0 | L18: =K18*(D18+D18*9%) -> 0 | M18: =M15 -> 0 | N18: =M18*(D18+D18*12%) -> 0 | O18: =F18+H18+J18+L18+N18 -> 0
B19: Tất chân | C19: Đôi | D19: 35000 | E19: =E$15*2 -> 0 | F19: =E19*D19 -> 0 | H19: =G19*(D19+D19*3%) -> 0 | I19: =I15*2 -> 0 | J19: =I19*(D19+D19*6%) -> 0 | L19: =K19*(D19+D19*9%) -> 0 | M19: =M15*2 -> 0 | N19: =M19*(D19+D19*12%) -> 0 | O19: =F19+H19+J19+L19+N19 -> 0
B20: Dây lưng nhỏ | C20: Cái | D20: 75000 | E20: =E$15 -> 0 | F20: =E20*D20 -> 0 | H20: =G20*(D20+D20*3%) -> 0 | I20: =E20 -> 0 | J20: =I20*(D20+D20*6%) -> 0 | L20: =K20*(D20+D20*9%) -> 0 | M20: =E20 -> 0 | N20: =M20*(D20+D20*12%) -> 0 | O20: =F20+H20+J20+L20+N20 -> 0
A21: 3 | B21: Phó Chỉ huy trưởng | E21: =E9 -> 0 | F21: =SUBTOTAL(9,F22:F26) -> 0 | H21: =SUBTOTAL(9,H22:H26) -> 0 | I21: =E21 -> 0 | J21: =SUBTOTAL(9,J22:J26) -> 0 | L21: =SUBTOTAL(9,L22:L26) -> 0 | M21: =E21 -> 0 | N21: =SUBTOTAL(9,N22:N26) -> 0 | O21: =SUBTOTAL(9,O22:O26) -> 0
B22: Quần áo | C22: Bộ | D22: 700000 | E22: =E$21 -> 0 | F22: =E22*D22 -> 0 | H22: =G22*(D22+D22*3%) -> 0 | I22: =I$21 -> 0 | J22: =I22*(D22+D22*6%) -> 0 | L22: =K22*(D22+D22*9%) -> 0 | M22: =M$21 -> 0 | N22: =M22*(D22+D22*12%) -> 0 | O22: =F22+H22+J22+L22+N22 -> 0
B23: Mũ mềm | C23: Cái | D23: 78000 | E23: =E$21 -> 0 | F23: =E23*D23 -> 0 | H23: =G23*(D23+D23*3%) -> 0 | I23: =I$21 -> 0 | J23: =I23*(D23+D23*6%) -> 0 | L23: =K23*(D23+D23*9%) -> 0 | M23: =M$21 -> 0 | N23: =M23*(D23+D23*12%) -> 0 | O23: =F23+H23+J23+L23+N23 -> 0
B24: Giày da | C24: Đôi | D24: 490000 | E24: =E$21 -> 0 | F24: =E24*D24 -> 0 | H24: =G24*(D24+D24*3%) -> 0 | I24: =I$21 -> 0 | J24: =I24*(D24+D24*6%) -> 0 | L24: =K24*(D24+D24*9%) -> 0 | M24: =M$21 -> 0 | N24: =M24*(D24+D24*12%) -> 0 | O24: =F24+H24+J24+L24+N24 -> 0
B25: Tất chân | C25: Đôi | D25: 35000 | E25: =E$21*2 -> 0 | F25: =E25*D25 -> 0 | H25: =G25*(D25+D25*3%) -> 0 | I25: =I$21*2 -> 0 | J25: =I25*(D25+D25*6%) -> 0 | L25: =K25*(D25+D25*9%) -> 0 | M25: =M$21*2 -> 0 | N25: =M25*(D25+D25*12%) -> 0 | O25: =F25+H25+J25+L25+N25 -> 0
B26: Dây lưng nhỏ | C26: Cái | D26: 75000 | E26: =E$21 -> 0 | F26: =E26*D26 -> 0 | H26: =G26*(D26+D26*3%) -> 0 | I26: =I$21 -> 0 | J26: =I26*(D26+D26*6%) -> 0 | L26: =K26*(D26+D26*9%) -> 0 | M26: =M$21 -> 0 | N26: =M26*(D26+D26*12%) -> 0 | O26: =F26+H26+J26+L26+N26 -> 0
A27: 4 | B27: Chính trị viên phó | E27: =E15 -> 0 | F27: =SUBTOTAL(9,F28:F32) -> 0 | H27: =SUBTOTAL(9,H28:H32) -> 0 | I27: =E27 -> 0 | J27: =SUBTOTAL(9,J28:J32) -> 0 | L27: =SUBTOTAL(9,L28:L32) -> 0 | M27: =E27 -> 0 | N27: =SUBTOTAL(9,N28:N32) -> 0 | O27: =SUBTOTAL(9,O28:O32) -> 0
B28: Quần áo | C28: Bộ | D28: 700000 | E28: =$E$27 -> 0 | F28: =E28*D28 -> 0 | H28: =G28*(D28+D28*3%) -> 0 | I28: =I27 -> 0 | J28: =I28*(D28+D28*6%) -> 0 | K28: 0 | L28: =K28*(D28+D28*9%) -> 0 | M28: =M27 -> 0 | N28: =M28*(D28+D28*12%) -> 0 | O28: =F28+H28+J28+L28+N28 -> 0
B29: Mũ mềm | C29: Cái | D29: 78000 | E29: =$E$27 -> 0 | F29: =E29*D29 -> 0 | H29: =G29*(D29+D29*3%) -> 0 | I29: =I28 -> 0 | J29: =I29*(D29+D29*6%) -> 0 | K29: =K27 -> 0 | L29: =K29*(D29+D29*9%) -> 0 | M29: =E29 -> 0 | N29: =M29*(D29+D29*12%) -> 0 | O29: =F29+H29+J29+L29+N29 -> 0
B30: Giày da | C30: Đôi | D30: 490000 | E30: =$E$27 -> 0 | F30: =E30*D30 -> 0 | H30: =G30*(D30+D30*3%) -> 0 | I30: =I27 -> 0 | J30: =I30*(D30+D30*6%) -> 0 | K30: 0 | L30: =K30*(D30+D30*9%) -> 0 | M30: =M27 -> 0 | N30: =M30*(D30+D30*12%) -> 0 | O30: =F30+H30+J30+L30+N30 -> 0
B31: Tất chân | C31: Đôi | D31: 35000 | E31: =$E$27*2 -> 0 | F31: =E31*D31 -> 0 | H31: =G31*(D31+D31*3%) -> 0 | I31: =I27*2 -> 0 | J31: =I31*(D31+D31*6%) -> 0 | L31: =K31*(D31+D31*9%) -> 0 | M31: =M27*2 -> 0 | N31: =M31*(D31+D31*12%) -> 0 | O31: =F31+H31+J31+L31+N31 -> 0
B32: Dây lưng nhỏ | C32: Cái | D32: 75000 | E32: =$E$27 -> 0 | F32: =E32*D32 -> 0 | H32: =G32*(D32+D32*3%) -> 0 | I32: =E32 -> 0 | J32: =I32*(D32+D32*6%) -> 0 | K32: =K27 -> 0 | L32: =K32*(D32+D32*9%) -> 0 | M32: =E32 -> 0 | N32: =M32*(D32+D32*12%) -> 0 | O32: =F32+H32+J32+L32+N32 -> 0
A33: II | B33: Đại đôi đội trưởng PPK, PB, DQ tại chỗ | E33: 0 | F33: =SUBTOTAL(9,F34:F38) -> 0 | H33: =SUBTOTAL(9,H34:H38) -> 0 | I33: =E33 -> 0 | J33: =SUBTOTAL(9,J34:J38) -> 0 | L33: =SUBTOTAL(9,L34:L38) -> 0 | M33: =E33 -> 0 | N33: =SUBTOTAL(9,N34:N38) -> 0 | O33: =SUBTOTAL(9,O34:O38) -> 0
B34: Quần áo | C34: Bộ | D34: 700000 | E34: =$E$33 -> 0 | F34: =E34*D34 -> 0 | H34: =G34*(D34+D34*3%) -> 0 | I34: =$E$33 -> 0 | J34: =I34*(D34+D34*6%) -> 0 | L34: =K34*(D34+D34*9%) -> 0 | M34: =$E$33 -> 0 | N34: =M34*(D34+D34*12%) -> 0 | O34: =F34+H34+J34+L34+N34 -> 0
B35: Mũ mềm | C35: Cái | D35: 78000 | E35: =$E$33 -> 0 | F35: =E35*D35 -> 0 | H35: =G35*(D35+D35*3%) -> 0 | I35: =$E$33 -> 0 | J35: =I35*(D35+D35*6%) -> 0 | L35: =K35*(D35+D35*9%) -> 0 | M35: =$E$33 -> 0 | N35: =M35*(D35+D35*12%) -> 0 | O35: =F35+H35+J35+L35+N35 -> 0
B36: Giày da | C36: Đôi | D36: 490000 | E36: =$E$33 -> 0 | F36: =E36*D36 -> 0 | H36: =G36*(D36+D36*3%) -> 0 | I36: =$E$33 -> 0 | J36: =I36*(D36+D36*6%) -> 0 | L36: =K36*(D36+D36*9%) -> 0 | M36: =$E$33 -> 0 | N36: =M36*(D36+D36*12%) -> 0 | O36: =F36+H36+J36+L36+N36 -> 0
B37: Tất chân | C37: Đôi | D37: 35000 | E37: =$E$33*2 -> 0 | F37: =E37*D37 -> 0 | H37: =G37*(D37+D37*3%) -> 0 | I37: =$E$33*2 -> 0 | J37: =I37*(D37+D37*6%) -> 0 | L37: =K37*(D37+D37*9%) -> 0 | M37: =$E$33*2 -> 0 | N37: =M37*(D37+D37*12%) -> 0 | O37: =F37+H37+J37+L37+N37 -> 0
B38: Dây lưng nhỏ | C38: Cái | D38: 75000 | E38: =$E$33 -> 0 | F38: =E38*D38 -> 0 | H38: =G38*(D38+D38*3%) -> 0 | I38: =$E$33 -> 0 | J38: =I38*(D38+D38*6%) -> 0 | L38: =K38*(D38+D38*9%) -> 0 | M38: =$E$33 -> 0 | N38: =M38*(D38+D38*12%) -> 0 | O38: =F38+H38+J38+L38+N38 -> 0
A39: II | B39: Trung đội trưởng DQ tại chỗ | E39: 0 | F39: =SUBTOTAL(9,F40:F44) -> 0 | H39: =SUBTOTAL(9,H40:H44) -> 0 | I39: =E39 -> 0 | J39: =SUBTOTAL(9,J40:J44) -> 0 | L39: =SUBTOTAL(9,L40:L44) -> 0 | M39: =E39 -> 0 | N39: =SUBTOTAL(9,N40:N44) -> 0 | O39: =SUBTOTAL(9,O40:O44) -> 0
B40: Quần áo | C40: Bộ | D40: 700000 | E40: =$E$39 -> 0 | F40: =E40*D40 -> 0 | H40: =G40*(D40+D40*3%) -> 0 | I40: =$I$39 -> 0 | J40: =I40*(D40+D40*6%) -> 0 | L40: =K40*(D40+D40*9%) -> 0 | M40: =$M$39 -> 0 | N40: =M40*(D40+D40*12%) -> 0 | O40: =F40+H40+J40+L40+N40 -> 0
B41: Mũ mềm | C41: Cái | D41: 78000 | E41: =$E$39 -> 0 | F41: =E41*D41 -> 0 | H41: =G41*(D41+D41*3%) -> 0 | I41: =$I$39 -> 0 | J41: =I41*(D41+D41*6%) -> 0 | L41: =K41*(D41+D41*9%) -> 0 | M41: =$M$39 -> 0 | N41: =M41*(D41+D41*12%) -> 0 | O41: =F41+H41+J41+L41+N41 -> 0
B42: Giày da | C42: Đôi | D42: 490000 | E42: =$E$39 -> 0 | F42: =E42*D42 -> 0 | H42: =G42*(D42+D42*3%) -> 0 | I42: =$I$39 -> 0 | J42: =I42*(D42+D42*6%) -> 0 | L42: =K42*(D42+D42*9%) -> 0 | M42: =$M$39 -> 0 | N42: =M42*(D42+D42*12%) -> 0 | O42: =F42+H42+J42+L42+N42 -> 0
...

Sheet PL3
A1: Phụ lục 3
A2: KINH PHÍ BẢO ĐẢM PHỤ CẤP THÁNG, PHỤ CẤP CHỨC VỤ, PHỤ CẤP THÂM NIÊN, PHỤ CẤP ĐẶC THÙ QUỐC PHÒNG QUÂN SỰ (Kèm theo Đề án tổ chức lực lượng, huấn luyện, hoạt động và bảo đảm chế độ, chính sách cho Dân quân tự vệ trên địa bàn phường, giai đoạn 2026- 2030)
A4: TT | B4: Đối tượng chế độ hưởng | C4: Mức hưởng bình quân /người /năm | H4: Năm 2026 | J4: Năm 2027 | L4: Năm 2028 | N4: Năm 2029 | P4: Năm 2030 | R4: Tổng 5 năm (đồng)
H5: Số người | I5: Thành tiền (đồng) | J5: Số người | K5: Thành tiền (đồng) | L5: Số người | M5: Thành tiền (đồng) | N5: Số người | O5: Thành tiền (đồng) | P5: Số người | Q5: Thành tiền (đồng)
A6: * | B6: TỔNG CỘNG | H6: =H7+H11+H15+H29 -> 146 | I6: =SUBTOTAL(9,I7:I37) -> 1180857600 | J6: =J7+J11+J15+J29 -> 146 | K6: =SUBTOTAL(9,K7:K37) -> 1180857600 | L6: =L7+L11+L15+L29 -> 146 | M6: =SUBTOTAL(9,M7:M37) -> 1180857600 | N6: =N7+N11+N15+N29 -> 146 | O6: =SUBTOTAL(9,O7:O37) -> 1180857600 | P6: =P7+P11+P15+P29 -> 146 | Q6: =SUBTOTAL(9,Q7:Q37) -> 1180857600 | R6: =SUBTOTAL(9,R7:R37) -> 5904288000
A7: I | B7: Các chức vụ Chỉ huy Ban CHQS cấp xã | D7: Hệ số lương bình quân CHT:3.0, CHTV: 3.8, CTVP: 3.0; PCHT: 2.1 | H7: =H8 -> 0 | I7: =SUBTOTAL(9,I8:I10) -> 0 | J7: =J8 -> 0 | K7: =SUBTOTAL(9,K8:K10) -> 0 | L7: =L8 -> 0 | M7: =SUBTOTAL(9,M8:M10) -> 0 | N7: =N8 -> 0 | O7: =SUBTOTAL(9,O8:O10) -> 0 | P7: =P8 -> 0 | Q7: =SUBTOTAL(9,Q8:Q10) -> 0 | R7: =SUBTOTAL(9,R8:R10) -> 0
B8: Chính trị viên | H8: =PL2A!E9 -> 0 | I8: =SUBTOTAL(9,I9:I10) -> 0 | J8: =H8 -> 0 | K8: =SUBTOTAL(9,K9:K10) -> 0 | L8: =H8 -> 0 | M8: =SUBTOTAL(9,M9:M10) -> 0 | N8: =H8 -> 0 | O8: =SUBTOTAL(9,O9:O10) -> 0 | P8: =H8 -> 0 | Q8: =SUBTOTAL(9,Q9:Q10) -> 0 | R8: =SUBTOTAL(9,R9:R10) -> 0
B9: Phụ cấp chức vụ | C9: =561600*12 -> 6739200 | H9: =H8 -> 0 | I9: =$C9*H9 -> 0 | J9: =H9 -> 0 | K9: =$C9*J9 -> 0 | L9: =H9 -> 0 | M9: =$C9*L9 -> 0 | N9: =H9 -> 0 | O9: =$C9*N9 -> 0 | P9: =H9 -> 0 | Q9: =$C9*P9 -> 0 | R9: =I9+K9+M9+O9+Q9 -> 0
B10: Phụ cấp thâm niên | C10: =ROUND(((3*2340000)+561600)*5%,0)*12 -> 4548960 | D10: =ROUND(((3.8*2340000)+561600)*6%,0)*12 -> 6806592 | E10: =ROUND(((3.8*2340000)+561600)*7%,0)*12 -> 7941024 | F10: =ROUND(((3.8*2340000)+561600)*8%,0)*12 -> 9075456 | G10: =ROUND(((3.8*2340000)+561600)*9%,0)*12 -> 10209888 | H10: =H9 -> 0 | I10: =$C10*H10 -> 0 | J10: =H10 -> 0 | K10: =D10*J10 -> 0 | L10: =H10 -> 0 | M10: =E10*L10 -> 0 | N10: =H10 -> 0 | O10: =F10*N10 -> 0 | P10: =H10 -> 0 | Q10: =G10*P10 -> 0 | R10: =I10+K10+M10+O10+Q10 -> 0
A11: II | B11: Tổ đội trưởng | H11: =PL2A!E97 -> 22 | I11: =SUBTOTAL(9,I12:I14) -> 832946400 | J11: =H11 -> 22 | K11: =SUBTOTAL(9,K12:K14) -> 832946400 | L11: =H11 -> 22 | M11: =SUBTOTAL(9,M12:M14) -> 832946400 | N11: =H11 -> 22 | O11: =SUBTOTAL(9,O12:O14) -> 832946400 | P11: =H11 -> 22 | Q11: =SUBTOTAL(9,Q12:Q14) -> 832946400 | R11: =SUBTOTAL(9,R12:R14) -> 4164732000
B12: Phụ cấp tháng | C12: 25740000 | H12: =H$11 -> 22 | I12: =$C12*H12 -> 566280000 | J12: =J$11 -> 22 | K12: =$C12*J12 -> 566280000 | L12: =L$11 -> 22 | M12: =$C12*L12 -> 566280000 | N12: =N$11 -> 22 | O12: =$C12*N12 -> 566280000 | P12: =P$11 -> 22 | Q12: =$C12*P12 -> 566280000 | R12: =I12+K12+M12+O12+Q12 -> 2831400000
B13: Phụ cấp chức vụ | C13: 6177600 | H13: =H$11 -> 22 | I13: =$C13*H13 -> 135907200 | J13: =J$11 -> 22 | K13: =$C13*J13 -> 135907200 | L13: =L$11 -> 22 | M13: =$C13*L13 -> 135907200 | N13: =N$11 -> 22 | O13: =$C13*N13 -> 135907200 | P13: =P$11 -> 22 | Q13: =$C13*P13 -> 135907200 | R13: =I13+K13+M13+O13+Q13 -> 679536000
B14: Phụ cấp kiêm nhiệm | C14: 5943600 | H14: =H$11 -> 22 | I14: =$C14*H14 -> 130759200 | J14: =J$11 -> 22 | K14: =$C14*J14 -> 130759200 | L14: =L$11 -> 22 | M14: =$C14*L14 -> 130759200 | N14: =N$11 -> 22 | O14: =$C14*N14 -> 130759200 | P14: =P$11 -> 22 | Q14: =$C14*P14 -> 130759200 | R14: =I14+K14+M14+O14+Q14 -> 653796000
A15: III | B15: Phụ cấp chức vụ chỉ huy đơn vị DQ | H15: =SUBTOTAL(9,H16:H28) -> 108 | I15: =SUBTOTAL(9,I16:I28) -> 318988800 | J15: =SUBTOTAL(9,J16:J28) -> 108 | K15: =SUBTOTAL(9,K16:K28) -> 318988800 | L15: =SUBTOTAL(9,L16:L28) -> 108 | M15: =SUBTOTAL(9,M16:M28) -> 318988800 | N15: =SUBTOTAL(9,N16:N28) -> 108 | O15: =SUBTOTAL(9,O16:O28) -> 318988800 | ... R15: =SUBTOTAL(9,R16:R28) -> 1594944000
A16: 1 | B16: Hải đội trưởng DQTT | C16: =514800*12 -> 6177600 | H16: ='PL1'!N7 -> 0 | I16: =$C16*H16 -> 0 | J16: =H16 -> 0 | K16: =$C16*J16 -> 0 | L16: =H16 -> 0 | M16: =$C16*L16 -> 0 | N16: =H16 -> 0 | O16: =$C16*N16 -> 0 | P16: =H16 -> 0 | Q16: =$C16*P16 -> 0 | R16: =I16+K16+M16+O16+Q16 -> 0
A17: 2 | B17: CTV Hải đội DQTT | C17: =514800*12 -> 6177600 | H17: =H16 -> 0 | I17: =$C17*H17 -> 0 | J17: =J16 -> 0 | K17: =$C17*J17 -> 0 | L17: =L16 -> 0 | M17: =$C17*L17 -> 0 | N17: =N16 -> 0 | O17: =$C17*N17 -> 0 | P17: =P16 -> 0 | Q17: =$C17*P17 -> 0 | R17: =I17+K17+M17+O17+Q17 -> 0
A18: 3 | B18: Phó Hải đội trưởng DQTT | C18: =491400*12 -> 5896800 | H18: =H16 -> 0 | I18: =$C18*H18 -> 0 | J18: =J16 -> 0 | K18: =$C18*J18 -> 0 | L18: =L16 -> 0 | M18: =$C18*L18 -> 0 | N18: =N16 -> 0 | O18: =$C18*N18 -> 0 | P18: =P16 -> 0 | Q18: =$C18*P18 -> 0 | R18: =I18+K18+M18+O18+Q18 -> 0
A19: 4 | B19: Đại đội trưởng cPK, cPB | C19: =468000*12 -> 5616000 | H19: 0 | I19: =$C19*H19 -> 0 | J19: 0 | K19: =$C19*J19 -> 0 | L19: 0 | M19: =$C19*L19 -> 0 | N19: 0 | O19: =$C19*N19 -> 0 | P19: 0 | Q19: =$C19*P19 -> 0 | R19: =I19+K19+M19+O19+Q19 -> 0
A20: 5 | B20: Chính trị viên cPK, cPB | C20: =468000*12 -> 5616000 | H20: 0 | I20: =$C20*H20 -> 0 | J20: =J19 -> 0 | K20: =$C20*J20 -> 0 | L20: =L19 -> 0 | M20: =$C20*L20 -> 0 | N20: =N19 -> 0 | O20: =$C20*N20 -> 0 | P20: =P19 -> 0 | Q20: =$C20*P20 -> 0 | R20: =I20+K20+M20+O20+Q20 -> 0
A21: 6 | B21: Phó Đại đội trưởng cPK, cPB | C21: =351000*12 -> 4212000 | H21: =H19 -> 0 | I21: =$C21*H21 -> 0 | J21: =J19 -> 0 | K21: =$C21*J21 -> 0 | L21: =L19 -> 0 | M21: =$C21*L21 -> 0 | N21: =N19 -> 0 | O21: =$C21*N21 -> 0 | P21: =P19 -> 0 | Q21: =$C21*P21 -> 0 | R21: =I21+K21+M21+O21+Q21 -> 0
A22: 7 | B22: Chính trị viên phó cPK, cPB | C22: =351000*12 -> 4212000 | H22: =H19 -> 0 | I22: =$C22*H22 -> 0 | J22: =J20 -> 0 | K22: =$C22*J22 -> 0 | L22: =L20 -> 0 | M22: =$C22*L22 -> 0 | N22: =N20 -> 0 | O22: =$C22*N22 -> 0 | P22: =P20 -> 0 | Q22: =$C22*P22 -> 0 | R22: =I22+K22+M22+O22+Q22 -> 0
A23: 8 | B23: Thuyền trưởng Hải đội DQTT | C23: =280800*12 -> 3369600 | H23: 0 | I23: =$C23*H23 -> 0 | J23: =H23 -> 0 | K23: =$C23*J23 -> 0 | L23: =H23 -> 0 | M23: =$C23*L23 -> 0 | N23: =H23 -> 0 | O23: =$C23*N23 -> 0 | P23: =H23 -> 0 | Q23: =$C23*P23 -> 0 | R23: =I23+K23+M23+O23+Q23 -> 0
A24: 1 | B24: Trung đội trưởng DQTT | C24: =468000*12 -> 5616000 | H24: ='PL1'!$O$7 -> 1 | I24: =$C24*H24 -> 5616000 | J24: =H24 -> 1 | K24: =$C24*J24 -> 5616000 | L24: =H24 -> 1 | M24: =$C24*L24 -> 5616000 | N24: =H24 -> 1 | O24: =$C24*N24 -> 5616000 | P24: =H24 -> 1 | Q24: =$C24*P24 -> 5616000 | R24: =I24+K24+M24+O24+Q24 -> 28080000
A25: 2 | B25: Tiểu đội trưởng DQTT | C25: =280800*12 -> 3369600 | H25: 3 | I25: =$C25*H25 -> 10108800 | J25: =H25 -> 3 | K25: =$C25*J25 -> 10108800 | L25: =H25 -> 3 | M25: =$C25*L25 -> 10108800 | N25: =H25 -> 3 | O25: =$C25*N25 -> 10108800 | P25: =H25 -> 3 | Q25: =$C25*P25 -> 10108800 | R25: =I25+K25+M25+O25+Q25 -> 50544000
A26: 3 | B26: Trung đội trưởng CĐ | C26: =468000*12 -> 5616000 | H26: =PL2A!E106 -> 3 | I26: =$C26*H26 -> 16848000 | J26: =H26 -> 3 | K26: =$C26*J26 -> 16848000 | L26: =H26 -> 3 | M26: =$C26*L26 -> 16848000 | N26: =H26 -> 3 | O26: =$C26*N26 -> 16848000 | P26: =H26 -> 3 | Q26: =$C26*P26 -> 16848000 | R26: =I26+K26+M26+O26+Q26 -> 84240000
A27: 4 | B27: Trung đội trưởng DQ | C27: =280800*12 -> 3369600 | H27: =PL2A!E115-SUM(H19:H22) -> 5 | I27: =$C27*H27 -> 16848000 | J27: =H27 -> 5 | K27: =$C27*J27 -> 16848000 | L27: =H27 -> 5 | M27: =$C27*L27 -> 16848000 | N27: =H27 -> 5 | O27: =$C27*N27 -> 16848000 | P27: =H27 -> 5 | Q27: =$C27*P27 -> 16848000 | R27: =I27+K27+M27+O27+Q27 -> 84240000
A28: 5 | B28: Tiểu đội trưởng, KĐT | C28: =234000*12 -> 2808000 | H28: 96 | I28: =$C28*H28 -> 269568000 | J28: =H28 -> 96 | K28: =$C28*J28 -> 269568000 | L28: =H28 -> 96 | M28: =$C28*L28 -> 269568000 | N28: =H28 -> 96 | O28: =$C28*N28 -> 269568000 | P28: =H28 -> 96 | Q28: =$C28*P28 -> 269568000 | R28: =I28+K28+M28+O28+Q28 -> 1347840000
A29: IV | B29: Phụ cấp đặc thù QPQS | H29: =SUBTOTAL(9,H30:H37) -> 16 | I29: =SUBTOTAL(9,I30:I37) -> 28922400 | J29: =SUBTOTAL(9,J30:J37) -> 16 | K29: =SUBTOTAL(9,K30:K37) -> 28922400 | L29: =SUBTOTAL(9,L30:L37) -> 16 | M29: =SUBTOTAL(9,M30:M37) -> 28922400 | N29: =SUBTOTAL(9,N30:N37) -> 16 | O29: =SUBTOTAL(9,O30:O37) -> 28922400 | ... R29: =SUBTOTAL(9,R30:R37) -> 144612000
A30: 1 | B30: Hải đội trưởng DQTT | C30: =ROUND(C16*50%,0) -> 3088800 | D30: =ROUND(D16*50%,0) -> 0 | E30: =ROUND(E16*50%,0) -> 0 | F30: =ROUND(F16*50%,0) -> 0 | G30: =ROUND(G16*50%,0) -> 0 | H30: =H16 -> 0 | I30: =$C30*H30 -> 0 | J30: =H30 -> 0 | K30: =$C30*J30 -> 0 | L30: =H30 -> 0 | M30: =$C30*L30 -> 0 | N30: ='PL1'!N7 -> 0 | O30: =$C30*N30 -> 0 | P30: =N30 -> 0 | Q30: =$C30*P30 -> 0 | R30: =I30+K30+M30+O30+Q30 -> 0
A31: 2 | B31: CTV Hải đội DQTT | C31: =ROUND(C17*50%,0) -> 3088800 | D31: =ROUND(D17*50%,0) -> 0 | E31: =ROUND(E17*50%,0) -> 0 | F31: =ROUND(F17*50%,0) -> 0 | G31: =ROUND(G17*50%,0) -> 0 | H31: =H17 -> 0 | I31: =$C31*H31 -> 0 | J31: =H31 -> 0 | K31: =$C31*J31 -> 0 | L31: =H31 -> 0 | M31: =$C31*L31 -> 0 | N31: =N30 -> 0 | O31: =$C31*N31 -> 0 | P31: =P30 -> 0 | Q31: =$C31*P31 -> 0 | R31: =I31+K31+M31+O31+Q31 -> 0
A32: 3 | B32: Phó Hải đội trưởng DQTT | C32: =ROUND(312900*50%*12,0) -> 1877400 | D32: =ROUND(D18*50%,0) -> 0 | E32: =ROUND(E18*50%,0) -> 0 | F32: =ROUND(F18*50%,0) -> 0 | G32: =ROUND(G18*50%,0) -> 0 | H32: =H18 -> 0 | I32: =$C32*H32 -> 0 | J32: =H32 -> 0 | K32: =$C32*J32 -> 0 | L32: =H32 -> 0 | M32: =$C32*L32 -> 0 | N32: =N30 -> 0 | O32: =$C32*N32 -> 0 | P32: =P30 -> 0 | Q32: =$C32*P32 -> 0 | R32: =I32+K32+M32+O32+Q32 -> 0
A33: 4 | B33: Thuyền trưởng HĐ DQTT | C33: =ROUND(C23*50%,0) -> 1684800 | D33: =ROUND(D23*50%,0) -> 0 | E33: =ROUND(E23*50%,0) -> 0 | F33: =ROUND(F23*50%,0) -> 0 | G33: =ROUND(G23*50%,0) -> 0 | H33: =H23 -> 0 | I33: =$C33*H33 -> 0 | J33: =H33 -> 0 | K33: =$C33*J33 -> 0 | L33: =H33 -> 0 | M33: =$C33*L33 -> 0 | N33: =H33 -> 0 | O33: =$C33*N33 -> 0 | P33: =H33 -> 0 | Q33: =$C33*P33 -> 0 | R33: =I33+K33+M33+O33+Q33 -> 0
A34: 1 | B34: Trung đội trưởng DQTT | C34: =ROUND(C24*50%,0) -> 2808000 | H34: =H24 -> 1 | I34: =$C34*H34 -> 2808000 | J34: =H34 -> 1 | K34: =$C34*J34 -> 2808000 | L34: =H34 -> 1 | M34: =$C34*L34 -> 2808000 | N34: =H34 -> 1 | O34: =$C34*N34 -> 2808000 | P34: =H34 -> 1 | Q34: =$C34*P34 -> 2808000 | R34: =I34+K34+M34+O34+Q34 -> 14040000
A35: 2 | B35: Trung đội trưởng DQCĐ | C35: =ROUND(C26*50%,0) -> 2808000 | D35: =ROUND(D26*50%,0) -> 0 | E35: =ROUND(E26*50%,0) -> 0 | F35: =ROUND(F26*50%,0) -> 0 | G35: =ROUND(G26*50%,0) -> 0 | H35: =PL2A!E106 -> 3 | I35: =$C35*H35 -> 8424000 | J35: =H35 -> 3 | K35: =$C35*J35 -> 8424000 | L35: =H35 -> 3 | M35: =$C35*L35 -> 8424000 | N35: =H35 -> 3 | O35: =$C35*N35 -> 8424000 | P35: =H35 -> 3 | Q35: =$C35*P35 -> 8424000 | R35: =I35+K35+M35+O35+Q35 -> 42120000
A36: 3 | B36: Tiểu đội trưởng DQTT | C36: =ROUND(C25*50%,0) -> 1684800 | H36: =H25 -> 3 | I36: =$C36*H36 -> 5054400 | J36: =H36 -> 3 | K36: =$C36*J36 -> 5054400 | L36: =H36 -> 3 | M36: =$C36*L36 -> 5054400 | N36: =H36 -> 3 | O36: =$C36*N36 -> 5054400 | P36: =H36 -> 3 | Q36: =$C36*P36 -> 5054400 | R36: =I36+K36+M36+O36+Q36 -> 25272000
A37: 4 | B37: Tiểu đội trưởng DQCĐ | C37: =ROUND(C28*50%,0) -> 1404000 | D37: =ROUND(D28*50%,0) -> 0 | E37: =ROUND(E28*50%,0) -> 0 | F37: =ROUND(F28*50%,0) -> 0 | G37: =ROUND(G28*50%,0) -> 0 | H37: ='PL1'!L7*3 -> 9 | I37: =$C37*H37 -> 12636000 | J37: =H37 -> 9 | K37: =$C37*J37 -> 12636000 | L37: =H37 -> 9 | M37: =$C37*L37 -> 12636000 | N37: =H37 -> 9 | O37: =$C37*N37 -> 12636000 | P37: =H37 -> 9 | Q37: =$C37*P37 -> 12636000 | R37: =I37+K37+M37+O37+Q37 -> 63180000

Sheet PL4
A1: Phụ lục 4
A2: KINH PHÍ BẢO ĐẢM TIỀN ĂN, TRỢ CẤP NGÀY CÔNG LAO ĐỘNG TẬP HUẤN; HUẤN LUYỆN; HỘI THI, HỘI THAO; DIỄN TẬP; PHỤ CẤP ĐẶC THÙ ĐI BIỂN; BHYT, BHXH, TRỢ CẤP MỘT LẦN ĐỐI VỚI DQTT; TRỰC SẴN SÀNG CHIẾN ĐẤU LỄ, TẾT (Kèm theo Đề án tổ chức lực lượng, huấn luyện, hoạt động và bảo đảm chế độ, chính sách cho Dân quân tự vệ trên địa bàn phường, giai đoạn 2026- 2030)
A4: TT | B4: Đối tượng chế độ hưởng | C4: Mức hưởng /người /ngày | D4: Năm 2026 | G4: Năm 2027 | J4: Năm 2028 | M4: Năm 2029 | P4: Năm 2030 | S4: Tổng 5 năm (đồng) | T4: Ghi chú
D5: Số người | E5: Số ngày huy động | F5: Thành tiền (đồng) | G5: Số người | H5: Số ngày huy động | I5: Thành tiền (đồng) | J5: Số người | K5: Số ngày huy động | L5: Thành tiền (đồng) | M5: Số người | N5: Số ngày huy động | O5: Thành tiền (đồng) | P5: Số người | Q5: Số ngày huy động | R5: Thành tiền (đồng)
A6: * | B6: TỔNG (A+B+C+D+E) | D6: =SUBTOTAL(9,D7:D95) -> 6600 | E6: =SUBTOTAL(9,E7:E95) -> 1421 | F6: =SUBTOTAL(9,F7:F95) -> 13105738580 | G6: =SUBTOTAL(9,G7:G95) -> 4484 | H6: =SUBTOTAL(9,H7:H95) -> 1397 | I6: =SUBTOTAL(9,I7:I95) -> 9603644180 | J6: =SUBTOTAL(9,J7:J95) -> 4484 | K6: =SUBTOTAL(9,K7:K95) -> 1397 | ... S6: =SUBTOTAL(9,S7:S95) -> 53702131300
A7: A | B7: TẬP HUẤN CÁN BỘ | F7: =SUBTOTAL(9,F8:F13) -> 277722000 | I7: =SUBTOTAL(9,I8:I13) -> 277722000 | L7: =SUBTOTAL(9,L8:L13) -> 277722000 | O7: =SUBTOTAL(9,O8:O13) -> 277722000 | R7: =SUBTOTAL(9,R8:R13) -> 277722000 | S7: =SUBTOTAL(9,S8:S13) -> 1388610000
A8: I | B8: b trưởng | D8: 25 | F8: =SUBTOTAL(9,F9:F10) -> 49950000 | G8: =D8 -> 25 | I8: =SUBTOTAL(9,I9:I10) -> 49950000 | J8: =D8 -> 25 | L8: =SUBTOTAL(9,L9:L10) -> 49950000 | M8: =D8 -> 25 | O8: =SUBTOTAL(9,O9:O10) -> 49950000 | P8: =D8 -> 25 | R8: =SUBTOTAL(9,R9:R10) -> 49950000 | S8: =SUBTOTAL(9,S9:S10) -> 249750000 | T8: TH: 05 ngày/năm (-bt DQTT)
A9: 1 | B9: Tiền ăn | C9: 72000 | D9: =D8 -> 25 | E9: 5 | F9: =D9*E9*$C9 -> 9000000 | G9: =G8 -> 25 | H9: 5 | I9: =G9*H9*$C9 -> 9000000 | J9: =J8 -> 25 | K9: 5 | L9: =J9*K9*$C9 -> 9000000 | M9: =M8 -> 25 | N9: 5 | O9: =M9*N9*$C9 -> 9000000 | P9: =P8 -> 25 | Q9: 5 | R9: =P9*Q9*$C9 -> 9000000 | S9: =F9+I9+L9+O9+R9 -> 45000000
A10: 2 | B10: Trợ cấp ngày công LĐ | C10: 327600 | D10: =D9 -> 25 | E10: 5 | F10: =D10*E10*$C10 -> 40950000 | G10: =G9 -> 25 | H10: 5 | I10: =G10*H10*$C10 -> 40950000 | J10: =J9 -> 25 | K10: 5 | L10: =J10*K10*$C10 -> 40950000 | M10: =M9 -> 25 | N10: 5 | O10: =M10*N10*$C10 -> 40950000 | P10: =P9 -> 25 | Q10: 5 | R10: =P10*Q10*$C10 -> 40950000 | S10: =F10+I10+L10+O10+R10 -> 204750000
A11: II | B11: Tổ đội trưởng, Tiểu đội, KĐT | D11: 114 | F11: =SUBTOTAL(9,F12:F13) -> 227772000 | G11: =D11 -> 114 | I11: =SUBTOTAL(9,I12:I13) -> 227772000 | J11: =D11 -> 114 | L11: =SUBTOTAL(9,L12:L13) -> 227772000 | M11: =D11 -> 114 | O11: =SUBTOTAL(9,O12:O13) -> 227772000 | P11: =D11 -> 114 | R11: =SUBTOTAL(9,R12:R13) -> 227772000 | S11: =SUBTOTAL(9,S12:S13) -> 1138860000 | T11: TH: 05 ngày/năm (-at DQTT)
A12: 1 | B12: Tiền ăn | C12: 72000 | D12: =D11 -> 114 | E12: 5 | F12: =D12*E12*$C12 -> 41040000 | G12: =G11 -> 114 | H12: 5 | I12: =G12*H12*$C12 -> 41040000 | J12: =J11 -> 114 | K12: 5 | L12: =J12*K12*$C12 -> 41040000 | M12: =M11 -> 114 | N12: 5 | O12: =M12*N12*$C12 -> 41040000 | P12: =P11 -> 114 | Q12: 5 | R12: =P12*Q12*$C12 -> 41040000 | S12: =F12+I12+L12+O12+R12 -> 205200000
A13: 2 | B13: Trợ cấp ngày công LĐ | C13: 327600 | D13: =D11 -> 114 | E13: 5 | F13: =D13*E13*$C13 -> 186732000 | G13: =G11 -> 114 | H13: 5 | I13: =G13*H13*$C13 -> 186732000 | J13: =J11 -> 114 | K13: 5 | L13: =J13*K13*$C13 -> 186732000 | M13: =M11 -> 114 | N13: 5 | O13: =M13*N13*$C13 -> 186732000 | P13: =P11 -> 114 | Q13: 5 | R13: =P13*Q13*$C13 -> 186732000 | S13: =F13+I13+L13+O13+R13 -> 933660000
A14: B | B14: HUẤN LUYỆN, BẢO HIỂM, TRỢ CẤP | F14: =SUBTOTAL(9,F15:F58) -> 10604026580 | I14: =SUBTOTAL(9,I15:I58) -> 9255376580 | L14: =SUBTOTAL(9,L15:L58) -> 9255376580 | O14: =SUBTOTAL(9,O15:O58) -> 9255376580 | R14: =SUBTOTAL(9,R15:R58) -> 9255376580 | S14: =SUBTOTAL(9,S15:S58) -> 47625532900
A15: I | B15: Trung đội cơ động | D15: =PL2A!E27 -> 84 | F15: =SUBTOTAL(9,F16:F17) -> 402796800 | G15: =D15 -> 84 | I15: =SUBTOTAL(9,I16:I17) -> 402796800 | J15: =G15 -> 84 | L15: =SUBTOTAL(9,L16:L17) -> 402796800 | M15: =G15 -> 84 | O15: =SUBTOTAL(9,O16:O17) -> 402796800 | P15: =G15 -> 84 | R15: =SUBTOTAL(9,R16:R17) -> 402796800 | S15: =SUBTOTAL(9,S16:S17) -> 2013984000 | T15: HL: 12 ngày/năm
A16: 1 | B16: Tiền ăn | C16: 72000 | D16: =D15 -> 84 | E16: 12 | F16: =D16*E16*$C16 -> 72576000 | G16: =G15 -> 84 | H16: 12 | I16: =G16*H16*$C16 -> 72576000 | J16: =J15 -> 84 | K16: 12 | L16: =J16*K16*$C16 -> 72576000 | M16: =M15 -> 84 | N16: 12 | O16: =M16*N16*$C16 -> 72576000 | P16: =P15 -> 84 | Q16: 12 | R16: =P16*Q16*$C16 -> 72576000 | S16: =F16+I16+L16+O16+R16 -> 362880000
A17: 2 | B17: Trợ cấp ngày công LĐ | C17: 327600 | D17: =D16 -> 84 | E17: 12 | F17: =D17*E17*$C17 -> 330220800 | G17: =G16 -> 84 | H17: 12 | I17: =G17*H17*$C17 -> 330220800 | J17: =J16 -> 84 | K17: 12 | L17: =J17*K17*$C17 -> 330220800 | M17: =M16 -> 84 | N17: 12 | O17: =M17*N17*$C17 -> 330220800 | P17: =P16 -> 84 | Q17: 12 | R17: =P17*Q17*$C17 -> 330220800 | S17: =F17+I17+L17+O17+R17 -> 1651104000
A18: II | B18: Hải đội DQTT | D18: ='PL1'!M11 -> 0 | F18: =SUBTOTAL(9,F19:F21) -> 0 | G18: =D18 -> 0 | I18: =SUBTOTAL(9,I19:I21) -> 0 | J18: =D18 -> 0 | L18: =SUBTOTAL(9,L19:L21) -> 0 | M18: =D18 -> 0 | O18: =SUBTOTAL(9,O19:O21) -> 0 | P18: =D18 -> 0 | R18: =SUBTOTAL(9,R19:R21) -> 0 | S18: =SUBTOTAL(9,S19:S21) -> 0
A19: 1 | B19: Đóng BHYT (1 năm) | C19: =105300*12 -> 1263600 | D19: =D18 -> 0 | F19: =D19*C19 -> 0 | G19: =G18 -> 0 | I19: =G19*$C19 -> 0 | J19: =J18 -> 0 | L19: =J19*$C19 -> 0 | M19: =M18 -> 0 | O19: =M19*$C19 -> 0 | P19: =P18 -> 0 | R19: =P19*$C19 -> 0 | S19: =F19+I19+L19+O19+R19 -> 0
A20: 2 | B20: Đóng BHXH (1 năm) | C20: =2300000*22.5%*12 -> 6210000 | D20: =D18 -> 0 | F20: =D20*C20 -> 0 | G20: =G18 -> 0 | I20: =G20*$C20 -> 0 | J20: =J18 -> 0 | L20: =J20*$C20 -> 0 | M20: =M18 -> 0 | O20: =M20*$C20 -> 0 | P20: =P18 -> 0 | R20: =P20*$C20 -> 0 | S20: =F20+I20+L20+O20+R20 -> 0
A21: 3 | B21: Trợ cấp 1 lần (1 năm) | C21: =4680000*2 -> 9360000 | D21: =D18*25% -> 0 | F21: =D21*C21 -> 0 | G21: =D21 -> 0 | I21: =G21*$C21 -> 0 | J21: =D21 -> 0 | L21: =J21*$C21 -> 0 | M21: =D21 -> 0 | O21: =M21*$C21 -> 0 | P21: =D21 -> 0 | R21: =P21*$C21 -> 0 | S21: =F21+I21+L21+O21+R21 -> 0 | T21: Năm 2014 ra 50%, 50% còn lại 3 năm ra
A22: II | B22: Trung đội DQTT | D22: 28 | F22: =SUBTOTAL(9,F23:F28) -> 4473287780 | G22: =D22 -> 28 | I22: =SUBTOTAL(9,I23:I28) -> 4473287780 | J22: =D22 -> 28 | L22: =SUBTOTAL(9,L23:L28) -> 4473287780 | M22: =D22 -> 28 | O22: =SUBTOTAL(9,O23:O28) -> 4473287780 | P22: =D22 -> 28 | R22: =SUBTOTAL(9,R23:R28) -> 4473287780 | S22: =SUBTOTAL(9,S23:S28) -> 22366438900 | T22: Th/trực 365 ngày
A23: 1 | B23: Tiền ăn | C23: 72000 | D23: 28 | E23: 365 | F23: =D23*E23*$C23 -> 735840000 | G23: =G22 -> 28 | H23: 365 | I23: =G23*H23*$C23 -> 735840000 | J23: =J22 -> 28 | K23: 365 | L23: =J23*K23*$C23 -> 735840000 | M23: =M22 -> 28 | N23: 365 | O23: =M23*N23*$C23 -> 735840000 | P23: =P22 -> 28 | Q23: 365 | R23: =P23*Q23*$C23 -> 735840000 | S23: =F23+I23+L23+O23+R23 -> 3679200000
A24: 2 | B24: Trợ cấp ngày công LĐ | C24: 327600 | D24: =D22 -> 28 | E24: 365 | F24: =D24*E24*$C24 -> 3348072000 | G24: =G22 -> 28 | H24: 365 | I24: =G24*H24*$C24 -> 3348072000 | J24: =J22 -> 28 | K24: 365 | L24: =J24*K24*$C24 -> 3348072000 | M24: =M22 -> 28 | N24: 365 | O24: =M24*N24*$C24 -> 3348072000 | P24: =P22 -> 28 | Q24: 365 | R24: =P24*Q24*$C24 -> 3348072000 | S24: =F24+I24+L24+O24+R24 -> 16740360000
A25: 3 | B25: Điện, nước | C25: 134452 | D25: 28 | E25: 365 | F25: =C25*E25 -> 49074980 | G25: =G23 -> 28 | H25: 365 | I25: =H25*C25 -> 49074980 | J25: =J23 -> 28 | K25: 365 | L25: =F25 -> 49074980 | M25: =M23 -> 28 | N25: 365 | O25: =F25 -> 49074980 | P25: =P23 -> 28 | Q25: 365 | R25: =F25 -> 49074980 | S25: =F25+I25+L25+O25+R25 -> 245374900
A26: 4 | B26: Đóng BHYT (1 năm) | C26: =105300*12 -> 1263600 | D26: =D22 -> 28 | F26: =D26*$C26 -> 35380800 | G26: =G22 -> 28 | I26: =G26*$C26 -> 35380800 | J26: =J22 -> 28 | L26: =J26*$C26 -> 35380800 | M26: =M22 -> 28 | O26: =M26*$C26 -> 35380800 | P26: =P22 -> 28 | R26: =P26*$C26 -> 35380800 | S26: =F26+I26+L26+O26+R26 -> 176904000
A27: 5 | B27: Đóng BHXH (1 năm) | C27: =2300000*22.5%*12 -> 6210000 | D27: =D23 -> 28 | F27: =D27*$C27 -> 173880000 | G27: =G23 -> 28 | I27: =G27*$C27 -> 173880000 | J27: =J23 -> 28 | L27: =J27*$C27 -> 173880000 | M27: =M23 -> 28 | O27: =M27*$C27 -> 173880000 | P27: =P23 -> 28 | R27: =P27*$C27 -> 173880000 | S27: =F27+I27+L27+O27+R27 -> 869400000
A28: 6 | B28: Trợ cấp 1 lần (25%/năm) | C28: =4680000*2 -> 9360000 | D28: =ROUND(D22*25%,0) -> 7 | F28: =D28*$C28*2 -> 131040000 | G28: =D28 -> 7 | I28: =G28*$C28*2 -> 131040000 | J28: =D28 -> 7 | L28: =J28*$C28*2 -> 131040000 | M28: =D28 -> 7 | O28: =M28*$C28*2 -> 131040000 | P28: =D28 -> 7 | R28: =P28*$C28*2 -> 131040000 | S28: =F28+I28+L28+O28+R28 -> 655200000
A29: III | B29: DQ tại chỗ | D29: =PL2A!E35 -> 692 | F29: =SUBTOTAL(9,F30:F31) -> 1935662400 | G29: =D29 -> 692 | I29: =SUBTOTAL(9,I30:I31) -> 1935662400 | J29: =G29 -> 692 | L29: =SUBTOTAL(9,L30:L31) -> 1935662400 | M29: =G29 -> 692 | O29: =SUBTOTAL(9,O30:O31) -> 1935662400 | P29: =G29 -> 692 | R29: =SUBTOTAL(9,R30:R31) -> 1935662400 | S29: =SUBTOTAL(9,S30:S31) -> 9678312000 | T29: HL: 7 ngày/năm
A30: 1 | B30: Tiền ăn | C30: 72000 | D30: =D29 -> 692 | E30: 7 | F30: =D30*E30*$C30 -> 348768000 | G30: =G29 -> 692 | H30: 7 | I30: =G30*H30*$C30 -> 348768000 | J30: =J29 -> 692 | K30: 7 | L30: =J30*K30*$C30 -> 348768000 | M30: =M29 -> 692 | N30: 7 | O30: =M30*N30*$C30 -> 348768000 | P30: =P29 -> 692 | Q30: 7 | R30: =P30*Q30*$C30 -> 348768000 | S30: =F30+I30+L30+O30+R30 -> 1743840000
A31: 2 | B31: Trợ cấp ngày công LĐ | C31: 327600 | D31: =D29 -> 692 | E31: 7 | F31: =D31*E31*$C31 -> 1586894400 | G31: =G29 -> 692 | H31: 7 | I31: =G31*H31*$C31 -> 1586894400 | J31: =J29 -> 692 | K31: 7 | L31: =J31*K31*$C31 -> 1586894400 | M31: =M29 -> 692 | N31: 7 | O31: =M31*N31*$C31 -> 1586894400 | P31: =P29 -> 692 | Q31: 7 | R31: =P31*Q31*$C31 -> 1586894400 | S31: =F31+I31+L31+O31+R31 -> 7934472000
A32: IV | B32: DQ phòng không | D32: ='PL1'!Y7 -> 84 | F32: =SUBTOTAL(9,F33:F34) -> 402796800 | G32: =D32 -> 84 | I32: =SUBTOTAL(9,I33:I34) -> 402796800 | J32: =D32 -> 84 | L32: =SUBTOTAL(9,L33:L34) -> 402796800 | M32: =D32 -> 84 | O32: =SUBTOTAL(9,O33:O34) -> 402796800 | P32: =D32 -> 84 | R32: =SUBTOTAL(9,R33:R34) -> 402796800 | S32: =SUBTOTAL(9,S33:S34) -> 2013984000 | T32: HL: 12 ngày/năm
A33: 1 | B33: Tiền ăn | C33: 72000 | D33: =D32 -> 84 | E33: 12 | F33: =D33*E33*$C33 -> 72576000 | G33: =G32 -> 84 | H33: 12 | I33: =G33*H33*$C33 -> 72576000 | J33: =J32 -> 84 | K33: 12 | L33: =J33*K33*$C33 -> 72576000 | M33: =M32 -> 84 | N33: 12 | O33: =M33*N33*$C33 -> 72576000 | P33: =P32 -> 84 | Q33: 12 | R33: =P33*Q33*$C33 -> 72576000 | S33: =F33+I33+L33+O33+R33 -> 362880000
A34: 2 | B34: Trợ cấp ngày công LĐ | C34: 327600 | D34: =D32 -> 84 | E34: 12 | F34: =D34*E34*$C34 -> 330220800 | G34: =G32 -> 84 | H34: 12 | I34: =G34*H34*$C34 -> 330220800 | J34: =J32 -> 84 | K34: 12 | L34: =J34*K34*$C34 -> 330220800 | M34: =M32 -> 84 | N34: 12 | O34: =M34*N34*$C34 -> 330220800 | P34: =P32 -> 84 | Q34: 12 | R34: =P34*Q34*$C34 -> 330220800 | S34: =F34+I34+L34+O34+R34 -> 1651104000
A35: V | B35: DQ pháo binh | D35: ='PL1'!AB7 -> 36 | F35: =SUBTOTAL(9,F36:F37) -> 168307200 | G35: =D35 -> 36 | I35: =SUBTOTAL(9,I36:I37) -> 168307200 | J35: =D35 -> 36 | L35: =SUBTOTAL(9,L36:L37) -> 168307200 | M35: =D35 -> 36 | O35: =SUBTOTAL(9,O36:O37) -> 168307200 | P35: =D35 -> 36 | R35: =SUBTOTAL(9,R36:R37) -> 168307200 | S35: =SUBTOTAL(9,S36:S37) -> 841536000 | T35: HL: 12 ngày/năm
A36: 1 | B36: Tiền ăn | C36: 62000 | D36: =D35 -> 36 | E36: 12 | F36: =D36*E36*$C36 -> 26784000 | G36: =G35 -> 36 | H36: 12 | I36: =G36*H36*$C36 -> 26784000 | J36: =J35 -> 36 | K36: 12 | L36: =J36*K36*$C36 -> 26784000 | M36: =M35 -> 36 | N36: 12 | O36: =M36*N36*$C36 -> 26784000 | P36: =P35 -> 36 | Q36: 12 | R36: =P36*Q36*$C36 -> 26784000 | S36: =F36+I36+L36+O36+R36 -> 133920000
A37: 2 | B37: Trợ cấp ngày công LĐ | C37: 327600 | D37: =D35 -> 36 | E37: 12 | F37: =D37*E37*$C37 -> 141523200 | G37: =G35 -> 36 | H37: 12 | I37: =G37*H37*$C37 -> 141523200 | J37: =J35 -> 36 | K37: 12 | L37: =J37*K37*$C37 -> 141523200 | M37: =M35 -> 36 | N37: 12 | O37: =M37*N37*$C37 -> 141523200 | P37: =P35 -> 36 | Q37: 12 | R37: =P37*Q37*$C37 -> 141523200 | S37: =F37+I37+L37+O37+R37 -> 707616000
A38: VI | B38: DQ Trinh sát | D38: 12 | F38: =SUBTOTAL(9,F39:F40) -> 57542400 | G38: =D38 -> 12 | I38: =SUBTOTAL(9,I39:I40) -> 57542400 | J38: =G38 -> 12 | L38: =SUBTOTAL(9,L39:L40) -> 57542400 | M38: =G38 -> 12 | O38: =SUBTOTAL(9,O39:O40) -> 57542400 | P38: =G38 -> 12 | R38: =SUBTOTAL(9,R39:R40) -> 57542400 | S38: =SUBTOTAL(9,S39:S40) -> 287712000 | T38: HL: 12 ngày/năm
A39: 1 | B39: Tiền ăn | C39: 72000 | D39: =D38 -> 12 | E39: 12 | F39: =D39*E39*$C39 -> 10368000 | G39: =G38 -> 12 | H39: 12 | I39: =G39*H39*$C39 -> 10368000 | J39: =J38 -> 12 | K39: 12 | L39: =J39*K39*$C39 -> 10368000 | M39: =M38 -> 12 | N39: 12 | O39: =M39*N39*$C39 -> 10368000 | P39: =P38 -> 12 | Q39: 12 | R39: =P39*Q39*$C39 -> 10368000 | S39: =F39+I39+L39+O39+R39 -> 51840000
A40: 2 | B40: Trợ cấp ngày công LĐ | C40: 327600 | D40: =D38 -> 12 | E40: 12 | F40: =D40*E40*$C40 -> 47174400 | G40: =G38 -> 12 | H40: 12 | I40: =G40*H40*$C40 -> 47174400 | J40: =J38 -> 12 | K40: 12 | L40: =J40*K40*$C40 -> 47174400 | M40: =M38 -> 12 | N40: 12 | O40: =M40*N40*$C40 -> 47174400 | P40: =P38 -> 12 | Q40: 12 | R40: =P40*Q40*$C40 -> 47174400 | S40: =F40+I40+L40+O40+R40 -> 235872000
A41: VII | B41: DQ Công binh | D41: 18 | F41: =SUBTOTAL(9,F42:F43) -> 86313600 | G41: =D41 -> 18 | I41: =SUBTOTAL(9,I42:I43) -> 86313600 | J41: =G41 -> 18 | L41: =SUBTOTAL(9,L42:L43) -> 86313600 | M41: =G41 -> 18 | O41: =SUBTOTAL(9,O42:O43) -> 86313600 | P41: =G41 -> 18 | R41: =SUBTOTAL(9,R42:R43) -> 86313600 | S41: =SUBTOTAL(9,S42:S43) -> 431568000 | T41: HL: 12 ngày/năm
...

Sheet PL4.1
A1: Phụ lục 4.1
A2: KINH PHÍ BẢO ĐẢM TIỀN ĂN, TRỢ CẤP NGÀY CÔNG LAO ĐỘNG TẬP HUẤN; HUẤN LUYỆN; HỘI THI, HỘI THAO; DIỄN TẬP; PHỤ CẤP ĐẶC THÙ ĐI BIỂN; BHYT, BHXH, TRỢ CẤP MỘT LẦN ĐỐI VỚI DQTT; TRỰC SẴN SÀNG CHIẾN ĐẤU LỄ, TẾT (Kèm theo Đề án tổ chức lực lượng, huấn luyện, hoạt động và bảo đảm chế độ, chính sách cho Dân quân tự vệ trên địa bàn phường, giai đoạn 2026- 2030)
A4: TT | B4: Đối tượng chế độ hưởng | C4: Mức hưởng /người /ngày | D4: Năm 2026 | G4: Năm 2027 | J4: Năm 2028 | M4: Năm 2029 | P4: Năm 2030 | S4: Tổng 5 năm (đồng) | T4: Ghi chú
D5: Số người | E5: Số ngày huy động | F5: Thành tiền (đồng) | G5: Số người | H5: Số ngày huy động | I5: Thành tiền (đồng) | J5: Số người | K5: Số ngày huy động | L5: Thành tiền (đồng) | M5: Số người | N5: Số ngày huy động | O5: Thành tiền (đồng) | P5: Số người | Q5: Số ngày huy động | R5: Thành tiền (đồng)
A6: * | B6: TỔNG (A+B+C+D+E) | D6: =D8+D11+D14+D17+D20+D23+D26+D29+D32+D35 -> 812 | E6: =SUBTOTAL(9,E7:E37) -> 218 | F6: =SUBTOTAL(9,F7:F37) -> 4070001600 | G6: =D6 -> 812 | H6: =SUBTOTAL(9,H7:H37) -> 218 | I6: =SUBTOTAL(9,I7:I37) -> 2721351600 | J6: =D6 -> 812 | K6: =SUBTOTAL(9,K7:K37) -> 218 | L6: =SUBTOTAL(9,L7:L37) -> 2721351600 | M6: =D6 -> 812 | N6: =SUBTOTAL(9,N7:N37) -> 218 | O6: =SUBTOTAL(9,O7:O37) -> 2721351600 | P6: =D6 -> 812 | Q6: =SUBTOTAL(9,Q7:Q37) -> 218 | R6: =SUBTOTAL(9,R7:R37) -> 2721351600 | S6: =SUBTOTAL(9,S7:S37) -> 14955408000
A7: A | B7: TẬP HUẤN CÁN BỘ | F7: =SUBTOTAL(9,F8:F13) -> 277722000 | I7: =SUBTOTAL(9,I8:I13) -> 277722000 | L7: =SUBTOTAL(9,L8:L13) -> 277722000 | O7: =SUBTOTAL(9,O8:O13) -> 277722000 | R7: =SUBTOTAL(9,R8:R13) -> 277722000 | S7: =SUBTOTAL(9,S8:S13) -> 1388610000
A8: I | B8: b trưởng | D8: 25 | F8: =SUBTOTAL(9,F9:F10) -> 49950000 | G8: =D8 -> 25 | I8: =SUBTOTAL(9,I9:I10) -> 49950000 | J8: =D8 -> 25 | L8: =SUBTOTAL(9,L9:L10) -> 49950000 | M8: =D8 -> 25 | O8: =SUBTOTAL(9,O9:O10) -> 49950000 | P8: =D8 -> 25 | R8: =SUBTOTAL(9,R9:R10) -> 49950000 | S8: =SUBTOTAL(9,S9:S10) -> 249750000 | T8: TH: 05 ngày/năm (-bt DQTT)
A9: 1 | B9: Tiền ăn | C9: 72000 | D9: =D8 -> 25 | E9: 5 | F9: =D9*E9*$C9 -> 9000000 | G9: =G8 -> 25 | H9: 5 | I9: =G9*H9*$C9 -> 9000000 | J9: =J8 -> 25 | K9: 5 | L9: =J9*K9*$C9 -> 9000000 | M9: =M8 -> 25 | N9: 5 | O9: =M9*N9*$C9 -> 9000000 | P9: =P8 -> 25 | Q9: 5 | R9: =P9*Q9*$C9 -> 9000000 | S9: =F9+I9+L9+O9+R9 -> 45000000
A10: 2 | B10: Trợ cấp ngày công LĐ | C10: 327600 | D10: =D9 -> 25 | E10: 5 | F10: =D10*E10*$C10 -> 40950000 | G10: =G9 -> 25 | H10: 5 | I10: =G10*H10*$C10 -> 40950000 | J10: =J9 -> 25 | K10: 5 | L10: =J10*K10*$C10 -> 40950000 | M10: =M9 -> 25 | N10: 5 | O10: =M10*N10*$C10 -> 40950000 | P10: =P9 -> 25 | Q10: 5 | R10: =P10*Q10*$C10 -> 40950000 | S10: =F10+I10+L10+O10+R10 -> 204750000
A11: II | B11: Tổ đội trưởng, Tiểu đội, KĐT | D11: 114 | F11: =SUBTOTAL(9,F12:F13) -> 227772000 | G11: =D11 -> 114 | I11: =SUBTOTAL(9,I12:I13) -> 227772000 | J11: =D11 -> 114 | L11: =SUBTOTAL(9,L12:L13) -> 227772000 | M11: =D11 -> 114 | O11: =SUBTOTAL(9,O12:O13) -> 227772000 | P11: =D11 -> 114 | R11: =SUBTOTAL(9,R12:R13) -> 227772000 | S11: =SUBTOTAL(9,S12:S13) -> 1138860000 | T11: TH: 05 ngày/năm (-at DQTT)
A12: 1 | B12: Tiền ăn | C12: 72000 | D12: =D11 -> 114 | E12: 5 | F12: =D12*E12*$C12 -> 41040000 | G12: =G11 -> 114 | H12: 5 | I12: =G12*H12*$C12 -> 41040000 | J12: =J11 -> 114 | K12: 5 | L12: =J12*K12*$C12 -> 41040000 | M12: =M11 -> 114 | N12: 5 | O12: =M12*N12*$C12 -> 41040000 | P12: =P11 -> 114 | Q12: 5 | R12: =P12*Q12*$C12 -> 41040000 | S12: =F12+I12+L12+O12+R12 -> 205200000
A13: 2 | B13: Trợ cấp ngày công LĐ | C13: 327600 | D13: =D11 -> 114 | E13: 5 | F13: =D13*E13*$C13 -> 186732000 | G13: =G11 -> 114 | H13: 5 | I13: =G13*H13*$C13 -> 186732000 | J13: =J11 -> 114 | K13: 5 | L13: =J13*K13*$C13 -> 186732000 | M13: =M11 -> 114 | N13: 5 | O13: =M13*N13*$C13 -> 186732000 | P13: =P11 -> 114 | Q13: 5 | R13: =P13*Q13*$C13 -> 186732000 | S13: =F13+I13+L13+O13+R13 -> 933660000
A14: III | B14: DQ phòng không | D14: ='PL1'!Y7 -> 84 | F14: =SUBTOTAL(9,F15:F16) -> 402796800 | G14: =D14 -> 84 | I14: =SUBTOTAL(9,I15:I16) -> 402796800 | J14: =D14 -> 84 | L14: =SUBTOTAL(9,L15:L16) -> 402796800 | M14: =D14 -> 84 | O14: =SUBTOTAL(9,O15:O16) -> 402796800 | P14: =D14 -> 84 | R14: =SUBTOTAL(9,R15:R16) -> 402796800 | S14: =SUBTOTAL(9,S15:S16) -> 2013984000 | T14: HL: 12 ngày/năm
A15: 1 | B15: Tiền ăn | C15: 72000 | D15: =D14 -> 84 | E15: 12 | F15: =D15*E15*$C15 -> 72576000 | G15: =G14 -> 84 | H15: 12 | I15: =G15*H15*$C15 -> 72576000 | J15: =J14 -> 84 | K15: 12 | L15: =J15*K15*$C15 -> 72576000 | M15: =M14 -> 84 | N15: 12 | O15: =M15*N15*$C15 -> 72576000 | P15: =P14 -> 84 | Q15: 12 | R15: =P15*Q15*$C15 -> 72576000 | S15: =F15+I15+L15+O15+R15 -> 362880000
A16: 2 | B16: Trợ cấp ngày công LĐ | C16: 327600 | D16: =D14 -> 84 | E16: 12 | F16: =D16*E16*$C16 -> 330220800 | G16: =G14 -> 84 | H16: 12 | I16: =G16*H16*$C16 -> 330220800 | J16: =J14 -> 84 | K16: 12 | L16: =J16*K16*$C16 -> 330220800 | M16: =M14 -> 84 | N16: 12 | O16: =M16*N16*$C16 -> 330220800 | P16: =P14 -> 84 | Q16: 12 | R16: =P16*Q16*$C16 -> 330220800 | S16: =F16+I16+L16+O16+R16 -> 1651104000
A17: IV | B17: DQ pháo binh | D17: ='PL1'!AB7 -> 36 | F17: =SUBTOTAL(9,F18:F19) -> 168307200 | G17: =D17 -> 36 | I17: =SUBTOTAL(9,I18:I19) -> 168307200 | J17: =D17 -> 36 | L17: =SUBTOTAL(9,L18:L19) -> 168307200 | M17: =D17 -> 36 | O17: =SUBTOTAL(9,O18:O19) -> 168307200 | P17: =D17 -> 36 | R17: =SUBTOTAL(9,R18:R19) -> 168307200 | S17: =SUBTOTAL(9,S18:S19) -> 841536000 | T17: HL: 12 ngày/năm
A18: 1 | B18: Tiền ăn | C18: 62000 | D18: =D17 -> 36 | E18: 12 | F18: =D18*E18*$C18 -> 26784000 | G18: =G17 -> 36 | H18: 12 | I18: =G18*H18*$C18 -> 26784000 | J18: =J17 -> 36 | K18: 12 | L18: =J18*K18*$C18 -> 26784000 | M18: =M17 -> 36 | N18: 12 | O18: =M18*N18*$C18 -> 26784000 | P18: =P17 -> 36 | Q18: 12 | R18: =P18*Q18*$C18 -> 26784000 | S18: =F18+I18+L18+O18+R18 -> 133920000
A19: 2 | B19: Trợ cấp ngày công LĐ | C19: 327600 | D19: =D17 -> 36 | E19: 12 | F19: =D19*E19*$C19 -> 141523200 | G19: =G17 -> 36 | H19: 12 | I19: =G19*H19*$C19 -> 141523200 | J19: =J17 -> 36 | K19: 12 | L19: =J19*K19*$C19 -> 141523200 | M19: =M17 -> 36 | N19: 12 | O19: =M19*N19*$C19 -> 141523200 | P19: =P17 -> 36 | Q19: 12 | R19: =P19*Q19*$C19 -> 141523200 | S19: =F19+I19+L19+O19+R19 -> 707616000
A20: V | B20: DQ Trinh sát | D20: 12 | F20: =SUBTOTAL(9,F21:F22) -> 57542400 | G20: =D20 -> 12 | I20: =SUBTOTAL(9,I21:I22) -> 57542400 | J20: =G20 -> 12 | L20: =SUBTOTAL(9,L21:L22) -> 57542400 | M20: =G20 -> 12 | O20: =SUBTOTAL(9,O21:O22) -> 57542400 | P20: =G20 -> 12 | R20: =SUBTOTAL(9,R21:R22) -> 57542400 | S20: =SUBTOTAL(9,S21:S22) -> 287712000 | T20: HL: 12 ngày/năm
A21: 1 | B21: Tiền ăn | C21: 72000 | D21: =D20 -> 12 | E21: 12 | F21: =D21*E21*$C21 -> 10368000 | G21: =G20 -> 12 | H21: 12 | I21: =G21*H21*$C21 -> 10368000 | J21: =J20 -> 12 | K21: 12 | L21: =J21*K21*$C21 -> 10368000 | M21: =M20 -> 12 | N21: 12 | O21: =M21*N21*$C21 -> 10368000 | P21: =P20 -> 12 | Q21: 12 | R21: =P21*Q21*$C21 -> 10368000 | S21: =F21+I21+L21+O21+R21 -> 51840000
A22: 2 | B22: Trợ cấp ngày công LĐ | C22: 327600 | D22: =D20 -> 12 | E22: 12 | F22: =D22*E22*$C22 -> 47174400 | G22: =G20 -> 12 | H22: 12 | I22: =G22*H22*$C22 -> 47174400 | J22: =J20 -> 12 | K22: 12 | L22: =J22*K22*$C22 -> 47174400 | M22: =M20 -> 12 | N22: 12 | O22: =M22*N22*$C22 -> 47174400 | P22: =P20 -> 12 | Q22: 12 | R22: =P22*Q22*$C22 -> 47174400 | S22: =F22+I22+L22+O22+R22 -> 235872000
A23: VI | B23: DQ Công binh | D23: 18 | F23: =SUBTOTAL(9,F24:F25) -> 86313600 | G23: =D23 -> 18 | I23: =SUBTOTAL(9,I24:I25) -> 86313600 | J23: =G23 -> 18 | L23: =SUBTOTAL(9,L24:L25) -> 86313600 | M23: =G23 -> 18 | O23: =SUBTOTAL(9,O24:O25) -> 86313600 | P23: =G23 -> 18 | R23: =SUBTOTAL(9,R24:R25) -> 86313600 | S23: =SUBTOTAL(9,S24:S25) -> 431568000 | T23: HL: 12 ngày/năm
