Workbook

Sheet PL1
A1: Phụ lục 1
A2: TỔ CHỨC, BIÊN CHẾ DÂN QUÂN TỰ VỆ (Kèm theo Đề án tổ chức lực lượng, huấn luyện, hoạt động và bảo đảm chế độ, chính sách cho Dân quân tự vệ trên địa bàn phường, giai đoạn 2026- 2030)
A4: Đơn vị DQTV | B4: Tổng quân số | C4: Ban CHQS | E4: Tổng số | K4: Thành phần lực lượng DQTV
E5: Quân số | F5: Tổ chức | K5: Cơ động | M5: Thường trực | Q5: Tại chỗ | V5: Biển | Y5: Phòng không | AB5: Pháo binh | AF5: Tr/sát, T/tin, C/binh, Ph/ hóa, Y tế
C6: Quân số | D6: Số lượng | F6: Đại đội | G6: Trung đội | H6: Tiểu đội | I6: Khẩu đội | J6: Tổ | K6: Quân số | L6: b | M6: Quân số | N6: Hải đội | O6: b | P6: a | Q6: Quân số | R6: c | S6: b | T6: a | U6: Tổ | V6: Quân số | W6: b | X6: a | Y6: Quân số | Z6: c | AA6: b | AB6: Quân số | AC6: c | AD6: b | AE6: Kđ | AF6: Quân số | AG6: a
A7: TỔNG | B7: 1083 | C7: =C8+C12+C14 -> 1 | D7: =D8+D12+D14 -> 1 | E7: =E8+E12+E14 -> 0 | F7: =F8+F12+F14 -> 0 | G7: =G8+G12+G14 -> 0 | H7: =H8+H12+H14 -> 0 | I7: =I8+I12+I14 -> 0 | J7: =J8+J12+J14 -> 0 | ... AG7: =AG8+AG12+AG14 -> 10
A8: Đơn vị DQTV/ cấp tỉnh | B8: =SUM(B9:B11) -> 0 | C8: =SUM(C9:C11) -> 0 | D8: =SUM(D9:D11) -> 0 | E8: =SUM(E9:E11) -> 0 | F8: =SUM(F9:F11) -> 0 | G8: =SUM(G9:G11) -> 0 | H8: =SUM(H9:H11) -> 0 | I8: =SUM(I9:I11) -> 0 | ... AG8: =SUM(AG9:AG11) -> 0
A9: Pháo PK 37mm
A10: Pháo 76,2mm
A11: Hải đội DQTT
A12: Đơn vị DQ/ cấp xã | B12: =B13 -> 1002 | C12: =C13 -> 1 | D12: =D13 -> 1 | E12: =E13 -> 0 | F12: =F13 -> 0 | G12: =G13 -> 0 | H12: =H13 -> 0 | I12: =I13 -> 0 | ... Y12: =Y13 -> 84 | Z12: 1 | AA12: =AA13 -> 1 | AB12: =AB13 -> 36 | AC12: =AC13 -> 0 | AD12: =AD13 -> 2 | AE12: =AE13 -> 1 | AF12: =AF13 -> 78 | AG12: =AG13 -> 10
A13: Dân quân | B13: 1002 | C13: 1 | D13: 1 | K13: 84 | L13: 3 | M13: 28 | O13: 1 | Q13: 692 | S13: 17 | T13: 24 | Y13: 84 | Z13: 1 | AA13: 1 | AB13: 36 | AD13: 2 | AE13: 1 | AF13: 78 | AG13: 10
A14: Đơn vị Tự vệ | B14: =B15 -> 99 | C14: =C15 -> 0 | D14: =D15 -> 0 | E14: =E15 -> 0 | F14: =F15 -> 0 | G14: =G15 -> 0 | H14: =H15 -> 0 | I14: =I15 -> 0 | ... AG14: =AG15 -> 0
A15: Tự vệ | B15: 99 | Q15: 99 | T15: 11 | AF15: =AG15*9 -> 0
A17: Cán bộ đvị DQTV | B17: =B18+B19 -> 154 | K17: 12 | L17: 3 | M17: 4 | N17: =N7*12 -> 0 | O17: 1 | P17: =P7 -> 0 | Q17: =S17+T17 -> 103 | R17: =R7*16 -> 0 | S17: 17 | T17: =T18+T19 -> 86 | U17: =U7 -> 0 | W17: =W7*4 -> 0 | X17: =X7 -> 0 | Y17: 17 | Z17: 1 | AA17: 1 | AB17: 8 | AC17: =AC7*10 -> 0 | AD17: 2 | AE17: =AE7 -> 1 | AF17: 10 | AG17: =AG7 -> 10
A18: Cán bộ DQ | B18: =K18+M18+Q18+Y18+AB18+AF18 -> 143 | K18: 12 | L18: 3 | M18: 4 | N18: =N17-N19 -> 0 | O18: 1 | P18: =P17-P19 -> 0 | Q18: =S18+T18 -> 92 | R18: =R17-R19 -> 0 | S18: 17 | T18: 75 | U18: =U17-U19 -> 0 | V18: =V17-V19 -> 0 | W18: =W17-W19 -> 0 | X18: =X17-X19 -> 0 | Y18: 17 | Z18: 1 | AA18: 1 | AB18: 8 | AC18: =AC17-AC19 -> 0 | AD18: =AD17-AD19 -> 2 | AE18: =AE17-AE19 -> 1 | AF18: 10 | AG18: =AG17-AG19 -> 10
A19: Cán bộ TV | B19: =Q19 -> 11 | L19: =L14*4 -> 0 | Q19: 11 | R19: =R14*16 -> 0 | S19: =S14*4 -> 0 | T19: =T14 -> 11 | W19: =W14*4 -> 0
A20: Tổng csi DQTV | B20: =B21+B22 -> 947
A21: Csi DQ | B21: =K21+M21+Q21+Y21+AB21+AF21 -> 859 | K21: 72 | M21: 24 | Q21: 600 | Y21: 67 | AB21: 28 | AF21: 68
A22: Csi TV | B22: =B14-B19-C14 -> 88 | Q22: 88
A23: Tổng DQ | B23: =B18+B21 -> 1002 | K23: 84 | Q23: 692 | Y23: 84 | AB23: 36 | AF23: 78
A24: Tổng TV | B24: =B19+B22 -> 99 | Q24: 99
A26: - Sau sắp xếp: Phường Ninh Hoà hiện có 22 tổ dân phố; là phường trọng điểm về QP.
A27: - Dự kiến tổ chức xây dưng lực lượng DQ:
A28: + DQ thường trực: tổ chức 01b DQTT 28 đ/c
A29: + DQ cơ động: tổ chức 3b
A30: + DQ tại chỗ: Cấp tổ dân phố tổ chức 1b tại chỗ
A31: + DQ binh chủng Phòng không, Pháo binh giữ nguyên như hiện có gồm: 1c PPK 37mm-1, 1b SMPK 12,7mm, 1b ĐKZ 82mm, 1b Co82mm, 1a Co60mm.
A32: + DQ cối 60mm: tổ chức 01kđ.
A33: + DQ các binh chủng Thông tin, Công binh, Trinh sát, Phòng hóa, Y tế: tổ chức 02a/ mỗi binh chủng./.

Sheet PL2A
A1: Phụ lục 2A
A2: BẢO ĐẢM TRANG PHỤC CHO DÂN QUÂN (Kèm theo Đề án tổ chức lực lượng, huấn luyện, hoạt động và bảo đảm chế độ, chính sách cho Dân quân tự vệ trên địa bàn phường, giai đoạn 2026- 2030)
A5: TT | B5: Loại trang phục | C5: ĐVT | D5: Đơn giá (đồng) | E5: Năm 2026 | G5: Năm 2027 | I5: Năm 2028 | K5: Năm 2029 | M5: Năm 2030 | O5: Tổng 5 năm (đồng)
E6: SL | F6: Thành tiền (đồng) | G6: SL | H6: Thành tiền (đồng) | I6: SL | J6: Thành tiền (đồng) | K6: SL | L6: Thành tiền (đồng) | M6: SL | N6: Thành tiền (đồng)
A7: * | B7: CỘNG | E7: =E115+E106+E97+E89+E51+E26+E18+E8 -> 1507 | F7: =SUBTOTAL(9,F8:F123) -> 2568639000 | G7: =G115+G106+G97+G89+G51+G26+G18+G8 -> 392 | H7: =SUBTOTAL(9,H8:H123) -> 567814280 | I7: =I115+I106+I97+I89+I51+I26+I18+I8 -> 1282 | J7: =SUBTOTAL(9,J8:J123) -> 1829205960 | K7: =K115+K106+K97+K89+K51+K26+K18+K8 -> 1282 | L7: =SUBTOTAL(9,L8:L123) -> 999880980 | M7: =M115+M106+M97+M89+M51+M26+M18+M8 -> 1282 | N7: =SUBTOTAL(9,N8:N123) -> 2102372160 | O7: =SUBTOTAL(9,O8:O123) -> 8067912380 | P7: 313349756240 | Q7: =P7-O7 -> 305281843860
A8: I | B8: Ban CHQS phường | E8: =E9 -> 0 | F8: =SUBTOTAL(9,F9:F17) -> 0 | G8: =G9 -> 0 | H8: =SUBTOTAL(9,H9:H17) -> 0 | I8: =I9 -> 0 | J8: =SUBTOTAL(9,J9:J17) -> 0 | K8: =K9 -> 0 | L8: =SUBTOTAL(9,L9:L17) -> 0 | M8: =M9 -> 0 | N8: =SUBTOTAL(9,N9:N17) -> 0 | O8: =SUBTOTAL(9,O9:O17) -> 0 | P8: =E7-E9-#REF!-#REF! -> #REF! | Q8: =Q7-PL2B!O7 -> 304993783560
B9: Chính trị viên | F9: =SUBTOTAL(9,F10:F17) -> 0 | G9: =E9 -> 0 | H9: =SUBTOTAL(9,H10:H17) -> 0 | I9: =G9 -> 0 | J9: =SUBTOTAL(9,J10:J17) -> 0 | K9: =I9 -> 0 | L9: =SUBTOTAL(9,L10:L17) -> 0 | M9: =K9 -> 0 | N9: =SUBTOTAL(9,N10:N17) -> 0 | O9: =SUBTOTAL(9,O10:O17) -> 0
B10: Quần áo | C10: Bộ | D10: 700000 | F10: =E10*D10 -> 0 | H10: =G10*(D10+D10*3%) -> 0 | J10: =I10*(D10+D10*6%) -> 0 | K10: 0 | L10: =K10*(D10+D10*9%) -> 0 | N10: =M10*(D10+D10*12%) -> 0 | O10: =F10+H10+J10+L10+N10 -> 0
B11: Mũ cứng | C11: Cái | D11: 155000 | F11: =E11*D11 -> 0 | H11: =G11*(D11+D11*3%) -> 0 | J11: =I11*(D11+D11*6%) -> 0 | L11: =K11*(D11+D11*9%) -> 0 | N11: =M11*(D11+D11*12%) -> 0 | O11: =F11+H11+J11+L11+N11 -> 0
B12: Mũ mềm | C12: Cái | D12: 78000 | F12: =E12*D12 -> 0 | H12: =G12*(D12+D12*3%) -> 0 | J12: =I12*(D12+D12*6%) -> 0 | L12: =K12*(D12+D12*9%) -> 0 | N12: =M12*(D12+D12*12%) -> 0 | O12: =F12+H12+J12+L12+N12 -> 0
B13: Giày da | C13: Đôi | D13: 490000 | F13: =E13*D13 -> 0 | H13: =G13*(D13+D13*3%) -> 0 | J13: =I13*(D13+D13*6%) -> 0 | L13: =K13*(D13+D13*9%) -> 0 | N13: =M13*(D13+D13*12%) -> 0 | O13: =F13+H13+J13+L13+N13 -> 0
B14: Giày vải | C14: Đôi | D14: 175000 | F14: =E14*D14 -> 0 | H14: =G14*(D14+D14*3%) -> 0 | J14: =I14*(D14+D14*6%) -> 0 | L14: =K14*(D14+D14*9%) -> 0 | N14: =M14*(D14+D14*12%) -> 0 | O14: =F14+H14+J14+L14+N14 -> 0
B15: Tất chân | C15: Đôi | D15: 35000 | F15: =E15*D15 -> 0 | H15: =G15*(D15+D15*3%) -> 0 | J15: =I15*(D15+D15*6%) -> 0 | L15: =K15*(D15+D15*9%) -> 0 | N15: =M15*(D15+D15*12%) -> 0 | O15: =F15+H15+J15+L15+N15 -> 0
B16: Dây lưng nhỏ | C16: Cái | D16: 75000 | F16: =E16*D16 -> 0 | H16: =G16*(D16+D16*3%) -> 0 | I16: 0 | J16: =I16*(D16+D16*6%) -> 0 | L16: =K16*(D16+D16*9%) -> 0 | M16: 0 | N16: =M16*(D16+D16*12%) -> 0 | O16: =F16+H16+J16+L16+N16 -> 0
B17: Quần áo mưa | C17: Bộ | D17: 350000 | F17: =E17*D17 -> 0 | H17: =G17*(D17+D17*3%) -> 0 | I17: 0 | J17: =I17*(D17+D17*6%) -> 0 | L17: =K17*(D17+D17*9%) -> 0 | M17: 0 | N17: =M17*(D17+D17*12%) -> 0 | O17: =F17+H17+J17+L17+N17 -> 0
A18: II | B18: DQ năm thứ nhất | E18: 475 | F18: =SUBTOTAL(9,F19:F25) -> 796575000 | G18: 250 | H18: =SUBTOTAL(9,H19:H25) -> 431827500 | I18: 250 | J18: =SUBTOTAL(9,J19:J25) -> 444405000 | K18: =G18 -> 250 | L18: =SUBTOTAL(9,L19:L25) -> 456982500 | M18: =G18 -> 250 | N18: =SUBTOTAL(9,N19:N25) -> 469560000 | O18: =SUBTOTAL(9,O19:O25) -> 2599350000
B19: Quần áo | C19: Bộ | D19: 517000 | E19: =E18*2 -> 950 | F19: =E19*D19 -> 491150000 | G19: =G18*2 -> 500 | H19: =G19*(D19+D19*3%) -> 266255000 | I19: =I18*2 -> 500 | J19: =I19*(D19+D19*6%) -> 274010000 | K19: =K18*2 -> 500 | L19: =K19*(D19+D19*9%) -> 281765000 | M19: =M18*2 -> 500 | N19: =M19*(D19+D19*12%) -> 289520000 | O19: =F19+H19+J19+L19+N19 -> 1602700000
B20: Mũ cứng | C20: Cái | D20: 155000 | E20: =E18 -> 475 | F20: =E20*D20 -> 73625000 | G20: =G18 -> 250 | H20: =G20*(D20+D20*3%) -> 39912500 | I20: =I18 -> 250 | J20: =I20*(D20+D20*6%) -> 41075000 | K20: =K18 -> 250 | L20: =K20*(D20+D20*9%) -> 42237500 | M20: =M18 -> 250 | N20: =M20*(D20+D20*12%) -> 43400000 | O20: =F20+H20+J20+L20+N20 -> 240250000
B21: Mũ mềm | C21: Cái | D21: 78000 | E21: =E18 -> 475 | F21: =E21*D21 -> 37050000 | G21: =G18 -> 250 | H21: =G21*(D21+D21*3%) -> 20085000 | I21: =I18 -> 250 | J21: =I21*(D21+D21*6%) -> 20670000 | K21: =K18 -> 250 | L21: =K21*(D21+D21*9%) -> 21255000 | M21: =M18 -> 250 | N21: =M21*(D21+D21*12%) -> 21840000 | O21: =F21+H21+J21+L21+N21 -> 120900000
B22: Giày vải | C22: Đôi | D22: 175000 | E22: =E18 -> 475 | F22: =E22*D22 -> 83125000 | G22: =G18 -> 250 | H22: =G22*(D22+D22*3%) -> 45062500 | I22: =I18 -> 250 | J22: =I22*(D22+D22*6%) -> 46375000 | K22: =K18 -> 250 | L22: =K22*(D22+D22*9%) -> 47687500 | M22: =M18 -> 250 | N22: =M22*(D22+D22*12%) -> 49000000 | O22: =F22+H22+J22+L22+N22 -> 271250000
B23: Tất chân | C23: Đôi | D23: 35000 | E23: =E19 -> 950 | F23: =E23*D23 -> 33250000 | G23: =G19 -> 500 | H23: =G23*(D23+D23*3%) -> 18025000 | I23: =I19 -> 500 | J23: =I23*(D23+D23*6%) -> 18550000 | K23: =K19 -> 500 | L23: =K23*(D23+D23*9%) -> 19075000 | M23: =M19 -> 500 | N23: =M23*(D23+D23*12%) -> 19600000 | O23: =F23+H23+J23+L23+N23 -> 108500000
B24: Dây lưng nhỏ | C24: Cái | D24: 75000 | E24: =E18 -> 475 | F24: =E24*D24 -> 35625000 | G24: =G18 -> 250 | H24: =G24*(D24+D24*3%) -> 19312500 | I24: =I18 -> 250 | J24: =I24*(D24+D24*6%) -> 19875000 | K24: =K18 -> 250 | L24: =K24*(D24+D24*9%) -> 20437500 | M24: =M18 -> 250 | N24: =M24*(D24+D24*12%) -> 21000000 | O24: =F24+H24+J24+L24+N24 -> 116250000
B25: Áo mưa | C25: Cái | D25: 90000 | E25: =E18 -> 475 | F25: =E25*D25 -> 42750000 | G25: =G18 -> 250 | H25: =G25*(D25+D25*3%) -> 23175000 | I25: =I18 -> 250 | J25: =I25*(D25+D25*6%) -> 23850000 | K25: =K18 -> 250 | L25: =K25*(D25+D25*9%) -> 24525000 | M25: =M18 -> 250 | N25: =M25*(D25+D25*12%) -> 25200000 | O25: =F25+H25+J25+L25+N25 -> 139500000
A26: III | B26: DQ năm thứ hai trở đi | E26: =E27+E35+E43 -> 974 | F26: =SUBTOTAL(9,F27:F50) -> 1589970000 | G26: =G27+G35+G43 -> 84 | H26: =SUBTOTAL(9,H27:H50) -> 65928240 | I26: =I27+I35+I43 -> 974 | J26: =SUBTOTAL(9,J27:J50) -> 1244270400 | K26: =K27+K35+K43 -> 974 | L26: =SUBTOTAL(9,L27:L50) -> 391351420 | M26: =M27+M35+M43 -> 974 | N26: =SUBTOTAL(9,N27:N50) -> 1450332800 | O26: =SUBTOTAL(9,O27:O50) -> 4741852860
A27: 1 | B27: Dân quân cơ động | E27: 84 | F27: =SUBTOTAL(9,F28:F34) -> 97440000 | G27: =E27 -> 84 | H27: =SUBTOTAL(9,H28:H34) -> 65928240 | I27: =G27 -> 84 | J27: =SUBTOTAL(9,J28:J34) -> 95272800 | K27: =G27 -> 84 | L27: =SUBTOTAL(9,L28:L34) -> 78009120 | M27: =I27 -> 84 | N27: =SUBTOTAL(9,N28:N34) -> 100665600 | O27: =SUBTOTAL(9,O28:O34) -> 437315760
B28: Quần áo | C28: Bộ | D28: 517000 | E28: 84 | F28: =E28*D28 -> 43428000 | G28: 84 | H28: =G28*(D28+D28*3%) -> 44730840 | I28: =I27 -> 84 | J28: =I28*(D28+D28*6%) -> 46033680 | K28: =I27 -> 84 | L28: =K28*(D28+D28*9%) -> 47336520 | M28: =I28 -> 84 | N28: =M28*(D28+D28*12%) -> 48639360 | O28: =F28+H28+J28+L28+N28 -> 230168400
B29: Mũ cứng | C29: Cái | D29: 155000 | E29: 84 | F29: =E29*D29 -> 13020000 | H29: =G29*(D29+D29*3%) -> 0 | I29: =I27 -> 84 | J29: =I29*(D29+D29*6%) -> 13801200 | L29: =K29*(D29+D29*9%) -> 0 | M29: =I29 -> 84 | N29: =M29*(D29+D29*12%) -> 14582400 | O29: =F29+H29+J29+L29+N29 -> 41403600
B30: Mũ mềm | C30: Cái | D30: 78000 | E30: 84 | F30: =E30*D30 -> 6552000 | G30: =G29 -> 0 | H30: =G30*(D30+D30*3%) -> 0 | I30: =I27 -> 84 | J30: =I30*(D30+D30*6%) -> 6945120 | L30: =K30*(D30+D30*9%) -> 0 | M30: =I30 -> 84 | N30: =M30*(D30+D30*12%) -> 7338240 | O30: =F30+H30+J30+L30+N30 -> 20835360
B31: Giày vải | C31: Đôi | D31: 175000 | E31: 84 | F31: =E31*D31 -> 14700000 | G31: 84 | H31: =G31*(D31+D31*3%) -> 15141000 | I31: =I27 -> 84 | J31: =I31*(D31+D31*6%) -> 15582000 | K31: =I31 -> 84 | L31: =K31*(D31+D31*9%) -> 16023000 | M31: =I31 -> 84 | N31: =M31*(D31+D31*12%) -> 16464000 | O31: =F31+H31+J31+L31+N31 -> 77910000
B32: Tất chân | C32: Đôi | D32: 35000 | E32: 168 | F32: =E32*D32 -> 5880000 | G32: 168 | H32: =G32*(D32+D32*3%) -> 6056400 | I32: =I27*2 -> 168 | J32: =I32*(D32+D32*6%) -> 6232800 | K32: =I32 -> 168 | L32: =K32*(D32+D32*9%) -> 6409200 | M32: =I32 -> 168 | N32: =M32*(D32+D32*12%) -> 6585600 | O32: =F32+H32+J32+L32+N32 -> 31164000
B33: Dây lưng nhỏ | C33: Cái | D33: 75000 | E33: 84 | F33: =E33*D33 -> 6300000 | H33: =G33*(D33+D33*3%) -> 0 | I33: =I27 -> 84 | J33: =I33*(D33+D33*6%) -> 6678000 | L33: =K33*(D33+D33*9%) -> 0 | M33: =I33 -> 84 | N33: =M33*(D33+D33*12%) -> 7056000 | O33: =F33+H33+J33+L33+N33 -> 20034000
B34: Áo mưa | C34: Cái | D34: 90000 | E34: 84 | F34: =E34*D34 -> 7560000 | H34: =G34*(D34+D34*3%) -> 0 | J34: =I34*(D34+D34*6%) -> 0 | K34: =K27 -> 84 | L34: =K34*(D34+D34*9%) -> 8240400 | M34: =I34 -> 0 | N34: =M34*(D34+D34*12%) -> 0 | O34: =F34+H34+J34+L34+N34 -> 15800400
A35: 2 | B35: Dân quân tại chỗ | E35: 692 | F35: =SUBTOTAL(9,F36:F42) -> 1160484000 | H35: =SUBTOTAL(9,H36:H42) -> 0 | I35: =E35 -> 692 | J35: =SUBTOTAL(9,J36:J42) -> 864820080 | K35: =I35 -> 692 | L35: =SUBTOTAL(9,L36:L42) -> 243632440 | M35: =K35 -> 692 | N35: =SUBTOTAL(9,N36:N42) -> 1049404160 | O35: =SUBTOTAL(9,O36:O42) -> 3318340680
B36: Quần áo | C36: Bộ | D36: 517000 | E36: =E35*2 -> 1384 | F36: =E36*D36 -> 715528000 | H36: =G36*(D36+D36*3%) -> 0 | I36: =I35*2 -> 1384 | J36: =I36*(D36+D36*6%) -> 758459680 | L36: =K36*(D36+D36*9%) -> 0 | M36: =M35*2 -> 1384 | N36: =M36*(D36+D36*12%) -> 801391360 | O36: =F36+H36+J36+L36+N36 -> 2275379040
B37: Mũ cứng | C37: Cái | D37: 155000 | E37: =$E$35 -> 692 | F37: =E37*D37 -> 107260000 | H37: =G37*(D37+D37*3%) -> 0 | J37: =I37*(D37+D37*6%) -> 0 | K37: =K35 -> 692 | L37: =K37*(D37+D37*9%) -> 116913400 | N37: =M37*(D37+D37*12%) -> 0 | O37: =F37+H37+J37+L37+N37 -> 224173400
B38: Mũ mềm | C38: Cái | D38: 78000 | E38: =$E$35 -> 692 | F38: =E38*D38 -> 53976000 | H38: =G38*(D38+D38*3%) -> 0 | J38: =I38*(D38+D38*6%) -> 0 | K38: =K35 -> 692 | L38: =K38*(D38+D38*9%) -> 58833840 | N38: =M38*(D38+D38*12%) -> 0 | O38: =F38+H38+J38+L38+N38 -> 112809840
B39: Giày vải | C39: Đôi | D39: 175000 | E39: =$E$35 -> 692 | F39: =E39*D39 -> 121100000 | H39: =H38 -> 0 | I39: =H39*G39 -> 0 | J39: =I39*(D39+D39*6%) -> 0 | L39: =K39*(D39+D39*9%) -> 0 | M39: =M35 -> 692 | N39: =M39*(D39+D39*12%) -> 135632000 | O39: =F39+H39+J39+L39+N39 -> 256732000
B40: Tất chân | C40: Đôi | D40: 35000 | E40: =E36 -> 1384 | F40: =E40*D40 -> 48440000 | H40: =G40*(D40+D40*3%) -> 0 | I40: =I35*2 -> 1384 | J40: =I40*(D40+D40*6%) -> 51346400 | L40: =K40*(D40+D40*9%) -> 0 | M40: =M35*2 -> 1384 | N40: =M40*(D40+D40*12%) -> 54252800 | O40: =F40+H40+J40+L40+N40 -> 154039200
B41: Dây lưng nhỏ | C41: Cái | D41: 75000 | E41: =$E$35 -> 692 | F41: =E41*D41 -> 51900000 | H41: =G41*(D41+D41*3%) -> 0 | I41: =I35 -> 692 | J41: =I41*(D41+D41*6%) -> 55014000 | L41: =K41*(D41+D41*9%) -> 0 | M41: =M35 -> 692 | N41: =M41*(D41+D41*12%) -> 58128000 | O41: =F41+H41+J41+L41+N41 -> 165042000
B42: Áo mưa | C42: Cái | D42: 90000 | E42: =$E$35 -> 692 | F42: =E42*D42 -> 62280000 | H42: =G42*(D42+D42*3%) -> 0 | J42: =I42*(D42+D42*6%) -> 0 | K42: =K35 -> 692 | L42: =K42*(D42+D42*9%) -> 67885200 | N42: =M42*(D42+D42*12%) -> 0 | O42: =F42+H42+J42+L42+N42 -> 130165200
A43: 3 | B43: Dân quân Phòng không, pháo binh, trinh sát, thông tin, phòng hóa, y tế, c/binh | E43: 198 | F43: =SUBTOTAL(9,F44:F50) -> 332046000 | H43: =SUBTOTAL(9,H44:H50) -> 0 | I43: 198 | J43: =SUBTOTAL(9,J44:J50) -> 284177520 | K43: =I43 -> 198 | L43: =SUBTOTAL(9,L44:L50) -> 69709860 | M43: =I43 -> 198 | N43: =SUBTOTAL(9,N44:N50) -> 300263040 | O43: =SUBTOTAL(9,O44:O50) -> 986196420
B44: Quần áo | C44: Bộ | D44: 517000 | E44: =E43*2 -> 396 | F44: =E44*D44 -> 204732000 | H44: =G44*(D44+D44*3%) -> 0 | I44: =I43*2 -> 396 | J44: =I44*(D44+D44*6%) -> 217015920 | L44: =K44*(D44+D44*9%) -> 0 | M44: =M43*2 -> 396 | N44: =M44*(D44+D44*12%) -> 229299840 | O44: =F44+H44+J44+L44+N44 -> 651047760
B45: Mũ cứng | C45: Cái | D45: 155000 | E45: =E43 -> 198 | F45: =E45*D45 -> 30690000 | H45: =G45*(D45+D45*3%) -> 0 | J45: =I45*(D45+D45*6%) -> 0 | K45: =K43 -> 198 | L45: =K45*(D45+D45*9%) -> 33452100 | N45: =M45*(D45+D45*12%) -> 0 | O45: =F45+H45+J45+L45+N45 -> 64142100
B46: Mũ mềm | C46: Cái | D46: 78000 | E46: =E43 -> 198 | F46: =E46*D46 -> 15444000 | H46: =G46*(D46+D46*3%) -> 0 | J46: =I46*(D46+D46*6%) -> 0 | K46: =K43 -> 198 | L46: =K46*(D46+D46*9%) -> 16833960 | N46: =M46*(D46+D46*12%) -> 0 | O46: =F46+H46+J46+L46+N46 -> 32277960
B47: Giày vải | C47: Đôi | D47: 175000 | E47: =E43 -> 198 | F47: =E47*D47 -> 34650000 | H47: =G47*(D47+D47*3%) -> 0 | I47: =I43 -> 198 | J47: =I47*(D47+D47*6%) -> 36729000 | L47: =K47*(D47+D47*9%) -> 0 | M47: =M43 -> 198 | N47: =M47*(D47+D47*12%) -> 38808000 | O47: =F47+H47+J47+L47+N47 -> 110187000
B48: Tất chân | C48: Đôi | D48: 35000 | E48: =E43*2 -> 396 | F48: =E48*D48 -> 13860000 | H48: =G48*(D48+D48*3%) -> 0 | I48: =I43*2 -> 396 | J48: =I48*(D48+D48*6%) -> 14691600 | L48: =K48*(D48+D48*9%) -> 0 | M48: =M43*2 -> 396 | N48: =M48*(D48+D48*12%) -> 15523200 | O48: =F48+H48+J48+L48+N48 -> 44074800
B49: Dây lưng nhỏ | C49: Cái | D49: 75000 | E49: =E43 -> 198 | F49: =E49*D49 -> 14850000 | H49: =G49*(D49+D49*3%) -> 0 | I49: =I43 -> 198 | J49: =I49*(D49+D49*6%) -> 15741000 | L49: =K49*(D49+D49*9%) -> 0 | M49: =M43 -> 198 | N49: =M49*(D49+D49*12%) -> 16632000 | O49: =F49+H49+J49+L49+N49 -> 47223000
B50: Áo mưa | C50: Cái | D50: 90000 | E50: =E43 -> 198 | F50: =E50*D50 -> 17820000 | H50: =G50*(D50+D50*3%) -> 0 | J50: =I50*(D50+D50*6%) -> 0 | K50: =K43 -> 198 | L50: =K50*(D50+D50*9%) -> 19423800 | N50: =M50*(D50+D50*12%) -> 0 | O50: =F50+H50+J50+L50+N50 -> 37243800
A51: IV | B51: Dân quân thường trực | E51: ='PL1'!M7 -> 28 | F51: =SUBTOTAL(9,F52:F88) -> 119304000 | G51: =E51 -> 28 | H51: =SUBTOTAL(9,H52:H88) -> 65191790 | I51: =G51 -> 28 | J51: =SUBTOTAL(9,J52:J88) -> 93918120 | K51: =I51 -> 28 | L51: =SUBTOTAL(9,L52:L88) -> 69425370 | M51: =K51 -> 28 | N51: =SUBTOTAL(9,N52:N88) -> 133228480 | O51: =SUBTOTAL(9,O52:O88) -> 481067760
A52: 1 | B52: b trưởng DQTT | E52: ='PL1'!N7*12+'PL1'!O7 -> 1 | F52: =SUBTOTAL(9,F53:F70) -> 4527000 | G52: =E52 -> 1 | H52: =SUBTOTAL(9,H53:H70) -> 2369000 | I52: =E52 -> 1 | J52: =SUBTOTAL(9,J53:J70) -> 3278580 | K52: =E52 -> 1 | L52: =SUBTOTAL(9,L53:L70) -> 2943000 | M52: =E52 -> 1 | N52: =SUBTOTAL(9,N53:N70) -> 4678240 | O52: =SUBTOTAL(9,O53:O70) -> 17795820
B53: Quần áo | C53: Bộ | D53: 700000 | E53: =E52 -> 1 | F53: =E53*D53 -> 700000 | G53: =G52 -> 1 | H53: =G53*(D53+D53*3%) -> 721000 | I53: =I52 -> 1 | J53: =I53*(D53+D53*6%) -> 742000 | K53: =K52 -> 1 | L53: =K53*(D53+D53*9%) -> 763000 | M53: =M52 -> 1 | N53: =M53*(D53+D53*12%) -> 784000 | O53: =F53+H53+J53+L53+N53 -> 3710000
B54: Mũ cứng | C54: Cái | D54: 155000 | E54: =E52 -> 1 | F54: =E54*D54 -> 155000 | H54: =G54*(D54+D54*3%) -> 0 | I54: =I52 -> 1 | J54: =I54*(D54+D54*6%) -> 164300 | L54: =K54*(D54+D54*9%) -> 0 | M54: =M52 -> 1 | N54: =M54*(D54+D54*12%) -> 173600 | O54: =F54+H54+J54+L54+N54 -> 492900
B55: Mũ mềm | C55: Cái | D55: 78000 | E55: =E52 -> 1 | F55: =E55*D55 -> 78000 | H55: =G55*(D55+D55*3%) -> 0 | I55: =I52 -> 1 | J55: =I55*(D55+D55*6%) -> 82680 | L55: =K55*(D55+D55*9%) -> 0 | M55: =M52 -> 1 | N55: =M55*(D55+D55*12%) -> 87360 | O55: =F55+H55+J55+L55+N55 -> 248040
B56: Giày da | C56: Đôi | D56: 490000 | E56: =E52 -> 1 | F56: =E56*D56 -> 490000 | G56: =G52 -> 1 | H56: =G56*(D56+D56*3%) -> 504700 | I56: =I52 -> 1 | J56: =I56*(D56+D56*6%) -> 519400 | K56: =K52 -> 1 | L56: =K56*(D56+D56*9%) -> 534100 | M56: =M52 -> 1 | N56: =M56*(D56+D56*12%) -> 548800 | O56: =F56+H56+J56+L56+N56 -> 2597000
B57: Giày vải | C57: Đôi | D57: 175000 | E57: =E52 -> 1 | F57: =E57*D57 -> 175000 | G57: =G52 -> 1 | H57: =G57*(D57+D57*3%) -> 180250 | I57: =I52 -> 1 | J57: =I57*(D57+D57*6%) -> 185500 | K57: =K52 -> 1 | L57: =K57*(D57+D57*9%) -> 190750 | M57: =M52 -> 1 | N57: =M57*(D57+D57*12%) -> 196000 | O57: =F57+H57+J57+L57+N57 -> 927500
B58: Tất chân | C58: Đôi | D58: 35000 | E58: =E52*2 -> 2 | F58: =E58*D58 -> 70000 | G58: =G52*2 -> 2 | H58: =G58*(D58+D58*3%) -> 72100 | I58: =I52*2 -> 2 | J58: =I58*(D58+D58*6%) -> 74200 | K58: =K52*2 -> 2 | L58: =K58*(D58+D58*9%) -> 76300 | M58: =M52*2 -> 2 | N58: =M58*(D58+D58*12%) -> 78400 | O58: =F58+H58+J58+L58+N58 -> 371000
B59: Dây lưng nhỏ | C59: Cái | D59: 75000 | E59: =E52 -> 1 | F59: =E59*D59 -> 75000 | G59: =G52 -> 1 | H59: =G59*(D59+D59*3%) -> 77250 | I59: =I52 -> 1 | J59: =I59*(D59+D59*6%) -> 79500 | K59: =K52 -> 1 | L59: =K59*(D59+D59*9%) -> 81750 | M59: =M52 -> 1 | N59: =M59*(D59+D59*12%) -> 84000 | O59: =F59+H59+J59+L59+N59 -> 397500
B60: Quần áo mưa | C60: Bộ | D60: 350000 | E60: =E52 -> 1 | F60: =E60*D60 -> 350000 | H60: =G60*(D60+D60*3%) -> 0 | J60: =I60*(D60+D60*6%) -> 0 | K60: =K52 -> 1 | L60: =K60*(D60+D60*9%) -> 381500 | N60: =M60*(D60+D60*12%) -> 0 | O60: =F60+H60+J60+L60+N60 -> 731500
B61: Quần lót | C61: Cái | D61: 58000 | E61: =E52*2 -> 2 | F61: =E61*D61 -> 116000 | G61: =G52*2 -> 2 | H61: =G61*(D61+D61*3%) -> 119480 | I61: =I52*2 -> 2 | J61: =I61*(D61+D61*6%) -> 122960 | K61: =K52*2 -> 2 | L61: =K61*(D61+D61*9%) -> 126440 | M61: =M52*2 -> 2 | N61: =M61*(D61+D61*12%) -> 129920 | O61: =F61+H61+J61+L61+N61 -> 614800
B62: Áo lót | C62: Cái | D62: 80000 | E62: =E52*2 -> 2 | F62: =E62*D62 -> 160000 | G62: =G52*2 -> 2 | H62: =G62*(D62+D62*3%) -> 164800 | I62: =I52*2 -> 2 | J62: =I62*(D62+D62*6%) -> 169600 | K62: =K52*2 -> 2 | L62: =K62*(D62+D62*9%) -> 174400 | M62: =M52*2 -> 2 | N62: =M62*(D62+D62*12%) -> 179200 | O62: =F62+H62+J62+L62+N62 -> 848000
B63: Khăn mặt | C63: Cái | D63: 50000 | E63: =E52*2 -> 2 | F63: =E63*D63 -> 100000 | G63: =G52 -> 1 | H63: =G63*(D63+D63*3%) -> 51500 | I63: =I52*2 -> 2 | J63: =I63*(D63+D63*6%) -> 106000 | K63: =K52*2 -> 2 | L63: =K63*(D63+D63*9%) -> 109000 | M63: =M52*2 -> 2 | N63: =M63*(D63+D63*12%) -> 112000 | O63: =F63+H63+J63+L63+N63 -> 478500
B64: Chăn | C64: Cái | D64: 280000 | E64: =E52 -> 1 | F64: =E64*D64 -> 280000 | H64: =G64*(D64+D64*3%) -> 0 | I64: =I52 -> 1 | J64: =I64*(D64+D64*6%) -> 296800 | L64: =K64*(D64+D64*9%) -> 0 | M64: =M52 -> 1 | N64: =M64*(D64+D64*12%) -> 313600 | O64: =F64+H64+J64+L64+N64 -> 890400
B65: Màn | C65: Cái | D65: 150000 | E65: =E52 -> 1 | F65: =E65*D65 -> 150000 | H65: =G65*(D65+D65*3%) -> 0 | I65: =I52 -> 1 | J65: =I65*(D65+D65*6%) -> 159000 | L65: =K65*(D65+D65*9%) -> 0 | M65: =M52 -> 1 | N65: =M65*(D65+D65*12%) -> 168000 | O65: =F65+H65+J65+L65+N65 -> 477000
B66: Gối | C66: Cái | D66: 80000 | E66: =E52 -> 1 | F66: =E66*D66 -> 80000 | H66: =G66*(D66+D66*3%) -> 0 | I66: =I52 -> 1 | J66: =I66*(D66+D66*6%) -> 84800 | L66: =K66*(D66+D66*9%) -> 0 | M66: =M52 -> 1 | N66: =M66*(D66+D66*12%) -> 89600 | O66: =F66+H66+J66+L66+N66 -> 254400
B67: Chiếu | C67: Cái | D67: 84000 | E67: =E52 -> 1 | F67: =E67*D67 -> 84000 | G67: =G52 -> 1 | H67: =G67*(D67+D67*3%) -> 86520 | I67: =I52 -> 1 | J67: =I67*(D67+D67*6%) -> 89040 | K67: =K52 -> 1 | L67: =K67*(D67+D67*9%) -> 91560 | M67: =M52 -> 1 | N67: =M67*(D67+D67*12%) -> 94080 | O67: =F67+H67+J67+L67+N67 -> 445200
B68: Đệm giường (bông ép) | C68: Cái | D68: 800000 | E68: =E52 -> 1 | F68: =E68*D68 -> 800000 | H68: =G68*(D68+D68*3%) -> 0 | J68: =I68*(D68+D68*6%) -> 0 | L68: =K68*(D68+D68*9%) -> 0 | M68: =M52 -> 1 | N68: =M68*(D68+D68*12%) -> 896000 | O68: =F68+H68+J68+L68+N68 -> 1696000
B69: Ba lô | C69: Cái | D69: 284000 | E69: =E52 -> 1 | F69: =E69*D69 -> 284000 | H69: =G69*(D69+D69*3%) -> 0 | J69: =I69*(D69+D69*6%) -> 0 | L69: =K69*(D69+D69*9%) -> 0 | M69: =M52 -> 1 | N69: =M69*(D69+D69*12%) -> 318080 | O69: =F69+H69+J69+L69+N69 -> 602080
B70: Áo ấm | C70: Cái | D70: 380000 | E70: =E52 -> 1 | F70: =E70*D70 -> 380000 | G70: =G52 -> 1 | H70: =G70*(D70+D70*3%) -> 391400 | I70: =I52 -> 1 | J70: =I70*(D70+D70*6%) -> 402800 | K70: =K52 -> 1 | L70: =K70*(D70+D70*9%) -> 414200 | M70: =M52 -> 1 | N70: =M70*(D70+D70*12%) -> 425600 | O70: =F70+H70+J70+L70+N70 -> 2014000
A71: 2 | B71: a trưởng, c/sĩ DQTT | E71: ='PL1'!M7-E52 -> 27 | F71: =SUBTOTAL(9,F72:F88) -> 114777000 | G71: =E71 -> 27 | H71: =SUBTOTAL(9,H72:H88) -> 62822790 | I71: =E71 -> 27 | J71: =SUBTOTAL(9,J72:J88) -> 90639540 | K71: =E71 -> 27 | L71: =SUBTOTAL(9,L72:L88) -> 66482370 | M71: =E71 -> 27 | N71: =SUBTOTAL(9,N72:N88) -> 128550240 | O71: =SUBTOTAL(9,O72:O88) -> 463271940
B72: Quần áo | C72: Bộ | D72: 517000 | E72: =$E$71*2 -> 54 | F72: =E72*D72 -> 27918000 | G72: =G71*2 -> 54 | H72: =G72*(D72+D72*3%) -> 28755540 | I72: =$I$71*2 -> 54 | J72: =I72*(D72+D72*6%) -> 29593080 | K72: =$K$71*2 -> 54 | L72: =K72*(D72+D72*9%) -> 30430620 | M72: =$M$71*2 -> 54 | N72: =M72*(D72+D72*12%) -> 31268160 | O72: =F72+H72+J72+L72+N72 -> 147965400
B73: Mũ cứng | C73: Cái | D73: 155000 | E73: =$E$71 -> 27 | F73: =E73*D73 -> 4185000 | H73: =G73*(D73+D73*3%) -> 0 | I73: =$I$71 -> 27 | J73: =I73*(D73+D73*6%) -> 4436100 | L73: =K73*(D73+D73*9%) -> 0 | M73: =$M$71 -> 27 | N73: =M73*(D73+D73*12%) -> 4687200 | O73: =F73+H73+J73+L73+N73 -> 13308300
B74: Mũ mềm | C74: Cái | D74: 78000 | E74: =$E$71 -> 27 | F74: =E74*D74 -> 2106000 | H74: =G74*(D74+D74*3%) -> 0 | I74: =$I$71 -> 27 | J74: =I74*(D74+D74*6%) -> 2232360 | L74: =K74*(D74+D74*9%) -> 0 | M74: =$M$71 -> 27 | N74: =M74*(D74+D74*12%) -> 2358720 | O74: =F74+H74+J74+L74+N74 -> 6697080
B75: Giày vải | C75: Đôi | D75: 175000 | E75: =$E$71*2 -> 54 | F75: =E75*D75 -> 9450000 | G75: =G71*2 -> 54 | H75: =G75*(D75+D75*3%) -> 9733500 | I75: =$I$71*2 -> 54 | J75: =I75*(D75+D75*6%) -> 10017000 | K75: =$K$71*2 -> 54 | L75: =K75*(D75+D75*9%) -> 10300500 | M75: =$M$71*2 -> 54 | N75: =M75*(D75+D75*12%) -> 10584000 | O75: =F75+H75+J75+L75+N75 -> 50085000
B76: Tất chân | C76: Đôi | D76: 35000 | E76: =$E$71 -> 27 | F76: =E76*D76 -> 945000 | G76: =G71 -> 27 | H76: =G76*(D76+D76*3%) -> 973350 | I76: =$I$71 -> 27 | J76: =I76*(D76+D76*6%) -> 1001700 | K76: =$K$71 -> 27 | L76: =K76*(D76+D76*9%) -> 1030050 | M76: =$M$71 -> 27 | N76: =M76*(D76+D76*12%) -> 1058400 | O76: =F76+H76+J76+L76+N76 -> 5008500
B77: Dây lưng nhỏ | C77: Cái | D77: 75000 | E77: =$E$71 -> 27 | F77: =E77*D77 -> 2025000 | H77: =G77*(D77+D77*3%) -> 0 | I77: =$I$71 -> 27 | J77: =I77*(D77+D77*6%) -> 2146500 | L77: =K77*(D77+D77*9%) -> 0 | M77: =$M$71 -> 27 | N77: =M77*(D77+D77*12%) -> 2268000 | O77: =F77+H77+J77+L77+N77 -> 6439500
B78: Áo mưa | C78: Tấm | D78: 90000 | E78: =$E$71 -> 27 | F78: =E78*D78 -> 2430000 | H78: =G78*(D78+D78*3%) -> 0 | I78: =$I$71 -> 27 | J78: =I78*(D78+D78*6%) -> 2575800 | L78: =K78*(D78+D78*9%) -> 0 | M78: =$M$71 -> 27 | N78: =M78*(D78+D78*12%) -> 2721600 | O78: =F78+H78+J78+L78+N78 -> 7727400
B79: Quần lót | C79: Cái | D79: 58000 | E79: =$E$71*2 -> 54 | F79: =E79*D79 -> 3132000 | G79: =G71*2 -> 54 | H79: =G79*(D79+D79*3%) -> 3225960 | I79: =$I$71*2 -> 54 | J79: =I79*(D79+D79*6%) -> 3319920 | K79: =$K$71*2 -> 54 | L79: =K79*(D79+D79*9%) -> 3413880 | M79: =$M$71*2 -> 54 | N79: =M79*(D79+D79*12%) -> 3507840 | O79: =F79+H79+J79+L79+N79 -> 16599600
B80: Áo lót | C80: Cái | D80: 80000 | E80: =$E$71*2 -> 54 | F80: =E80*D80 -> 4320000 | G80: =G71*2 -> 54 | H80: =G80*(D80+D80*3%) -> 4449600 | I80: =$I$71*2 -> 54 | J80: =I80*(D80+D80*6%) -> 4579200 | K80: =$K$71*2 -> 54 | L80: =K80*(D80+D80*9%) -> 4708800 | M80: =$M$71*2 -> 54 | N80: =M80*(D80+D80*12%) -> 4838400 | O80: =F80+H80+J80+L80+N80 -> 22896000
B81: Khăn mặt | C81: Cái | D81: 50000 | E81: =$E$71*2 -> 54 | F81: =E81*D81 -> 2700000 | G81: =G71*2 -> 54 | H81: =G81*(D81+D81*3%) -> 2781000 | I81: =$I$71*2 -> 54 | J81: =I81*(D81+D81*6%) -> 2862000 | K81: =$K$71*2 -> 54 | L81: =K81*(D81+D81*9%) -> 2943000 | M81: =$M$71*2 -> 54 | N81: =M81*(D81+D81*12%) -> 3024000 | O81: =F81+H81+J81+L81+N81 -> 14310000
B82: Chăn | C82: Cái | D82: 280000 | E82: =$E$71 -> 27 | F82: =E82*D82 -> 7560000 | H82: =G82*(D82+D82*3%) -> 0 | I82: =$I$71 -> 27 | J82: =I82*(D82+D82*6%) -> 8013600 | L82: =K82*(D82+D82*9%) -> 0 | M82: =$M$71 -> 27 | N82: =M82*(D82+D82*12%) -> 8467200 | O82: =F82+H82+J82+L82+N82 -> 24040800
B83: Màn | C83: Cái | D83: 150000 | E83: =$E$71 -> 27 | F83: =E83*D83 -> 4050000 | H83: =G83*(D83+D83*3%) -> 0 | I83: =$I$71 -> 27 | J83: =I83*(D83+D83*6%) -> 4293000 | L83: =K83*(D83+D83*9%) -> 0 | M83: =$M$71 -> 27 | N83: =M83*(D83+D83*12%) -> 4536000 | O83: =F83+H83+J83+L83+N83 -> 12879000
B84: Gối | C84: Cái | D84: 80000 | E84: =$E$71 -> 27 | F84: =E84*D84 -> 2160000 | H84: =G84*(D84+D84*3%) -> 0 | I84: =$I$71 -> 27 | J84: =I84*(D84+D84*6%) -> 2289600 | L84: =K84*(D84+D84*9%) -> 0 | M84: =$M$71 -> 27 | N84: =M84*(D84+D84*12%) -> 2419200 | O84: =F84+H84+J84+L84+N84 -> 6868800
B85: Chiếu | C85: Cái | D85: 84000 | E85: =$E$71 -> 27 | F85: =E85*D85 -> 2268000 | G85: =G71 -> 27 | H85: =G85*(D85+D85*3%) -> 2336040 | I85: =$I$71 -> 27 | J85: =I85*(D85+D85*6%) -> 2404080 | K85: =$K$71 -> 27 | L85: =K85*(D85+D85*9%) -> 2472120 | M85: =$M$71 -> 27 | N85: =M85*(D85+D85*12%) -> 2540160 | O85: =F85+H85+J85+L85+N85 -> 12020400
B86: Đệm giường (bông ép) | C86: Cái | D86: 800000 | E86: =$E$71 -> 27 | F86: =E86*D86 -> 21600000 | H86: =G86*(D86+D86*3%) -> 0 | J86: =I86*(D86+D86*6%) -> 0 | L86: =K86*(D86+D86*9%) -> 0 | M86: =$M$71 -> 27 | N86: =M86*(D86+D86*12%) -> 24192000 | O86: =F86+H86+J86+L86+N86 -> 45792000
B87: Ba lô | C87: Cái | D87: 284000 | E87: =$E$71 -> 27 | F87: =E87*D87 -> 7668000 | H87: =G87*(D87+D87*3%) -> 0 | J87: =I87*(D87+D87*6%) -> 0 | L87: =K87*(D87+D87*9%) -> 0 | M87: =$M$71 -> 27 | N87: =M87*(D87+D87*12%) -> 8588160 | O87: =F87+H87+J87+L87+N87 -> 16256160
B88: Áo ấm | C88: Cái | D88: 380000 | E88: =$E$71 -> 27 | F88: =E88*D88 -> 10260000 | G88: =G71 -> 27 | H88: =G88*(D88+D88*3%) -> 10567800 | I88: =$I$71 -> 27 | J88: =I88*(D88+D88*6%) -> 10875600 | K88: =$K$71 -> 27 | L88: =K88*(D88+D88*9%) -> 11183400 | M88: =$M$71 -> 27 | N88: =M88*(D88+D88*12%) -> 11491200 | O88: =F88+H88+J88+L88+N88 -> 54378000
A89: VI | B89: Dân quân biển | E89: ='PL1'!V12-'PL1'!W12 -> 0 | F89: =SUBTOTAL(9,F90:F96) -> 0 | G89: ='PL1'!V12-'PL1'!W12 -> 0 | H89: =SUBTOTAL(9,H90:H96) -> 0 | I89: =G89 -> 0 | J89: =SUBTOTAL(9,J90:J96) -> 0 | K89: =E89 -> 0 | L89: =SUBTOTAL(9,L90:L96) -> 0 | M89: =E89 -> 0 | N89: =SUBTOTAL(9,N90:N96) -> 0 | O89: =SUBTOTAL(9,O90:O96) -> 0
B90: Quần áo | C90: Bộ | D90: 517000 | E90: =E89 -> 0 | F90: =E90*D90 -> 0 | G90: =G89 -> 0 | H90: =G90*(D90+D90*3%) -> 0 | I90: =$I$89 -> 0 | J90: =I90*(D90+D90*6%) -> 0 | K90: =K89 -> 0 | L90: =K90*(D90+D90*9%) -> 0 | M90: =$M$89 -> 0 | N90: =M90*(D90+D90*12%) -> 0 | O90: =F90+H90+J90+L90+N90 -> 0
B91: Mũ cứng | C91: Cái | D91: 155000 | E91: =E89 -> 0 | F91: =E91*D91 -> 0 | H91: =G91*(D91+D91*3%) -> 0 | I91: =$I$89 -> 0 | J91: =I91*(D91+D91*6%) -> 0 | L91: =K91*(D91+D91*9%) -> 0 | M91: =$M$89 -> 0 | N91: =M91*(D91+D91*12%) -> 0 | O91: =F91+H91+J91+L91+N91 -> 0
B92: Mũ mềm | C92: Cái | D92: 78000 | E92: =E91 -> 0 | F92: =E92*D92 -> 0 | H92: =G92*(D92+D92*3%) -> 0 | I92: =$I$89 -> 0 | J92: =I92*(D92+D92*6%) -> 0 | L92: =K92*(D92+D92*9%) -> 0 | M92: =$M$89 -> 0 | N92: =M92*(D92+D92*12%) -> 0 | O92: =F92+H92+J92+L92+N92 -> 0
B93: Giày vải | C93: Đôi | D93: 175000 | E93: =E92 -> 0 | F93: =E93*D93 -> 0 | G93: =G89 -> 0 | H93: =G93*(D93+D93*3%) -> 0 | I93: =$I$89 -> 0 | J93: =I93*(D93+D93*6%) -> 0 | K93: =K89 -> 0 | L93: =K93*(D93+D93*9%) -> 0 | M93: =$M$89 -> 0 | N93: =M93*(D93+D93*12%) -> 0 | O93: =F93+H93+J93+L93+N93 -> 0
B94: Tất chân | C94: Đôi | D94: 35000 | E94: =E89*2 -> 0 | F94: =E94*D94 -> 0 | G94: =G89*2 -> 0 | H94: =G94*(D94+D94*3%) -> 0 | I94: =$I$89*2 -> 0 | J94: =I94*(D94+D94*6%) -> 0 | K94: =K89*2 -> 0 | L94: =K94*(D94+D94*9%) -> 0 | M94: =$M$89*2 -> 0 | N94: =M94*(D94+D94*12%) -> 0 | O94: =F94+H94+J94+L94+N94 -> 0
B95: Dây lưng nhỏ | C95: Cái | D95: 75000 | E95: =E89 -> 0 | F95: =E95*D95 -> 0 | H95: =G95*(D95+D95*3%) -> 0 | I95: =$I$89 -> 0 | J95: =I95*(D95+D95*6%) -> 0 | L95: =K95*(D95+D95*9%) -> 0 | M95: =$M$89 -> 0 | N95: =M95*(D95+D95*12%) -> 0 | O95: =F95+H95+J95+L95+N95 -> 0
B96: Tấm đi mưa | C96: Tấm | D96: 90000 | E96: =E95 -> 0 | F96: =E96*D96 -> 0 | H96: =G96*(D96+D96*3%) -> 0 | J96: =I96*(D96+D96*6%) -> 0 | K96: =K89 -> 0 | L96: =K96*(D96+D96*9%) -> 0 | M96: =$M$89 -> 0 | N96: =M96*(D96+D96*12%) -> 0 | O96: =F96+H96+J96+L96+N96 -> 0
A97: V | B97: Tổ đội trưởng | E97: 22 | F97: =SUBTOTAL(9,F98:F105) -> 46046000 | G97: =E97 -> 22 | H97: =SUBTOTAL(9,H98:H105) -> 1586200 | I97: =E97 -> 22 | J97: =SUBTOTAL(9,J98:J105) -> 33464200 | K97: =E97 -> 22 | L97: =SUBTOTAL(9,L98:L105) -> 17457440 | M97: =E97 -> 22 | N97: =SUBTOTAL(9,N98:N105) -> 35358400 | O97: =SUBTOTAL(9,O98:O105) -> 133912240
B98: Quần áo | C98: Bộ | D98: 700000 | E98: =$E$97 -> 22 | F98: =E98*D98 -> 15400000 | H98: =G98*(D98+D98*3%) -> 0 | I98: =I97 -> 22 | J98: =I98*(D98+D98*6%) -> 16324000 | K98: 0 | L98: =K98*(D98+D98*9%) -> 0 | M98: =M97 -> 22 | N98: =M98*(D98+D98*12%) -> 17248000 | O98: =F98+H98+J98+L98+N98 -> 48972000
B99: Mũ cứng | C99: Cái | D99: 155000 | E99: =$E$97 -> 22 | F99: =E99*D99 -> 3410000 | H99: =G99*(D99+D99*3%) -> 0 | I99: 0 | J99: =I99*(D99+D99*6%) -> 0 | K99: =K97 -> 22 | L99: =K99*(D99+D99*9%) -> 3716900 | M99: 0 | N99: =M99*(D99+D99*12%) -> 0 | O99: =F99+H99+J99+L99+N99 -> 7126900
B100: Mũ mềm | C100: Cái | D100: 78000 | E100: =$E$97 -> 22 | F100: =E100*D100 -> 1716000 | H100: =G100*(D100+D100*3%) -> 0 | I100: 0 | J100: =I100*(D100+D100*6%) -> 0 | K100: =K97 -> 22 | L100: =K100*(D100+D100*9%) -> 1870440 | M100: 0 | N100: =M100*(D100+D100*12%) -> 0 | O100: =F100+H100+J100+L100+N100 -> 3586440
B101: Giày da | C101: Đôi | D101: 490000 | E101: =$E$97 -> 22 | F101: =E101*D101 -> 10780000 | H101: =G101*(D101+D101*3%) -> 0 | I101: =I97 -> 22 | J101: =I101*(D101+D101*6%) -> 11426800 | K101: 0 | L101: =K101*(D101+D101*9%) -> 0 | M101: =M97 -> 22 | N101: =M101*(D101+D101*12%) -> 12073600 | O101: =F101+H101+J101+L101+N101 -> 34280400
B102: Giày vải | C102: Đôi | D102: 175000 | E102: =$E$97 -> 22 | F102: =E102*D102 -> 3850000 | H102: =G102*(D102+D102*3%) -> 0 | I102: =I97 -> 22 | J102: =I102*(D102+D102*6%) -> 4081000 | K102: 0 | L102: =K102*(D102+D102*9%) -> 0 | M102: =M97 -> 22 | N102: =M102*(D102+D102*12%) -> 4312000 | O102: =F102+H102+J102+L102+N102 -> 12243000
...

Sheet PL2B
A1: Phụ lục 2B
A2: BẢO ĐẢM TRANG PHỤC CHO TỰ VỆ KHỐI CƠ QUAN, TỔ CHỨC NHÀ NƯỚC, TỔ CHỨC CHÍNH TRỊ, TỔ CHỨC CHÍNH TRỊ XÃ HỘI CÔNG LẬP (Kèm theo Đề án tổ chức lực lượng, huấn luyện, hoạt động và bảo đảm chế độ, chính sách cho Dân quân tự vệ trên địa bàn phường, giai đoạn 2026- 2030)
A5: TT | B5: Loại trang phục | C5: ĐVT | D5: Đơn giá (đồng) | E5: Năm 2026 | G5: Năm 2027 | I5: Năm 2028 | K5: Năm 2029 | M5: Năm 2030 | O5: Tổng 5 năm (đồng)
E6: SL | F6: Thành tiền (đồng) | G6: SL | H6: Thành tiền (đồng) | I6: SL | J6: Thành tiền (đồng) | K6: SL | L6: Thành tiền (đồng) | M6: SL | N6: Thành tiền (đồng)
A7: * | B7: CỘNG | E7: =E39+E8+E45 -> 99 | F7: =F39+F8+F45 -> 90585000 | G7: =G39+G8+G45 -> 0 | H7: =H39+H8+H45 -> 0 | I7: =I39+I8+I45 -> 99 | J7: =J39+J8+J45 -> 96020100 | K7: =K39+K8+K45 -> 0 | L7: =L39+L8+L45 -> 0 | ... O7: =O39+O8+O45 -> 288060300
A8: I | B8: Ban CHQS cơ quan, tổ chức | E8: =E9+E15+E21+E27 -> 0 | F8: =SUBTOTAL(9,F9:F32) -> 0 | G8: =G9+G15+G21+G27 -> 0 | H8: =SUBTOTAL(9,H9:H32) -> 0 | I8: =I9+I15+I21+I27 -> 0 | J8: =SUBTOTAL(9,J9:J32) -> 0 | K8: =K9+K15+K21+K27 -> 0 | L8: =SUBTOTAL(9,L9:L32) -> 0 | M8: =M9+M15+M21+M27 -> 0 | N8: =SUBTOTAL(9,N9:N32) -> 0 | O8: =SUBTOTAL(9,O9:O32) -> 0
A9: 1 | B9: Chỉ huy trưởng | E9: 0 | F9: =SUBTOTAL(9,F10:F14) -> 0 | H9: =SUBTOTAL(9,H10:H14) -> 0 | I9: =E9 -> 0 | J9: =SUBTOTAL(9,J10:J14) -> 0 | L9: =SUBTOTAL(9,L10:L14) -> 0 | M9: =E9 -> 0 | N9: =SUBTOTAL(9,N10:N14) -> 0 | O9: =SUBTOTAL(9,O10:O14) -> 0
B10: Quần áo | C10: Bộ | D10: 700000 | E10: =E$9 -> 0 | F10: =E10*D10 -> 0 | G10: =G9 -> 0 | H10: =G10*(D10+D10*3%) -> 0 | I10: =I$9 -> 0 | J10: =I10*(D10+D10*6%) -> 0 | K10: =K9 -> 0 | L10: =K10*(D10+D10*9%) -> 0 | M10: =M$9 -> 0 | N10: =M10*(D10+D10*12%) -> 0 | O10: =F10+H10+J10+L10+N10 -> 0
B11: Mũ mềm | C11: Cái | D11: 78000 | E11: =E$9 -> 0 | F11: =E11*D11 -> 0 | G11: =G10 -> 0 | H11: =G11*(D11+D11*3%) -> 0 | I11: =I$9 -> 0 | J11: =I11*(D11+D11*6%) -> 0 | K11: =K10 -> 0 | L11: =K11*(D11+D11*9%) -> 0 | M11: =M$9 -> 0 | N11: =M11*(D11+D11*12%) -> 0 | O11: =F11+H11+J11+L11+N11 -> 0
B12: Giày da | C12: Đôi | D12: 490000 | E12: =E$9 -> 0 | F12: =E12*D12 -> 0 | G12: =G11 -> 0 | H12: =G12*(D12+D12*3%) -> 0 | I12: =I$9 -> 0 | J12: =I12*(D12+D12*6%) -> 0 | K12: =K11 -> 0 | L12: =K12*(D12+D12*9%) -> 0 | M12: =M$9 -> 0 | N12: =M12*(D12+D12*12%) -> 0 | O12: =F12+H12+J12+L12+N12 -> 0
B13: Tất chân | C13: Đôi | D13: 35000 | E13: =E$9*2 -> 0 | F13: =E13*D13 -> 0 | G13: =G12 -> 0 | H13: =G13*(D13+D13*3%) -> 0 | I13: =I$9 -> 0 | J13: =I13*(D13+D13*6%) -> 0 | K13: =K12 -> 0 | L13: =K13*(D13+D13*9%) -> 0 | M13: =M$9 -> 0 | N13: =M13*(D13+D13*12%) -> 0 | O13: =F13+H13+J13+L13+N13 -> 0
B14: Dây lưng nhỏ | C14: Cái | D14: 75000 | E14: =E$9 -> 0 | F14: =E14*D14 -> 0 | G14: =G13 -> 0 | H14: =G14*(D14+D14*3%) -> 0 | I14: =I$9 -> 0 | J14: =I14*(D14+D14*6%) -> 0 | K14: =K13 -> 0 | L14: =K14*(D14+D14*9%) -> 0 | M14: =M$9 -> 0 | N14: =M14*(D14+D14*12%) -> 0 | O14: =F14+H14+J14+L14+N14 -> 0
A15: 2 | B15: Chính trị viên | E15: =E9 -> 0 | F15: =SUBTOTAL(9,F16:F20) -> 0 | H15: =SUBTOTAL(9,H16:H20) -> 0 | I15: =I9 -> 0 | J15: =SUBTOTAL(9,J16:J20) -> 0 | L15: =SUBTOTAL(9,L16:L20) -> 0 | M15: =M9 -> 0 | N15: =SUBTOTAL(9,N16:N20) -> 0 | O15: =SUBTOTAL(9,O16:O20) -> 0
B16: Quần áo | C16: Bộ | D16: 700000 | E16: =E$15 -> 0 | F16: =E16*D16 -> 0 | H16: =G16*(D16+D16*3%) -> 0 | I16: =I15 -> 0 | J16: =I16*(D16+D16*6%) -> 0 | K16: 0 | L16: =K16*(D16+D16*9%) -> 0 | M16: =M15 -> 0 | N16: =M16*(D16+D16*12%) -> 0 | O16: =F16+H16+J16+L16+N16 -> 0
B17: Mũ mềm | C17: Cái | D17: 78000 | E17: =E$15 -> 0 | F17: =E17*D17 -> 0 | H17: =G17*(D17+D17*3%) -> 0 | I17: =E17 -> 0 | J17: =I17*(D17+D17*6%) -> 0 | L17: =K17*(D17+D17*9%) -> 0 | M17: =E17 -> 0 | N17: =M17*(D17+D17*12%) -> 0 | O17: =F17+H17+J17+L17+N17 -> 0
B18: Giày da | C18: Đôi | D18: 490000 | E18: =E$15 -> 0 | F18: =E18*D18 -> 0 | H18: =G18*(D18+D18*3%) -> 0 | I18: =I15 -> 0 | J18: =I18*(D18+D18*6%) -> 0 | K18: 0 | L18: =K18*(D18+D18*9%) -> 0 | M18: =M15 -> 0 | N18: =M18*(D18+D18*12%) -> 0 | O18: =F18+H18+J18+L18+N18 -> 0
B19: Tất chân | C19: Đôi | D19: 35000 | E19: =E$15*2 -> 0 | F19: =E19*D19 -> 0 | H19: =G19*(D19+D19*3%) -> 0 | I19: =I15*2 -> 0 | J19: =I19*(D19+D19*6%) -> 0 | L19: =K19*(D19+D19*9%) -> 0 | M19: =M15*2 -> 0 | N19: =M19*(D19+D19*12%) -> 0 | O19: =F19+H19+J19+L19+N19 -> 0
B20: Dây lưng nhỏ | C20: Cái | D20: 75000 | E20: =E$15 -> 0 | F20: =E20*D20 -> 0 | H20: =G20*(D20+D20*3%) -> 0 | I20: =E20 -> 0 | J20: =I20*(D20+D20*6%) -> 0 | L20: =K20*(D20+D20*9%) -> 0 | M20: =E20 -> 0 | N20: =M20*(D20+D20*12%) -> 0 | O20: =F20+H20+J20+L20+N20 -> 0
A21: 3 | B21: Phó Chỉ huy trưởng | E21: =E9 -> 0 | F21: =SUBTOTAL(9,F22:F26) -> 0 | H21: =SUBTOTAL(9,H22:H26) -> 0 | I21: =E21 -> 0 | J21: =SUBTOTAL(9,J22:J26) -> 0 | L21: =SUBTOTAL(9,L22:L26) -> 0 | M21: =E21 -> 0 | N21: =SUBTOTAL(9,N22:N26) -> 0 | O21: =SUBTOTAL(9,O22:O26) -> 0
B22: Quần áo | C22: Bộ | D22: 700000 | E22: =E$21 -> 0 | F22: =E22*D22 -> 0 | H22: =G22*(D22+D22*3%) -> 0 | I22: =I$21 -> 0 | J22: =I22*(D22+D22*6%) -> 0 | L22: =K22*(D22+D22*9%) -> 0 | M22: =M$21 -> 0 | N22: =M22*(D22+D22*12%) -> 0 | O22: =F22+H22+J22+L22+N22 -> 0
B23: Mũ mềm | C23: Cái | D23: 78000 | E23: =E$21 -> 0 | F23: =E23*D23 -> 0 | H23: =G23*(D23+D23*3%) -> 0 | I23: =I$21 -> 0 | J23: =I23*(D23+D23*6%) -> 0 | L23: =K23*(D23+D23*9%) -> 0 | M23: =M$21 -> 0 | N23: =M23*(D23+D23*12%) -> 0 | O23: =F23+H23+J23+L23+N23 -> 0
B24: Giày da | C24: Đôi | D24: 490000 | E24: =E$21 -> 0 | F24: =E24*D24 -> 0 | H24: =G24*(D24+D24*3%) -> 0 | I24: =I$21 -> 0 | J24: =I24*(D24+D24*6%) -> 0 | L24: =K24*(D24+D24*9%) -> 0 | M24: =M$21 -> 0 | N24: =M24*(D24+D24*12%) -> 0 | O24: =F24+H24+J24+L24+N24 -> 0
B25: Tất chân | C25: Đôi | D25: 35000 | E25: =E$21*2 -> 0 | F25: =E25*D25 -> 0 | H25: =G25*(D25+D25*3%) -> 0 | I25: =I$21*2 -> 0 | J25: =I25*(D25+D25*6%) -> 0 | L25: =K25*(D25+D25*9%) -> 0 | M25: =M$21*2 -> 0 | N25: =M25*(D25+D25*12%) -> 0 | O25: =F25+H25+J25+L25+N25 -> 0
B26: Dây lưng nhỏ | C26: Cái | D26: 75000 | E26: =E$21 -> 0 | F26: =E26*D26 -> 0 | H26: =G26*(D26+D26*3%) -> 0 | I26: =I$21 -> 0 | J26: =I26*(D26+D26*6%) -> 0 | L26: =K26*(D26+D26*9%) -> 0 | M26: =M$21 -> 0 | N26: =M26*(D26+D26*12%) -> 0 | O26: =F26+H26+J26+L26+N26 -> 0
A27: 4 | B27: Chính trị viên phó | E27: =E15 -> 0 | F27: =SUBTOTAL(9,F28:F32) -> 0 | H27: =SUBTOTAL(9,H28:H32) -> 0 | I27: =E27 -> 0 | J27: =SUBTOTAL(9,J28:J32) -> 0 | L27: =SUBTOTAL(9,L28:L32) -> 0 | M27: =E27 -> 0 | N27: =SUBTOTAL(9,N28:N32) -> 0 | O27: =SUBTOTAL(9,O28:O32) -> 0
B28: Quần áo | C28: Bộ | D28: 700000 | E28: =$E$27 -> 0 | F28: =E28*D28 -> 0 | H28: =G28*(D28+D28*3%) -> 0 | I28: =I27 -> 0 | J28: =I28*(D28+D28*6%) -> 0 | K28: 0 | L28: =K28*(D28+D28*9%) -> 0 | M28: =M27 -> 0 | N28: =M28*(D28+D28*12%) -> 0 | O28: =F28+H28+J28+L28+N28 -> 0
B29: Mũ mềm | C29: Cái | D29: 78000 | E29: =$E$27 -> 0 | F29: =E29*D29 -> 0 | H29: =G29*(D29+D29*3%) -> 0 | I29: =I28 -> 0 | J29: =I29*(D29+D29*6%) -> 0 | K29: =K27 -> 0 | L29: =K29*(D29+D29*9%) -> 0 | M29: =E29 -> 0 | N29: =M29*(D29+D29*12%) -> 0 | O29: =F29+H29+J29+L29+N29 -> 0
B30: Giày da | C30: Đôi | D30: 490000 | E30: =$E$27 -> 0 | F30: =E30*D30 -> 0 | H30: =G30*(D30+D30*3%) -> 0 | I30: =I27 -> 0 | J30: =I30*(D30+D30*6%) -> 0 | K30: 0 | L30: =K30*(D30+D30*9%) -> 0 | M30: =M27 -> 0 | N30: =M30*(D30+D30*12%) -> 0 | O30: =F30+H30+J30+L30+N30 -> 0
B31: Tất chân | C31: Đôi | D31: 35000 | E31: =$E$27*2 -> 0 | F31: =E31*D31 -> 0 | H31: =G31*(D31+D31*3%) -> 0 | I31: =I27*2 -> 0 | J31: =I31*(D31+D31*6%) -> 0 | L31: =K31*(D31+D31*9%) -> 0 | M31: =M27*2 -> 0 | N31: =M31*(D31+D31*12%) -> 0 | O31: =F31+H31+J31+L31+N31 -> 0
B32: Dây lưng nhỏ | C32: Cái | D32: 75000 | E32: =$E$27 -> 0 | F32: =E32*D32 -> 0 | H32: =G32*(D32+D32*3%) -> 0 | I32: =E32 -> 0 | J32: =I32*(D32+D32*6%) -> 0 | K32: =K27 -> 0 | L32: =K32*(D32+D32*9%) -> 0 | M32: =E32 -> 0 | N32: =M32*(D32+D32*12%) -> 0 | O32: =F32+H32+J32+L32+N32 -> 0
A33: II | B33: Đại đôi đội trưởng PPK, PB, DQ tại chỗ | E33: 0 | F33: =SUBTOTAL(9,F34:F38) -> 0 | H33: =SUBTOTAL(9,H34:H38) -> 0 | I33: =E33 -> 0 | J33: =SUBTOTAL(9,J34:J38) -> 0 | L33: =SUBTOTAL(9,L34:L38) -> 0 | M33: =E33 -> 0 | N33: =SUBTOTAL(9,N34:N38) -> 0 | O33: =SUBTOTAL(9,O34:O38) -> 0
B34: Quần áo | C34: Bộ | D34: 700000 | E34: =$E$33 -> 0 | F34: =E34*D34 -> 0 | H34: =G34*(D34+D34*3%) -> 0 | I34: =$E$33 -> 0 | J34: =I34*(D34+D34*6%) -> 0 | L34: =K34*(D34+D34*9%) -> 0 | M34: =$E$33 -> 0 | N34: =M34*(D34+D34*12%) -> 0 | O34: =F34+H34+J34+L34+N34 -> 0
B35: Mũ mềm | C35: Cái | D35: 78000 | E35: =$E$33 -> 0 | F35: =E35*D35 -> 0 | H35: =G35*(D35+D35*3%) -> 0 | I35: =$E$33 -> 0 | J35: =I35*(D35+D35*6%) -> 0 | L35: =K35*(D35+D35*9%) -> 0 | M35: =$E$33 -> 0 | N35: =M35*(D35+D35*12%) -> 0 | O35: =F35+H35+J35+L35+N35 -> 0
B36: Giày da | C36: Đôi | D36: 490000 | E36: =$E$33 -> 0 | F36: =E36*D36 -> 0 | H36: =G36*(D36+D36*3%) -> 0 | I36: =$E$33 -> 0 | J36: =I36*(D36+D36*6%) -> 0 | L36: =K36*(D36+D36*9%) -> 0 | M36: =$E$33 -> 0 | N36: =M36*(D36+D36*12%) -> 0 | O36: =F36+H36+J36+L36+N36 -> 0
B37: Tất chân | C37: Đôi | D37: 35000 | E37: =$E$33*2 -> 0 | F37: =E37*D37 -> 0 | H37: =G37*(D37+D37*3%) -> 0 | I37: =$E$33*2 -> 0 | J37: =I37*(D37+D37*6%) -> 0 | L37: =K37*(D37+D37*9%) -> 0 | M37: =$E$33*2 -> 0 | N37: =M37*(D37+D37*12%) -> 0 | O37: =F37+H37+J37+L37+N37 -> 0
B38: Dây lưng nhỏ | C38: Cái | D38: 75000 | E38: =$E$33 -> 0 | F38: =E38*D38 -> 0 | H38: =G38*(D38+D38*3%) -> 0 | I38: =$E$33 -> 0 | J38: =I38*(D38+D38*6%) -> 0 | L38: =K38*(D38+D38*9%) -> 0 | M38: =$E$33 -> 0 | N38: =M38*(D38+D38*12%) -> 0 | O38: =F38+H38+J38+L38+N38 -> 0
A39: II | B39: Trung đội trưởng DQ tại chỗ | E39: 0 | F39: =SUBTOTAL(9,F40:F44) -> 0 | H39: =SUBTOTAL(9,H40:H44) -> 0 | I39: =E39 -> 0 | J39: =SUBTOTAL(9,J40:J44) -> 0 | L39: =SUBTOTAL(9,L40:L44) -> 0 | M39: =E39 -> 0 | N39: =SUBTOTAL(9,N40:N44) -> 0 | O39: =SUBTOTAL(9,O40:O44) -> 0
B40: Quần áo | C40: Bộ | D40: 700000 | E40: =$E$39 -> 0 | F40: =E40*D40 -> 0 | H40: =G40*(D40+D40*3%) -> 0 | I40: =$I$39 -> 0 | J40: =I40*(D40+D40*6%) -> 0 | L40: =K40*(D40+D40*9%) -> 0 | M40: =$M$39 -> 0 | N40: =M40*(D40+D40*12%) -> 0 | O40: =F40+H40+J40+L40+N40 -> 0
B41: Mũ mềm | C41: Cái | D41: 78000 | E41: =$E$39 -> 0 | F41: =E41*D41 -> 0 | H41: =G41*(D41+D41*3%) -> 0 | I41: =$I$39 -> 0 | J41: =I41*(D41+D41*6%) -> 0 | L41: =K41*(D41+D41*9%) -> 0 | M41: =$M$39 -> 0 | N41: =M41*(D41+D41*12%) -> 0 | O41: =F41+H41+J41+L41+N41 -> 0
B42: Giày da | C42: Đôi | D42: 490000 | E42: =$E$39 -> 0 | F42: =E42*D42 -> 0 | H42: =G42*(D42+D42*3%) -> 0 | I42: =$I$39 -> 0 | J42: =I42*(D42+D42*6%) -> 0 | L42: =K42*(D42+D42*9%) -> 0 | M42: =$M$39 -> 0 | N42: =M42*(D42+D42*12%) -> 0 | O42: =F42+H42+J42+L42+N42 -> 0
B43: Tất chân | C43: Đôi | D43: 35000 | E43: =$E$39*2 -> 0 | F43: =E43*D43 -> 0 | H43: =G43*(D43+D43*3%) -> 0 | I43: =$I$39*2 -> 0 | J43: =I43*(D43+D43*6%) -> 0 | L43: =K43*(D43+D43*9%) -> 0 | M43: =$M$39*2 -> 0 | N43: =M43*(D43+D43*12%) -> 0 | O43: =F43+H43+J43+L43+N43 -> 0
B44: Dây lưng nhỏ | C44: Cái | D44: 75000 | E44: =$E$39 -> 0 | F44: =E44*D44 -> 0 | H44: =G44*(D44+D44*3%) -> 0 | I44: =$I$39 -> 0 | J44: =I44*(D44+D44*6%) -> 0 | L44: =K44*(D44+D44*9%) -> 0 | M44: =$M$39 -> 0 | N44: =M44*(D44+D44*12%) -> 0 | O44: =F44+H44+J44+L44+N44 -> 0
A45: III | B45: Tự vệ tại chỗ | E45: 99 | F45: =SUBTOTAL(9,F46:F50) -> 90585000 | H45: =SUBTOTAL(9,H46:H50) -> 0 | I45: =E45 -> 99 | J45: =SUBTOTAL(9,J46:J50) -> 96020100 | L45: =SUBTOTAL(9,L46:L50) -> 0 | M45: =E45 -> 99 | N45: =SUBTOTAL(9,N46:N50) -> 101455200 | O45: =SUBTOTAL(9,O46:O50) -> 288060300
B46: Quần áo | C46: Bộ | D46: 517000 | E46: =E45*1 -> 99 | F46: =E46*D46 -> 51183000 | H46: =G46*(D46+D46*3%) -> 0 | I46: =E46 -> 99 | J46: =I46*(D46+D46*6%) -> 54253980 | L46: =K46*(D46+D46*9%) -> 0 | M46: =E46 -> 99 | N46: =M46*(D46+D46*12%) -> 57324960 | O46: =F46+H46+J46+L46+N46 -> 162761940
B47: Mũ mềm | C47: Cái | D47: 78000 | E47: =$E$45 -> 99 | F47: =E47*D47 -> 7722000 | H47: =G47*(D47+D47*3%) -> 0 | I47: =E47 -> 99 | J47: =I47*(D47+D47*6%) -> 8185320 | L47: =K47*(D47+D47*9%) -> 0 | M47: =E47 -> 99 | N47: =M47*(D47+D47*12%) -> 8648640 | O47: =F47+H47+J47+L47+N47 -> 24555960
B48: Giày vải | C48: Đôi | D48: 175000 | E48: =$E$45 -> 99 | F48: =E48*D48 -> 17325000 | H48: =G48*(D48+D48*3%) -> 0 | I48: =$E$45 -> 99 | J48: =I48*(D48+D48*6%) -> 18364500 | L48: =K48*(D48+D48*9%) -> 0 | M48: =$E$45 -> 99 | N48: =M48*(D48+D48*12%) -> 19404000 | O48: =F48+H48+J48+L48+N48 -> 55093500
B49: Tất chân | C49: Đôi | D49: 35000 | E49: =E46*2 -> 198 | F49: =E49*D49 -> 6930000 | H49: =G49*(D49+D49*3%) -> 0 | I49: =E49 -> 198 | J49: =I49*(D49+D49*6%) -> 7345800 | L49: =K49*(D49+D49*9%) -> 0 | M49: =E49 -> 198 | N49: =M49*(D49+D49*12%) -> 7761600 | O49: =F49+H49+J49+L49+N49 -> 22037400
B50: Dây lưng nhỏ | C50: Cái | D50: 75000 | E50: =$E$45 -> 99 | F50: =E50*D50 -> 7425000 | H50: =G50*(D50+D50*3%) -> 0 | I50: =$E$45 -> 99 | J50: =I50*(D50+D50*6%) -> 7870500 | L50: =K50*(D50+D50*9%) -> 0 | M50: =$E$45 -> 99 | N50: =M50*(D50+D50*12%) -> 8316000 | O50: =F50+H50+J50+L50+N50 -> 23611500

Sheet PL3
A1: Phụ lục 3
A2: KINH PHÍ BẢO ĐẢM PHỤ CẤP THÁNG, PHỤ CẤP CHỨC VỤ, PHỤ CẤP THÂM NIÊN, PHỤ CẤP ĐẶC THÙ QUỐC PHÒNG QUÂN SỰ (Kèm theo Đề án tổ chức lực lượng, huấn luyện, hoạt động và bảo đảm chế độ, chính sách cho Dân quân tự vệ trên địa bàn phường, giai đoạn 2026- 2030)
A4: TT | B4: Đối tượng chế độ hưởng | C4: Mức hưởng bình quân /người /năm | H4: Năm 2026 | J4: Năm 2027 | L4: Năm 2028 | N4: Năm 2029 | P4: Năm 2030 | R4: Tổng 5 năm (đồng)
H5: Số người | I5: Thành tiền (đồng) | J5: Số người | K5: Thành tiền (đồng) | L5: Số người | M5: Thành tiền (đồng) | N5: Số người | O5: Thành tiền (đồng) | P5: Số người | Q5: Thành tiền (đồng)
A6: * | B6: TỔNG CỘNG | H6: =H7+H11+H15+H29 -> 146 | I6: =SUBTOTAL(9,I7:I37) -> 1180857600 | J6: =J7+J11+J15+J29 -> 146 | K6: =SUBTOTAL(9,K7:K37) -> 1180857600 | L6: =L7+L11+L15+L29 -> 146 | M6: =SUBTOTAL(9,M7:M37) -> 1180857600 | N6: =N7+N11+N15+N29 -> 146 | O6: =SUBTOTAL(9,O7:O37) -> 1180857600 | P6: =P7+P11+P15+P29 -> 146 | Q6: =SUBTOTAL(9,Q7:Q37) -> 1180857600 | R6: =SUBTOTAL(9,R7:R37) -> 5904288000
A7: I | B7: Các chức vụ Chỉ huy Ban CHQS cấp xã | D7: Hệ số lương bình quân CHT:3.0, CHTV: 3.8, CTVP: 3.0; PCHT: 2.1 | H7: =H8 -> 0 | I7: =SUBTOTAL(9,I8:I10) -> 0 | J7: =J8 -> 0 | K7: =SUBTOTAL(9,K8:K10) -> 0 | L7: =L8 -> 0 | M7: =SUBTOTAL(9,M8:M10) -> 0 | N7: =N8 -> 0 | O7: =SUBTOTAL(9,O8:O10) -> 0 | P7: =P8 -> 0 | Q7: =SUBTOTAL(9,Q8:Q10) -> 0 | R7: =SUBTOTAL(9,R8:R10) -> 0
B8: Chính trị viên | H8: =PL2A!E9 -> 0 | I8: =SUBTOTAL(9,I9:I10) -> 0 | J8: =H8 -> 0 | K8: =SUBTOTAL(9,K9:K10) -> 0 | L8: =H8 -> 0 | M8: =SUBTOTAL(9,M9:M10) -> 0 | N8: =H8 -> 0 | O8: =SUBTOTAL(9,O9:O10) -> 0 | P8: =H8 -> 0 | Q8: =SUBTOTAL(9,Q9:Q10) -> 0 | R8: =SUBTOTAL(9,R9:R10) -> 0
B9: Phụ cấp chức vụ | C9: =561600*12 -> 6739200 | H9: =H8 -> 0 | I9: =$C9*H9 -> 0 | J9: =H9 -> 0 | K9: =$C9*J9 -> 0 | L9: =H9 -> 0 | M9: =$C9*L9 -> 0 | N9: =H9 -> 0 | O9: =$C9*N9 -> 0 | P9: =H9 -> 0 | Q9: =$C9*P9 -> 0 | R9: =I9+K9+M9+O9+Q9 -> 0
B10: Phụ cấp thâm niên | C10: =ROUND(((3*2340000)+561600)*5%,0)*12 -> 4548960 | D10: =ROUND(((3.8*2340000)+561600)*6%,0)*12 -> 6806592 | E10: =ROUND(((3.8*2340000)+561600)*7%,0)*12 -> 7941024 | F10: =ROUND(((3.8*2340000)+561600)*8%,0)*12 -> 9075456 | G10: =ROUND(((3.8*2340000)+561600)*9%,0)*12 -> 10209888 | H10: =H9 -> 0 | I10: =$C10*H10 -> 0 | J10: =H10 -> 0 | K10: =D10*J10 -> 0 | L10: =H10 -> 0 | M10: =E10*L10 -> 0 | N10: =H10 -> 0 | O10: =F10*N10 -> 0 | P10: =H10 -> 0 | Q10: =G10*P10 -> 0 | R10: =I10+K10+M10+O10+Q10 -> 0
A11: II | B11: Tổ đội trưởng | H11: =PL2A!E97 -> 22 | I11: =SUBTOTAL(9,I12:I14) -> 832946400 | J11: =H11 -> 22 | K11: =SUBTOTAL(9,K12:K14) -> 832946400 | L11: =H11 -> 22 | M11: =SUBTOTAL(9,M12:M14) -> 832946400 | N11: =H11 -> 22 | O11: =SUBTOTAL(9,O12:O14) -> 832946400 | P11: =H11 -> 22 | Q11: =SUBTOTAL(9,Q12:Q14) -> 832946400 | R11: =SUBTOTAL(9,R12:R14) -> 4164732000
B12: Phụ cấp tháng | C12: 25740000 | H12: =H$11 -> 22 | I12: =$C12*H12 -> 566280000 | J12: =J$11 -> 22 | K12: =$C12*J12 -> 566280000 | L12: =L$11 -> 22 | M12: =$C12*L12 -> 566280000 | N12: =N$11 -> 22 | O12: =$C12*N12 -> 566280000 | P12: =P$11 -> 22 | Q12: =$C12*P12 -> 566280000 | R12: =I12+K12+M12+O12+Q12 -> 2831400000
B13: Phụ cấp chức vụ | C13: 6177600 | H13: =H$11 -> 22 | I13: =$C13*H13 -> 135907200 | J13: =J$11 -> 22 | K13: =$C13*J13 -> 135907200 | L13: =L$11 -> 22 | M13: =$C13*L13 -> 135907200 | N13: =N$11 -> 22 | O13: =$C13*N13 -> 135907200 | P13: =P$11 -> 22 | Q13: =$C13*P13 -> 135907200 | R13: =I13+K13+M13+O13+Q13 -> 679536000
B14: Phụ cấp kiêm nhiệm | C14: 5943600 | H14: =H$11 -> 22 | I14: =$C14*H14 -> 130759200 | J14: =J$11 -> 22 | K14: =$C14*J14 -> 130759200 | L14: =L$11 -> 22 | M14: =$C14*L14 -> 130759200 | N14: =N$11 -> 22 | O14: =$C14*N14 -> 130759200 | P14: =P$11 -> 22 | Q14: =$C14*P14 -> 130759200 | R14: =I14+K14+M14+O14+Q14 -> 653796000
A15: III | B15: Phụ cấp chức vụ chỉ huy đơn vị DQ | H15: =SUBTOTAL(9,H16:H28) -> 108 | I15: =SUBTOTAL(9,I16:I28) -> 318988800 | J15: =SUBTOTAL(9,J16:J28) -> 108 | K15: =SUBTOTAL(9,K16:K28) -> 318988800 | L15: =SUBTOTAL(9,L16:L28) -> 108 | M15: =SUBTOTAL(9,M16:M28) -> 318988800 | N15: =SUBTOTAL(9,N16:N28) -> 108 | O15: =SUBTOTAL(9,O16:O28) -> 318988800 | ... R15: =SUBTOTAL(9,R16:R28) -> 1594944000
A16: 1 | B16: Hải đội trưởng DQTT | C16: =514800*12 -> 6177600 | H16: ='PL1'!N7 -> 0 | I16: =$C16*H16 -> 0 | J16: =H16 -> 0 | K16: =$C16*J16 -> 0 | L16: =H16 -> 0 | M16: =$C16*L16 -> 0 | N16: =H16 -> 0 | O16: =$C16*N16 -> 0 | P16: =H16 -> 0 | Q16: =$C16*P16 -> 0 | R16: =I16+K16+M16+O16+Q16 -> 0
A17: 2 | B17: CTV Hải đội DQTT | C17: =514800*12 -> 6177600 | H17: =H16 -> 0 | I17: =$C17*H17 -> 0 | J17: =J16 -> 0 | K17: =$C17*J17 -> 0 | L17: =L16 -> 0 | M17: =$C17*L17 -> 0 | N17: =N16 -> 0 | O17: =$C17*N17 -> 0 | P17: =P16 -> 0 | Q17: =$C17*P17 -> 0 | R17: =I17+K17+M17+O17+Q17 -> 0
A18: 3 | B18: Phó Hải đội trưởng DQTT | C18: =491400*12 -> 5896800 | H18: =H16 -> 0 | I18: =$C18*H18 -> 0 | J18: =J16 -> 0 | K18: =$C18*J18 -> 0 | L18: =L16 -> 0 | M18: =$C18*L18 -> 0 | N18: =N16 -> 0 | O18: =$C18*N18 -> 0 | P18: =P16 -> 0 | Q18: =$C18*P18 -> 0 | R18: =I18+K18+M18+O18+Q18 -> 0
A19: 4 | B19: Đại đội trưởng cPK, cPB | C19: =468000*12 -> 5616000 | H19: 0 | I19: =$C19*H19 -> 0 | J19: 0 | K19: =$C19*J19 -> 0 | L19: 0 | M19: =$C19*L19 -> 0 | N19: 0 | O19: =$C19*N19 -> 0 | P19: 0 | Q19: =$C19*P19 -> 0 | R19: =I19+K19+M19+O19+Q19 -> 0
A20: 5 | B20: Chính trị viên cPK, cPB | C20: =468000*12 -> 5616000 | H20: 0 | I20: =$C20*H20 -> 0 | J20: =J19 -> 0 | K20: =$C20*J20 -> 0 | L20: =L19 -> 0 | M20: =$C20*L20 -> 0 | N20: =N19 -> 0 | O20: =$C20*N20 -> 0 | P20: =P19 -> 0 | Q20: =$C20*P20 -> 0 | R20: =I20+K20+M20+O20+Q20 -> 0
A21: 6 | B21: Phó Đại đội trưởng cPK, cPB | C21: =351000*12 -> 4212000 | H21: =H19 -> 0 | I21: =$C21*H21 -> 0 | J21: =J19 -> 0 | K21: =$C21*J21 -> 0 | L21: =L19 -> 0 | M21: =$C21*L21 -> 0 | N21: =N19 -> 0 | O21: =$C21*N21 -> 0 | P21: =P19 -> 0 | Q21: =$C21*P21 -> 0 | R21: =I21+K21+M21+O21+Q21 -> 0
A22: 7 | B22: Chính trị viên phó cPK, cPB | C22: =351000*12 -> 4212000 | H22: =H19 -> 0 | I22: =$C22*H22 -> 0 | J22: =J20 -> 0 | K22: =$C22*J22 -> 0 | L22: =L20 -> 0 | M22: =$C22*L22 -> 0 | N22: =N20 -> 0 | O22: =$C22*N22 -> 0 | P22: =P20 -> 0 | Q22: =$C22*P22 -> 0 | R22: =I22+K22+M22+O22+Q22 -> 0
A23: 8 | B23: Thuyền trưởng Hải đội DQTT | C23: =280800*12 -> 3369600 | H23: 0 | I23: =$C23*H23 -> 0 | J23: =H23 -> 0 | K23: =$C23*J23 -> 0 | L23: =H23 -> 0 | M23: =$C23*L23 -> 0 | N23: =H23 -> 0 | O23: =$C23*N23 -> 0 | P23: =H23 -> 0 | Q23: =$C23*P23 -> 0 | R23: =I23+K23+M23+O23+Q23 -> 0
A24: 1 | B24: Trung đội trưởng DQTT | C24: =468000*12 -> 5616000 | H24: ='PL1'!$O$7 -> 1 | I24: =$C24*H24 -> 5616000 | J24: =H24 -> 1 | K24: =$C24*J24 -> 5616000 | L24: =H24 -> 1 | M24: =$C24*L24 -> 5616000 | N24: =H24 -> 1 | O24: =$C24*N24 -> 5616000 | P24: =H24 -> 1 | Q24: =$C24*P24 -> 5616000 | R24: =I24+K24+M24+O24+Q24 -> 28080000
A25: 2 | B25: Tiểu đội trưởng DQTT | C25: =280800*12 -> 3369600 | H25: 3 | I25: =$C25*H25 -> 10108800 | J25: =H25 -> 3 | K25: =$C25*J25 -> 10108800 | L25: =H25 -> 3 | M25: =$C25*L25 -> 10108800 | N25: =H25 -> 3 | O25: =$C25*N25 -> 10108800 | P25: =H25 -> 3 | Q25: =$C25*P25 -> 10108800 | R25: =I25+K25+M25+O25+Q25 -> 50544000
A26: 3 | B26: Trung đội trưởng CĐ | C26: =468000*12 -> 5616000 | H26: =PL2A!E106 -> 3 | I26: =$C26*H26 -> 16848000 | J26: =H26 -> 3 | K26: =$C26*J26 -> 16848000 | L26: =H26 -> 3 | M26: =$C26*L26 -> 16848000 | N26: =H26 -> 3 | O26: =$C26*N26 -> 16848000 | P26: =H26 -> 3 | Q26: =$C26*P26 -> 16848000 | R26: =I26+K26+M26+O26+Q26 -> 84240000
A27: 4 | B27: Trung đội trưởng DQ | C27: =280800*12 -> 3369600 | H27: =PL2A!E115-SUM(H19:H22) -> 5 | I27: =$C27*H27 -> 16848000 | J27: =H27 -> 5 | K27: =$C27*J27 -> 16848000 | L27: =H27 -> 5 | M27: =$C27*L27 -> 16848000 | N27: =H27 -> 5 | O27: =$C27*N27 -> 16848000 | P27: =H27 -> 5 | Q27: =$C27*P27 -> 16848000 | R27: =I27+K27+M27+O27+Q27 -> 84240000
A28: 5 | B28: Tiểu đội trưởng, KĐT | C28: =234000*12 -> 2808000 | H28: 96 | I28: =$C28*H28 -> 269568000 | J28: =H28 -> 96 | K28: =$C28*J28 -> 269568000 | L28: =H28 -> 96 | M28: =$C28*L28 -> 269568000 | N28: =H28 -> 96 | O28: =$C28*N28 -> 269568000 | P28: =H28 -> 96 | Q28: =$C28*P28 -> 269568000 | R28: =I28+K28+M28+O28+Q28 -> 1347840000
A29: IV | B29: Phụ cấp đặc thù QPQS | H29: =SUBTOTAL(9,H30:H37) -> 16 | I29: =SUBTOTAL(9,I30:I37) -> 28922400 | J29: =SUBTOTAL(9,J30:J37) -> 16 | K29: =SUBTOTAL(9,K30:K37) -> 28922400 | L29: =SUBTOTAL(9,L30:L37) -> 16 | M29: =SUBTOTAL(9,M30:M37) -> 28922400 | N29: =SUBTOTAL(9,N30:N37) -> 16 | O29: =SUBTOTAL(9,O30:O37) -> 28922400 | ... R29: =SUBTOTAL(9,R30:R37) -> 144612000
A30: 1 | B30: Hải đội trưởng DQTT | C30: =ROUND(C16*50%,0) -> 3088800 | D30: =ROUND(D16*50%,0) -> 0 | E30: =ROUND(E16*50%,0) -> 0 | F30: =ROUND(F16*50%,0) -> 0 | G30: =ROUND(G16*50%,0) -> 0 | H30: =H16 -> 0 | I30: =$C30*H30 -> 0 | J30: =H30 -> 0 | K30: =$C30*J30 -> 0 | L30: =H30 -> 0 | M30: =$C30*L30 -> 0 | N30: ='PL1'!N7 -> 0 | O30: =$C30*N30 -> 0 | P30: =N30 -> 0 | Q30: =$C30*P30 -> 0 | R30: =I30+K30+M30+O30+Q30 -> 0
A31: 2 | B31: CTV Hải đội DQTT | C31: =ROUND(C17*50%,0) -> 3088800 | D31: =ROUND(D17*50%,0) -> 0 | E31: =ROUND(E17*50%,0) -> 0 | F31: =ROUND(F17*50%,0) -> 0 | G31: =ROUND(G17*50%,0) -> 0 | H31: =H17 -> 0 | I31: =$C31*H31 -> 0 | J31: =H31 -> 0 | K31: =$C31*J31 -> 0 | L31: =H31 -> 0 | M31: =$C31*L31 -> 0 | N31: =N30 -> 0 | O31: =$C31*N31 -> 0 | P31: =P30 -> 0 | Q31: =$C31*P31 -> 0 | R31: =I31+K31+M31+O31+Q31 -> 0
A32: 3 | B32: Phó Hải đội trưởng DQTT | C32: =ROUND(312900*50%*12,0) -> 1877400 | D32: =ROUND(D18*50%,0) -> 0 | E32: =ROUND(E18*50%,0) -> 0 | F32: =ROUND(F18*50%,0) -> 0 | G32: =ROUND(G18*50%,0) -> 0 | H32: =H18 -> 0 | I32: =$C32*H32 -> 0 | J32: =H32 -> 0 | K32: =$C32*J32 -> 0 | L32: =H32 -> 0 | M32: =$C32*L32 -> 0 | N32: =N30 -> 0 | O32: =$C32*N32 -> 0 | P32: =P30 -> 0 | Q32: =$C32*P32 -> 0 | R32: =I32+K32+M32+O32+Q32 -> 0
A33: 4 | B33: Thuyền trưởng HĐ DQTT | C33: =ROUND(C23*50%,0) -> 1684800 | D33: =ROUND(D23*50%,0) -> 0 | E33: =ROUND(E23*50%,0) -> 0 | F33: =ROUND(F23*50%,0) -> 0 | G33: =ROUND(G23*50%,0) -> 0 | H33: =H23 -> 0 | I33: =$C33*H33 -> 0 | J33: =H33 -> 0 | K33: =$C33*J33 -> 0 | L33: =H33 -> 0 | M33: =$C33*L33 -> 0 | N33: =H33 -> 0 | O33: =$C33*N33 -> 0 | P33: =H33 -> 0 | Q33: =$C33*P33 -> 0 | R33: =I33+K33+M33+O33+Q33 -> 0
A34: 1 | B34: Trung đội trưởng DQTT | C34: =ROUND(C24*50%,0) -> 2808000 | H34: =H24 -> 1 | I34: =$C34*H34 -> 2808000 | J34: =H34 -> 1 | K34: =$C34*J34 -> 2808000 | L34: =H34 -> 1 | M34: =$C34*L34 -> 2808000 | N34: =H34 -> 1 | O34: =$C34*N34 -> 2808000 | P34: =H34 -> 1 | Q34: =$C34*P34 -> 2808000 | R34: =I34+K34+M34+O34+Q34 -> 14040000
A35: 2 | B35: Trung đội trưởng DQCĐ | C35: =ROUND(C26*50%,0) -> 2808000 | D35: =ROUND(D26*50%,0) -> 0 | E35: =ROUND(E26*50%,0) -> 0 | F35: =ROUND(F26*50%,0) -> 0 | G35: =ROUND(G26*50%,0) -> 0 | H35: =PL2A!E106 -> 3 | I35: =$C35*H35 -> 8424000 | J35: =H35 -> 3 | K35: =$C35*J35 -> 8424000 | L35: =H35 -> 3 | M35: =$C35*L35 -> 8424000 | N35: =H35 -> 3 | O35: =$C35*N35 -> 8424000 | P35: =H35 -> 3 | Q35: =$C35*P35 -> 8424000 | R35: =I35+K35+M35+O35+Q35 -> 42120000
A36: 3 | B36: Tiểu đội trưởng DQTT | C36: =ROUND(C25*50%,0) -> 1684800 | H36: =H25 -> 3 | I36: =$C36*H36 -> 5054400 | J36: =H36 -> 3 | K36: =$C36*J36 -> 5054400 | L36: =H36 -> 3 | M36: =$C36*L36 -> 5054400 | N36: =H36 -> 3 | O36: =$C36*N36 -> 5054400 | P36: =H36 -> 3 | Q36: =$C36*P36 -> 5054400 | R36: =I36+K36+M36+O36+Q36 -> 25272000
A37: 4 | B37: Tiểu đội trưởng DQCĐ | C37: =ROUND(C28*50%,0) -> 1404000 | D37: =ROUND(D28*50%,0) -> 0 | E37: =ROUND(E28*50%,0) -> 0 | F37: =ROUND(F28*50%,0) -> 0 | G37: =ROUND(G28*50%,0) -> 0 | H37: ='PL1'!L7*3 -> 9 | I37: =$C37*H37 -> 12636000 | J37: =H37 -> 9 | K37: =$C37*J37 -> 12636000 | L37: =H37 -> 9 | M37: =$C37*L37 -> 12636000 | N37: =H37 -> 9 | O37: =$C37*N37 -> 12636000 | P37: =H37 -> 9 | Q37: =$C37*P37 -> 12636000 | R37: =I37+K37+M37+O37+Q37 -> 63180000

Sheet PL4
A1: Phụ lục 4
A2: KINH PHÍ BẢO ĐẢM TIỀN ĂN, TRỢ CẤP NGÀY CÔNG LAO ĐỘNG TẬP HUẤN; HUẤN LUYỆN; HỘI THI, HỘI THAO; DIỄN TẬP; PHỤ CẤP ĐẶC THÙ ĐI BIỂN; BHYT, BHXH, TRỢ CẤP MỘT LẦN ĐỐI VỚI DQTT; TRỰC SẴN SÀNG CHIẾN ĐẤU LỄ, TẾT (Kèm theo Đề án tổ chức lực lượng, huấn luyện, hoạt động và bảo đảm chế độ, chính sách cho Dân quân tự vệ trên địa bàn phường, giai đoạn 2026- 2030)
A4: TT | B4: Đối tượng chế độ hưởng | C4: Mức hưởng /người /ngày | D4: Năm 2026 | G4: Năm 2027 | J4: Năm 2028 | M4: Năm 2029 | P4: Năm 2030 | S4: Tổng 5 năm (đồng) | T4: Ghi chú
D5: Số người | E5: Số ngày huy động | F5: Thành tiền (đồng) | G5: Số người | H5: Số ngày huy động | I5: Thành tiền (đồng) | J5: Số người | K5: Số ngày huy động | L5: Thành tiền (đồng) | M5: Số người | N5: Số ngày huy động | O5: Thành tiền (đồng) | P5: Số người | Q5: Số ngày huy động | R5: Thành tiền (đồng)
A6: * | B6: TỔNG (A+B+C+D+E) | D6: =SUBTOTAL(9,D7:D95) -> 6600 | E6: =SUBTOTAL(9,E7:E95) -> 1421 | F6: =SUBTOTAL(9,F7:F95) -> 13105738580 | G6: =SUBTOTAL(9,G7:G95) -> 4484 | H6: =SUBTOTAL(9,H7:H95) -> 1397 | I6: =SUBTOTAL(9,I7:I95) -> 9603644180 | J6: =SUBTOTAL(9,J7:J95) -> 4484 | K6: =SUBTOTAL(9,K7:K95) -> 1397 | ... S6: =SUBTOTAL(9,S7:S95) -> 53702131300
A7: A | B7: TẬP HUẤN CÁN BỘ | F7: =SUBTOTAL(9,F8:F13) -> 277722000 | I7: =SUBTOTAL(9,I8:I13) -> 277722000 | L7: =SUBTOTAL(9,L8:L13) -> 277722000 | O7: =SUBTOTAL(9,O8:O13) -> 277722000 | R7: =SUBTOTAL(9,R8:R13) -> 277722000 | S7: =SUBTOTAL(9,S8:S13) -> 1388610000
A8: I | B8: b trưởng | D8: 25 | F8: =SUBTOTAL(9,F9:F10) -> 49950000 | G8: =D8 -> 25 | I8: =SUBTOTAL(9,I9:I10) -> 49950000 | J8: =D8 -> 25 | L8: =SUBTOTAL(9,L9:L10) -> 49950000 | M8: =D8 -> 25 | O8: =SUBTOTAL(9,O9:O10) -> 49950000 | P8: =D8 -> 25 | R8: =SUBTOTAL(9,R9:R10) -> 49950000 | S8: =SUBTOTAL(9,S9:S10) -> 249750000 | T8: TH: 05 ngày/năm (-bt DQTT)
A9: 1 | B9: Tiền ăn | C9: 72000 | D9: =D8 -> 25 | E9: 5 | F9: =D9*E9*$C9 -> 9000000 | G9: =G8 -> 25 | H9: 5 | I9: =G9*H9*$C9 -> 9000000 | J9: =J8 -> 25 | K9: 5 | L9: =J9*K9*$C9 -> 9000000 | M9: =M8 -> 25 | N9: 5 | O9: =M9*N9*$C9 -> 9000000 | P9: =P8 -> 25 | Q9: 5 | R9: =P9*Q9*$C9 -> 9000000 | S9: =F9+I9+L9+O9+R9 -> 45000000
A10: 2 | B10: Trợ cấp ngày công LĐ | C10: 327600 | D10: =D9 -> 25 | E10: 5 | F10: =D10*E10*$C10 -> 40950000 | G10: =G9 -> 25 | H10: 5 | I10: =G10*H10*$C10 -> 40950000 | J10: =J9 -> 25 | K10: 5 | L10: =J10*K10*$C10 -> 40950000 | M10: =M9 -> 25 | N10: 5 | O10: =M10*N10*$C10 -> 40950000 | P10: =P9 -> 25 | Q10: 5 | R10: =P10*Q10*$C10 -> 40950000 | S10: =F10+I10+L10+O10+R10 -> 204750000
A11: II | B11: Tổ đội trưởng, Tiểu đội, KĐT | D11: 114 | F11: =SUBTOTAL(9,F12:F13) -> 227772000 | G11: =D11 -> 114 | I11: =SUBTOTAL(9,I12:I13) -> 227772000 | J11: =D11 -> 114 | L11: =SUBTOTAL(9,L12:L13) -> 227772000 | M11: =D11 -> 114 | O11: =SUBTOTAL(9,O12:O13) -> 227772000 | P11: =D11 -> 114 | R11: =SUBTOTAL(9,R12:R13) -> 227772000 | S11: =SUBTOTAL(9,S12:S13) -> 1138860000 | T11: TH: 05 ngày/năm (-at DQTT)
A12: 1 | B12: Tiền ăn | C12: 72000 | D12: =D11 -> 114 | E12: 5 | F12: =D12*E12*$C12 -> 41040000 | G12: =G11 -> 114 | H12: 5 | I12: =G12*H12*$C12 -> 41040000 | J12: =J11 -> 114 | K12: 5 | L12: =J12*K12*$C12 -> 41040000 | M12: =M11 -> 114 | N12: 5 | O12: =M12*N12*$C12 -> 41040000 | P12: =P11 -> 114 | Q12: 5 | R12: =P12*Q12*$C12 -> 41040000 | S12: =F12+I12+L12+O12+R12 -> 205200000
A13: 2 | B13: Trợ cấp ngày công LĐ | C13: 327600 | D13: =D11 -> 114 | E13: 5 | F13: =D13*E13*$C13 -> 186732000 | G13: =G11 -> 114 | H13: 5 | I13: =G13*H13*$C13 -> 186732000 | J13: =J11 -> 114 | K13: 5 | L13: =J13*K13*$C13 -> 186732000 | M13: =M11 -> 114 | N13: 5 | O13: =M13*N13*$C13 -> 186732000 | P13: =P11 -> 114 | Q13: 5 | R13: =P13*Q13*$C13 -> 186732000 | S13: =F13+I13+L13+O13+R13 -> 933660000
A14: B | B14: HUẤN LUYỆN, BẢO HIỂM, TRỢ CẤP | F14: =SUBTOTAL(9,F15:F58) -> 10604026580 | I14: =SUBTOTAL(9,I15:I58) -> 9255376580 | L14: =SUBTOTAL(9,L15:L58) -> 9255376580 | O14: =SUBTOTAL(9,O15:O58) -> 9255376580 | R14: =SUBTOTAL(9,R15:R58) -> 9255376580 | S14: =SUBTOTAL(9,S15:S58) -> 47625532900
A15: I | B15: Trung đội cơ động | D15: =PL2A!E27 -> 84 | F15: =SUBTOTAL(9,F16:F17) -> 402796800 | G15: =D15 -> 84 | I15: =SUBTOTAL(9,I16:I17) -> 402796800 | J15: =G15 -> 84 | L15: =SUBTOTAL(9,L16:L17) -> 402796800 | M15: =G15 -> 84 | O15: =SUBTOTAL(9,O16:O17) -> 402796800 | P15: =G15 -> 84 | R15: =SUBTOTAL(9,R16:R17) -> 402796800 | S15: =SUBTOTAL(9,S16:S17) -> 2013984000 | T15: HL: 12 ngày/năm
A16: 1 | B16: Tiền ăn | C16: 72000 | D16: =D15 -> 84 | E16: 12 | F16: =D16*E16*$C16 -> 72576000 | G16: =G15 -> 84 | H16: 12 | I16: =G16*H16*$C16 -> 72576000 | J16: =J15 -> 84 | K16: 12 | L16: =J16*K16*$C16 -> 72576000 | M16: =M15 -> 84 | N16: 12 | O16: =M16*N16*$C16 -> 72576000 | P16: =P15 -> 84 | Q16: 12 | R16: =P16*Q16*$C16 -> 72576000 | S16: =F16+I16+L16+O16+R16 -> 362880000
A17: 2 | B17: Trợ cấp ngày công LĐ | C17: 327600 | D17: =D16 -> 84 | E17: 12 | F17: =D17*E17*$C17 -> 330220800 | G17: =G16 -> 84 | H17: 12 | I17: =G17*H17*$C17 -> 330220800 | J17: =J16 -> 84 | K17: 12 | L17: =J17*K17*$C17 -> 330220800 | M17: =M16 -> 84 | N17: 12 | O17: =M17*N17*$C17 -> 330220800 | P17: =P16 -> 84 | Q17: 12 | R17: =P17*Q17*$C17 -> 330220800 | S17: =F17+I17+L17+O17+R17 -> 1651104000
A18: II | B18: Hải đội DQTT | D18: ='PL1'!M11 -> 0 | F18: =SUBTOTAL(9,F19:F21) -> 0 | G18: =D18 -> 0 | I18: =SUBTOTAL(9,I19:I21) -> 0 | J18: =D18 -> 0 | L18: =SUBTOTAL(9,L19:L21) -> 0 | M18: =D18 -> 0 | O18: =SUBTOTAL(9,O19:O21) -> 0 | P18: =D18 -> 0 | R18: =SUBTOTAL(9,R19:R21) -> 0 | S18: =SUBTOTAL(9,S19:S21) -> 0
A19: 1 | B19: Đóng BHYT (1 năm) | C19: =105300*12 -> 1263600 | D19: =D18 -> 0 | F19: =D19*C19 -> 0 | G19: =G18 -> 0 | I19: =G19*$C19 -> 0 | J19: =J18 -> 0 | L19: =J19*$C19 -> 0 | M19: =M18 -> 0 | O19: =M19*$C19 -> 0 | P19: =P18 -> 0 | R19: =P19*$C19 -> 0 | S19: =F19+I19+L19+O19+R19 -> 0
A20: 2 | B20: Đóng BHXH (1 năm) | C20: =2300000*22.5%*12 -> 6210000 | D20: =D18 -> 0 | F20: =D20*C20 -> 0 | G20: =G18 -> 0 | I20: =G20*$C20 -> 0 | J20: =J18 -> 0 | L20: =J20*$C20 -> 0 | M20: =M18 -> 0 | O20: =M20*$C20 -> 0 | P20: =P18 -> 0 | R20: =P20*$C20 -> 0 | S20: =F20+I20+L20+O20+R20 -> 0
A21: 3 | B21: Trợ cấp 1 lần (1 năm) | C21: =4680000*2 -> 9360000 | D21: =D18*25% -> 0 | F21: =D21*C21 -> 0 | G21: =D21 -> 0 | I21: =G21*$C21 -> 0 | J21: =D21 -> 0 | L21: =J21*$C21 -> 0 | M21: =D21 -> 0 | O21: =M21*$C21 -> 0 | P21: =D21 -> 0 | R21: =P21*$C21 -> 0 | S21: =F21+I21+L21+O21+R21 -> 0 | T21: Năm 2014 ra 50%, 50% còn lại 3 năm ra
A22: II | B22: Trung đội DQTT | D22: 28 | F22: =SUBTOTAL(9,F23:F28) -> 4473287780 | G22: =D22 -> 28 | I22: =SUBTOTAL(9,I23:I28) -> 4473287780 | J22: =D22 -> 28 | L22: =SUBTOTAL(9,L23:L28) -> 4473287780 | M22: =D22 -> 28 | O22: =SUBTOTAL(9,O23:O28) -> 4473287780 | P22: =D22 -> 28 | R22: =SUBTOTAL(9,R23:R28) -> 4473287780 | S22: =SUBTOTAL(9,S23:S28) -> 22366438900 | T22: Th/trực 365 ngày
A23: 1 | B23: Tiền ăn | C23: 72000 | D23: 28 | E23: 365 | F23: =D23*E23*$C23 -> 735840000 | G23: =G22 -> 28 | H23: 365 | I23: =G23*H23*$C23 -> 735840000 | J23: =J22 -> 28 | K23: 365 | L23: =J23*K23*$C23 -> 735840000 | M23: =M22 -> 28 | N23: 365 | O23: =M23*N23*$C23 -> 735840000 | P23: =P22 -> 28 | Q23: 365 | R23: =P23*Q23*$C23 -> 735840000 | S23: =F23+I23+L23+O23+R23 -> 3679200000
A24: 2 | B24: Trợ cấp ngày công LĐ | C24: 327600 | D24: =D22 -> 28 | E24: 365 | F24: =D24*E24*$C24 -> 3348072000 | G24: =G22 -> 28 | H24: 365 | I24: =G24*H24*$C24 -> 3348072000 | J24: =J22 -> 28 | K24: 365 | L24: =J24*K24*$C24 -> 3348072000 | M24: =M22 -> 28 | N24: 365 | O24: =M24*N24*$C24 -> 3348072000 | P24: =P22 -> 28 | Q24: 365 | R24: =P24*Q24*$C24 -> 3348072000 | S24: =F24+I24+L24+O24+R24 -> 16740360000
A25: 3 | B25: Điện, nước | C25: 134452 | D25: 28 | E25: 365 | F25: =C25*E25 -> 49074980 | G25: =G23 -> 28 | H25: 365 | I25: =H25*C25 -> 49074980 | J25: =J23 -> 28 | K25: 365 | L25: =F25 -> 49074980 | M25: =M23 -> 28 | N25: 365 | O25: =F25 -> 49074980 | P25: =P23 -> 28 | Q25: 365 | R25: =F25 -> 49074980 | S25: =F25+I25+L25+O25+R25 -> 245374900
A26: 4 | B26: Đóng BHYT (1 năm) | C26: =105300*12 -> 1263600 | D26: =D22 -> 28 | F26: =D26*$C26 -> 35380800 | G26: =G22 -> 28 | I26: =G26*$C26 -> 35380800 | J26: =J22 -> 28 | L26: =J26*$C26 -> 35380800 | M26: =M22 -> 28 | O26: =M26*$C26 -> 35380800 | P26: =P22 -> 28 | R26: =P26*$C26 -> 35380800 | S26: =F26+I26+L26+O26+R26 -> 176904000
A27: 5 | B27: Đóng BHXH (1 năm) | C27: =2300000*22.5%*12 -> 6210000 | D27: =D23 -> 28 | F27: =D27*$C27 -> 173880000 | G27: =G23 -> 28 | I27: =G27*$C27 -> 173880000 | J27: =J23 -> 28 | L27: =J27*$C27 -> 173880000 | M27: =M23 -> 28 | O27: =M27*$C27 -> 173880000 | P27: =P23 -> 28 | R27: =P27*$C27 -> 173880000 | S27: =F27+I27+L27+O27+R27 -> 869400000
A28: 6 | B28: Trợ cấp 1 lần (25%/năm) | C28: =4680000*2 -> 9360000 | D28: =ROUND(D22*25%,0) -> 7 | F28: =D28*$C28*2 -> 131040000 | G28: =D28 -> 7 | I28: =G28*$C28*2 -> 131040000 | J28: =D28 -> 7 | L28: =J28*$C28*2 -> 131040000 | M28: =D28 -> 7 | O28: =M28*$C28*2 -> 131040000 | P28: =D28 -> 7 | R28: =P28*$C28*2 -> 131040000 | S28: =F28+I28+L28+O28+R28 -> 655200000
A29: III | B29: DQ tại chỗ | D29: =PL2A!E35 -> 692 | F29: =SUBTOTAL(9,F30:F31) -> 1935662400 | G29: =D29 -> 692 | I29: =SUBTOTAL(9,I30:I31) -> 1935662400 | J29: =G29 -> 692 | L29: =SUBTOTAL(9,L30:L31) -> 1935662400 | M29: =G29 -> 692 | O29: =SUBTOTAL(9,O30:O31) -> 1935662400 | P29: =G29 -> 692 | R29: =SUBTOTAL(9,R30:R31) -> 1935662400 | S29: =SUBTOTAL(9,S30:S31) -> 9678312000 | T29: HL: 7 ngày/năm
A30: 1 | B30: Tiền ăn | C30: 72000 | D30: =D29 -> 692 | E30: 7 | F30: =D30*E30*$C30 -> 348768000 | G30: =G29 -> 692 | H30: 7 | I30: =G30*H30*$C30 -> 348768000 | J30: =J29 -> 692 | K30: 7 | L30: =J30*K30*$C30 -> 348768000 | M30: =M29 -> 692 | N30: 7 | O30: =M30*N30*$C30 -> 348768000 | P30: =P29 -> 692 | Q30: 7 | R30: =P30*Q30*$C30 -> 348768000 | S30: =F30+I30+L30+O30+R30 -> 1743840000
A31: 2 | B31: Trợ cấp ngày công LĐ | C31: 327600 | D31: =D29 -> 692 | E31: 7 | F31: =D31*E31*$C31 -> 1586894400 | G31: =G29 -> 692 | H31: 7 | I31: =G31*H31*$C31 -> 1586894400 | J31: =J29 -> 692 | K31: 7 | L31: =J31*K31*$C31 -> 1586894400 | M31: =M29 -> 692 | N31: 7 | O31: =M31*N31*$C31 -> 1586894400 | P31: =P29 -> 692 | Q31: 7 | R31: =P31*Q31*$C31 -> 1586894400 | S31: =F31+I31+L31+O31+R31 -> 7934472000
A32: IV | B32: DQ phòng không | D32: ='PL1'!Y7 -> 84 | F32: =SUBTOTAL(9,F33:F34) -> 402796800 | G32: =D32 -> 84 | I32: =SUBTOTAL(9,I33:I34) -> 402796800 | J32: =D32 -> 84 | L32: =SUBTOTAL(9,L33:L34) -> 402796800 | M32: =D32 -> 84 | O32: =SUBTOTAL(9,O33:O34) -> 402796800 | P32: =D32 -> 84 | R32: =SUBTOTAL(9,R33:R34) -> 402796800 | S32: =SUBTOTAL(9,S33:S34) -> 2013984000 | T32: HL: 12 ngày/năm
A33: 1 | B33: Tiền ăn | C33: 72000 | D33: =D32 -> 84 | E33: 12 | F33: =D33*E33*$C33 -> 72576000 | G33: =G32 -> 84 | H33: 12 | I33: =G33*H33*$C33 -> 72576000 | J33: =J32 -> 84 | K33: 12 | L33: =J33*K33*$C33 -> 72576000 | M33: =M32 -> 84 | N33: 12 | O33: =M33*N33*$C33 -> 72576000 | P33: =P32 -> 84 | Q33: 12 | R33: =P33*Q33*$C33 -> 72576000 | S33: =F33+I33+L33+O33+R33 -> 362880000
A34: 2 | B34: Trợ cấp ngày công LĐ | C34: 327600 | D34: =D32 -> 84 | E34: 12 | F34: =D34*E34*$C34 -> 330220800 | G34: =G32 -> 84 | H34: 12 | I34: =G34*H34*$C34 -> 330220800 | J34: =J32 -> 84 | K34: 12 | L34: =J34*K34*$C34 -> 330220800 | M34: =M32 -> 84 | N34: 12 | O34: =M34*N34*$C34 -> 330220800 | P34: =P32 -> 84 | Q34: 12 | R34: =P34*Q34*$C34 -> 330220800 | S34: =F34+I34+L34+O34+R34 -> 1651104000
A35: V | B35: DQ pháo binh | D35: ='PL1'!AB7 -> 36 | F35: =SUBTOTAL(9,F36:F37) -> 168307200 | G35: =D35 -> 36 | I35: =SUBTOTAL(9,I36:I37) -> 168307200 | J35: =D35 -> 36 | L35: =SUBTOTAL(9,L36:L37) -> 168307200 | M35: =D35 -> 36 | O35: =SUBTOTAL(9,O36:O37) -> 168307200 | P35: =D35 -> 36 | R35: =SUBTOTAL(9,R36:R37) -> 168307200 | S35: =SUBTOTAL(9,S36:S37) -> 841536000 | T35: HL: 12 ngày/năm
A36: 1 | B36: Tiền ăn | C36: 62000 | D36: =D35 -> 36 | E36: 12 | F36: =D36*E36*$C36 -> 26784000 | G36: =G35 -> 36 | H36: 12 | I36: =G36*H36*$C36 -> 26784000 | J36: =J35 -> 36 | K36: 12 | L36: =J36*K36*$C36 -> 26784000 | M36: =M35 -> 36 | N36: 12 | O36: =M36*N36*$C36 -> 26784000 | P36: =P35 -> 36 | Q36: 12 | R36: =P36*Q36*$C36 -> 26784000 | S36: =F36+I36+L36+O36+R36 -> 133920000
A37: 2 | B37: Trợ cấp ngày công LĐ | C37: 327600 | D37: =D35 -> 36 | E37: 12 | F37: =D37*E37*$C37 -> 141523200 | G37: =G35 -> 36 | H37: 12 | I37: =G37*H37*$C37 -> 141523200 | J37: =J35 -> 36 | K37: 12 | L37: =J37*K37*$C37 -> 141523200 | M37: =M35 -> 36 | N37: 12 | O37: =M37*N37*$C37 -> 141523200 | P37: =P35 -> 36 | Q37: 12 | R37: =P37*Q37*$C37 -> 141523200 | S37: =F37+I37+L37+O37+R37 -> 707616000
A38: VI | B38: DQ Trinh sát | D38: 12 | F38: =SUBTOTAL(9,F39:F40) -> 57542400 | G38: =D38 -> 12 | I38: =SUBTOTAL(9,I39:I40) -> 57542400 | J38: =G38 -> 12 | L38: =SUBTOTAL(9,L39:L40) -> 57542400 | M38: =G38 -> 12 | O38: =SUBTOTAL(9,O39:O40) -> 57542400 | P38: =G38 -> 12 | R38: =SUBTOTAL(9,R39:R40) -> 57542400 | S38: =SUBTOTAL(9,S39:S40) -> 287712000 | T38: HL: 12 ngày/năm
A39: 1 | B39: Tiền ăn | C39: 72000 | D39: =D38 -> 12 | E39: 12 | F39: =D39*E39*$C39 -> 10368000 | G39: =G38 -> 12 | H39: 12 | I39: =G39*H39*$C39 -> 10368000 | J39: =J38 -> 12 | K39: 12 | L39: =J39*K39*$C39 -> 10368000 | M39: =M38 -> 12 | N39: 12 | O39: =M39*N39*$C39 -> 10368000 | P39: =P38 -> 12 | Q39: 12 | R39: =P39*Q39*$C39 -> 10368000 | S39: =F39+I39+L39+O39+R39 -> 51840000
A40: 2 | B40: Trợ cấp ngày công LĐ | C40: 327600 | D40: =D38 -> 12 | E40: 12 | F40: =D40*E40*$C40 -> 47174400 | G40: =G38 -> 12 | H40: 12 | I40: =G40*H40*$C40 -> 47174400 | J40: =J38 -> 12 | K40: 12 | L40: =J40*K40*$C40 -> 47174400 | M40: =M38 -> 12 | N40: 12 | O40: =M40*N40*$C40 -> 47174400 | P40: =P38 -> 12 | Q40: 12 | R40: =P40*Q40*$C40 -> 47174400 | S40: =F40+I40+L40+O40+R40 -> 235872000
A41: VII | B41: DQ Công binh | D41: 18 | F41: =SUBTOTAL(9,F42:F43) -> 86313600 | G41: =D41 -> 18 | I41: =SUBTOTAL(9,I42:I43) -> 86313600 | J41: =G41 -> 18 | L41: =SUBTOTAL(9,L42:L43) -> 86313600 | M41: =G41 -> 18 | O41: =SUBTOTAL(9,O42:O43) -> 86313600 | P41: =G41 -> 18 | R41: =SUBTOTAL(9,R42:R43) -> 86313600 | S41: =SUBTOTAL(9,S42:S43) -> 431568000 | T41: HL: 12 ngày/năm
A42: 1 | B42: Tiền ăn | C42: 72000 | D42: =D41 -> 18 | E42: 12 | F42: =D42*E42*$C42 -> 15552000 | G42: =G41 -> 18 | H42: 12 | I42: =G42*H42*$C42 -> 15552000 | J42: =J41 -> 18 | K42: 12 | L42: =J42*K42*$C42 -> 15552000 | M42: =M41 -> 18 | N42: 12 | O42: =M42*N42*$C42 -> 15552000 | P42: =P41 -> 18 | Q42: 12 | R42: =P42*Q42*$C42 -> 15552000 | S42: =F42+I42+L42+O42+R42 -> 77760000
A43: 2 | B43: Trợ cấp ngày công LĐ | C43: 327600 | D43: =D41 -> 18 | E43: 12 | F43: =D43*E43*$C43 -> 70761600 | G43: =G41 -> 18 | H43: 12 | I43: =G43*H43*$C43 -> 70761600 | J43: =J41 -> 18 | K43: 12 | L43: =J43*K43*$C43 -> 70761600 | M43: =M41 -> 18 | N43: 12 | O43: =M43*N43*$C43 -> 70761600 | P43: =P41 -> 18 | Q43: 12 | R43: =P43*Q43*$C43 -> 70761600 | S43: =F43+I43+L43+O43+R43 -> 353808000
A44: VIII | B44: DQ Thông tin | D44: 18 | F44: =SUBTOTAL(9,F45:F46) -> 86313600 | G44: =D44 -> 18 | I44: =SUBTOTAL(9,I45:I46) -> 86313600 | J44: =G44 -> 18 | L44: =SUBTOTAL(9,L45:L46) -> 86313600 | M44: =G44 -> 18 | O44: =SUBTOTAL(9,O45:O46) -> 86313600 | P44: =G44 -> 18 | R44: =SUBTOTAL(9,R45:R46) -> 86313600 | S44: =SUBTOTAL(9,S45:S46) -> 431568000 | T44: HL: 12 ngày/năm
A45: 1 | B45: Tiền ăn | C45: 72000 | D45: =D44 -> 18 | E45: 12 | F45: =D45*E45*$C45 -> 15552000 | G45: =G44 -> 18 | H45: 12 | I45: =G45*H45*$C45 -> 15552000 | J45: =J44 -> 18 | K45: 12 | L45: =J45*K45*$C45 -> 15552000 | M45: =M44 -> 18 | N45: 12 | O45: =M45*N45*$C45 -> 15552000 | P45: =P44 -> 18 | Q45: 12 | R45: =P45*Q45*$C45 -> 15552000 | S45: =F45+I45+L45+O45+R45 -> 77760000
A46: 2 | B46: Trợ cấp ngày công LĐ | C46: 327600 | D46: =D44 -> 18 | E46: 12 | F46: =D46*E46*$C46 -> 70761600 | G46: =G44 -> 18 | H46: 12 | I46: =G46*H46*$C46 -> 70761600 | J46: =J44 -> 18 | K46: 12 | L46: =J46*K46*$C46 -> 70761600 | M46: =M44 -> 18 | N46: 12 | O46: =M46*N46*$C46 -> 70761600 | P46: =P44 -> 18 | Q46: 12 | R46: =P46*Q46*$C46 -> 70761600 | S46: =F46+I46+L46+O46+R46 -> 353808000
A47: IX | B47: DQ Phòng hóa | D47: 12 | F47: =SUBTOTAL(9,F48:F49) -> 57542400 | G47: =D47 -> 12 | I47: =SUBTOTAL(9,I48:I49) -> 57542400 | J47: =G47 -> 12 | L47: =SUBTOTAL(9,L48:L49) -> 57542400 | M47: =G47 -> 12 | O47: =SUBTOTAL(9,O48:O49) -> 57542400 | P47: =G47 -> 12 | R47: =SUBTOTAL(9,R48:R49) -> 57542400 | S47: =SUBTOTAL(9,S48:S49) -> 287712000 | T47: HL: 12 ngày/năm
A48: 1 | B48: Tiền ăn | C48: 72000 | D48: =D47 -> 12 | E48: 12 | F48: =D48*E48*$C48 -> 10368000 | G48: =G47 -> 12 | H48: 12 | I48: =G48*H48*$C48 -> 10368000 | J48: =J47 -> 12 | K48: 12 | L48: =J48*K48*$C48 -> 10368000 | M48: =M47 -> 12 | N48: 12 | O48: =M48*N48*$C48 -> 10368000 | P48: =P47 -> 12 | Q48: 12 | R48: =P48*Q48*$C48 -> 10368000 | S48: =F48+I48+L48+O48+R48 -> 51840000
A49: 2 | B49: Trợ cấp ngày công LĐ | C49: 327600 | D49: =D47 -> 12 | E49: 12 | F49: =D49*E49*$C49 -> 47174400 | G49: =G47 -> 12 | H49: 12 | I49: =G49*H49*$C49 -> 47174400 | J49: =J47 -> 12 | K49: 12 | L49: =J49*K49*$C49 -> 47174400 | M49: =M47 -> 12 | N49: 12 | O49: =M49*N49*$C49 -> 47174400 | P49: =P47 -> 12 | Q49: 12 | R49: =P49*Q49*$C49 -> 47174400 | S49: =F49+I49+L49+O49+R49 -> 235872000
A50: X | B50: DQ Y tế | D50: 18 | F50: =SUBTOTAL(9,F51:F52) -> 86313600 | G50: =D50 -> 18 | I50: =SUBTOTAL(9,I51:I52) -> 86313600 | J50: =G50 -> 18 | L50: =SUBTOTAL(9,L51:L52) -> 86313600 | M50: =G50 -> 18 | O50: =SUBTOTAL(9,O51:O52) -> 86313600 | P50: =G50 -> 18 | R50: =SUBTOTAL(9,R51:R52) -> 86313600 | S50: =SUBTOTAL(9,S51:S52) -> 431568000 | T50: HL: 12 ngày/năm
A51: 1 | B51: Tiền ăn | C51: 72000 | D51: =D50 -> 18 | E51: 12 | F51: =D51*E51*$C51 -> 15552000 | G51: =G50 -> 18 | H51: 12 | I51: =G51*H51*$C51 -> 15552000 | J51: =J50 -> 18 | K51: 12 | L51: =J51*K51*$C51 -> 15552000 | M51: =M50 -> 18 | N51: 12 | O51: =M51*N51*$C51 -> 15552000 | P51: =P50 -> 18 | Q51: 12 | R51: =P51*Q51*$C51 -> 15552000 | S51: =F51+I51+L51+O51+R51 -> 77760000
A52: 2 | B52: Trợ cấp ngày công LĐ | C52: 327600 | D52: =D50 -> 18 | E52: 12 | F52: =D52*E52*$C52 -> 70761600 | G52: =G50 -> 18 | H52: 12 | I52: =G52*H52*$C52 -> 70761600 | J52: =J50 -> 18 | K52: 12 | L52: =J52*K52*$C52 -> 70761600 | M52: =M50 -> 18 | N52: 12 | O52: =M52*N52*$C52 -> 70761600 | P52: =P50 -> 18 | Q52: 12 | R52: =P52*Q52*$C52 -> 70761600 | S52: =F52+I52+L52+O52+R52 -> 353808000
A53: XI | B53: DQ biển | D53: ='PL1'!V12 -> 0 | F53: =SUBTOTAL(9,F54:F55) -> 0 | G53: =D53 -> 0 | I53: =SUBTOTAL(9,I54:I55) -> 0 | J53: =D53 -> 0 | L53: =SUBTOTAL(9,L54:L55) -> 0 | M53: =D53 -> 0 | O53: =SUBTOTAL(9,O54:O55) -> 0 | P53: =D53 -> 0 | R53: =SUBTOTAL(9,R54:R55) -> 0 | S53: =SUBTOTAL(9,S54:S55) -> 0 | T53: HL: 12 ngày/năm
A54: 1 | B54: Tiền ăn | C54: 117000 | D54: =D53 -> 0 | E54: 12 | F54: =D54*E54*$C54 -> 0 | G54: =G53 -> 0 | H54: 12 | I54: =G54*H54*$C54 -> 0 | J54: =J53 -> 0 | K54: 12 | L54: =J54*K54*$C54 -> 0 | M54: =M53 -> 0 | N54: 12 | O54: =M54*N54*$C54 -> 0 | P54: =P53 -> 0 | Q54: 12 | R54: =P54*Q54*$C54 -> 0 | S54: =F54+I54+L54+O54+R54 -> 0
A55: 2 | B55: Trợ cấp ngày công LĐ | C55: 327600 | D55: =D53 -> 0 | E55: 12 | F55: =D55*E55*$C55 -> 0 | G55: =G53 -> 0 | H55: 12 | I55: =G55*H55*$C55 -> 0 | J55: =J53 -> 0 | K55: 12 | L55: =J55*K55*$C55 -> 0 | M55: =M53 -> 0 | N55: 12 | O55: =M55*N55*$C55 -> 0 | P55: =P53 -> 0 | Q55: 12 | R55: =P55*Q55*$C55 -> 0 | S55: =F55+I55+L55+O55+R55 -> 0
A56: XII | B56: DQ năm thứ nhất | D56: =PL2A!E18 -> 475 | F56: =SUBTOTAL(9,F57:F58) -> 2847150000 | G56: =PL2A!G18 -> 250 | I56: =SUBTOTAL(9,I57:I58) -> 1498500000 | J56: =G56 -> 250 | L56: =SUBTOTAL(9,L57:L58) -> 1498500000 | M56: =G56 -> 250 | O56: =SUBTOTAL(9,O57:O58) -> 1498500000 | P56: =G56 -> 250 | R56: =SUBTOTAL(9,R57:R58) -> 1498500000 | S56: =SUBTOTAL(9,S57:S58) -> 8841150000 | T56: HL: 15 ngày/năm
A57: 1 | B57: Tiền ăn | C57: 72000 | D57: =D56 -> 475 | E57: 15 | F57: =D57*E57*$C57 -> 513000000 | G57: =G56 -> 250 | H57: 15 | I57: =G57*H57*$C57 -> 270000000 | J57: =J56 -> 250 | K57: 15 | L57: =J57*K57*$C57 -> 270000000 | M57: =M56 -> 250 | N57: 15 | O57: =M57*N57*$C57 -> 270000000 | P57: =P56 -> 250 | Q57: 15 | R57: =P57*Q57*$C57 -> 270000000 | S57: =F57+I57+L57+O57+R57 -> 1593000000
A58: 2 | B58: Trợ cấp ngày công LĐ | C58: 327600 | D58: =D56 -> 475 | E58: 15 | F58: =D58*E58*$C58 -> 2334150000 | G58: =G56 -> 250 | H58: 15 | I58: =G58*H58*$C58 -> 1228500000 | J58: =J56 -> 250 | K58: 15 | L58: =J58*K58*$C58 -> 1228500000 | M58: =M56 -> 250 | N58: 15 | O58: =M58*N58*$C58 -> 1228500000 | P58: =P56 -> 250 | Q58: 15 | R58: =P58*Q58*$C58 -> 1228500000 | S58: =F58+I58+L58+O58+R58 -> 7248150000
A59: C | B59: DIỄN TẬP | D59: =D60+D63+D67 -> 390 | E59: =E60+E63+E67 -> 0 | F59: =SUBTOTAL(9,F60:F76) -> 2181816000 | G59: =G60+G63+G67 -> 0 | H59: =H60+H63+H67 -> 0 | I59: =SUBTOTAL(9,I60:I76) -> 0 | J59: =J60+J63+J67 -> 0 | K59: =K60+K63+K67 -> 0 | L59: =SUBTOTAL(9,L60:L76) -> 0 | M59: =M60+M63+M67 -> 390 | N59: =N60+N63+N67 -> 0 | O59: =SUBTOTAL(9,O60:O76) -> 2181816000 | P59: =P60+P63+P67 -> 0 | Q59: =Q60+Q63+Q67 -> 0 | R59: =SUBTOTAL(9,R60:R76) -> 0 | S59: =SUBTOTAL(9,S60:S76) -> 4363632000
A60: I | B60: Chiến đấu PT cấp phường | D60: 390 | F60: =SUBTOTAL(9,F61:F62) -> 2181816000 | I60: =SUBTOTAL(9,I61:I62) -> 0 | L60: =SUBTOTAL(9,L61:L62) -> 0 | M60: =D60 -> 390 | O60: =SUBTOTAL(9,O61:O62) -> 2181816000 | R60: =SUBTOTAL(9,R61:R62) -> 0 | S60: =SUBTOTAL(9,S61:S62) -> 4363632000 | T60: Mỗi năm 30% cấp xã x 1bDQCĐ
A61: 1 | B61: Tiền ăn | C61: 72000 | D61: 390 | E61: 14 | F61: =D61*E61*$C61 -> 393120000 | G61: =G60 -> 0 | I61: =G61*H61*$C61 -> 0 | J61: =J60 -> 0 | L61: =J61*K61*$C61 -> 0 | M61: =M60 -> 390 | N61: 14 | O61: =M61*N61*$C61 -> 393120000 | R61: =P61*Q61*$C61 -> 0 | S61: =F61+I61+L61+O61+R61 -> 786240000
A62: 2 | B62: Trợ cấp ngày công LĐ | C62: 327600 | D62: =D61 -> 390 | E62: 14 | F62: =D62*E62*$C62 -> 1788696000 | G62: =G61 -> 0 | I62: =G62*H62*$C62 -> 0 | J62: =J61 -> 0 | L62: =J62*K62*$C62 -> 0 | M62: =M61 -> 390 | N62: 14 | O62: =M62*N62*$C62 -> 1788696000 | R62: =P62*Q62*$C62 -> 0 | S62: =F62+I62+L62+O62+R62 -> 3577392000
A63: II | B63: Diễn tập PT Dân sự | D63: 0 | E63: =E64 -> 0 | F63: =SUBTOTAL(9,F64:F66) -> 0 | G63: =G64 -> 0 | H63: =H64 -> 0 | I63: =SUBTOTAL(9,I64:I66) -> 0 | J63: =J64 -> 0 | K63: =K64 -> 0 | L63: =SUBTOTAL(9,L64:L66) -> 0 | M63: =M64 -> 0 | N63: =N64 -> 0 | O63: =SUBTOTAL(9,O64:O66) -> 0 | P63: =P64 -> 0 | Q63: =Q64 -> 0 | R63: =R64 -> 0 | S63: =SUBTOTAL(9,S64:S66) -> 0 | T63: (2 huyện/năm)
A64: * | B64: DQ cơ động | F64: =SUBTOTAL(9,F65:F67) -> 0 | G64: =D64 -> 0 | I64: =SUBTOTAL(9,I65:I66) -> 0 | J64: =D64 -> 0 | L64: =SUBTOTAL(9,L65:L66) -> 0 | M64: =D64 -> 0 | O64: =SUBTOTAL(9,O65:O66) -> 0 | R64: =SUBTOTAL(9,R65:R66) -> 0 | S64: =SUBTOTAL(9,S65:S66) -> 0 | T64: 2b/huyện
A65: 1 | B65: Tiền ăn | C65: 72000 | F65: =SUBTOTAL(9,F66:F68) -> 0 | G65: =G64 -> 0 | I65: =G65*H65*$C65 -> 0 | J65: =J64 -> 0 | L65: =J65*K65*$C65 -> 0 | M65: =M64 -> 0 | O65: =M65*N65*$C65 -> 0 | R65: =P65*Q65*$C65 -> 0 | S65: =F65+I65+L65+O65+R65 -> 0
A66: 2 | B66: Trợ cấp ngày công LĐ | C66: 327600 | F66: =SUBTOTAL(9,F67:F69) -> 0 | G66: =G64 -> 0 | I66: =G66*H66*$C66 -> 0 | J66: =J64 -> 0 | L66: =J66*K66*$C66 -> 0 | M66: =M64 -> 0 | O66: =M66*N66*$C66 -> 0 | R66: =P66*Q66*$C66 -> 0 | S66: =F66+I66+L66+O66+R66 -> 0 | T66: HL và diễn 12 ngày
A67: II | B67: Diễn tập KVPT tỉnh | G67: =G68+G71+G74 -> 0 | H67: =H68+H71+H74 -> 0 | I67: =SUBTOTAL(9,I68:I76) -> 0 | J67: =J68+J71+J74 -> 0 | K67: =K68+K71+K74 -> 0 | L67: =SUBTOTAL(9,L68:L76) -> 0 | M67: =M68+M71+M74 -> 0 | N67: =N68+N71+N74 -> 0 | O67: =SUBTOTAL(9,O68:O76) -> 0 | P67: =P68+P71+P74 -> 0 | Q67: =Q68+Q71+Q74 -> 0 | R67: =SUBTOTAL(9,R68:R76) -> 0 | S67: =SUBTOTAL(9,S68:S76) -> 0 | T67: 5 năm 1 lần
A68: * | B68: DQ cơ động | F68: =SUBTOTAL(9,F69:F70) -> 0 | G68: 0 | I68: =SUBTOTAL(9,I69:I70) -> 0 | J68: =D68 -> 0 | L68: =SUBTOTAL(9,L69:L70) -> 0 | M68: =D68 -> 0 | O68: =SUBTOTAL(9,O69:O70) -> 0 | R68: =SUBTOTAL(9,R69:R70) -> 0 | S68: =SUBTOTAL(9,S69:S70) -> 0 | T68: làm thao trường, HL và diễn 30 ngày
A69: 1 | B69: Tiền ăn | C69: 72000 | F69: =D69*E69*$C69 -> 0 | G69: =G68 -> 0 | I69: =G69*H69*$C69 -> 0 | J69: =J68 -> 0 | L69: =J69*K69*$C69 -> 0 | M69: =M68 -> 0 | O69: =M69*N69*$C69 -> 0 | R69: =P69*Q69*$C69 -> 0 | S69: =F69+I69+L69+O69+R69 -> 0
A70: 2 | B70: Trợ cấp ngày công LĐ | C70: 327600 | F70: =D70*E70*$C70 -> 0 | G70: =G68 -> 0 | I70: =G70*H70*$C70 -> 0 | J70: =J68 -> 0 | L70: =J70*K70*$C70 -> 0 | M70: =M68 -> 0 | O70: =M70*N70*$C70 -> 0 | R70: =P70*Q70*$C70 -> 0 | S70: =F70+I70+L70+O70+R70 -> 0
A71: * | B71: DQ phòng không | F71: =SUBTOTAL(9,F72:F73) -> 0 | G71: 0 | I71: =SUBTOTAL(9,I72:I73) -> 0 | J71: =D71 -> 0 | L71: =SUBTOTAL(9,L72:L73) -> 0 | M71: =D71 -> 0 | O71: =SUBTOTAL(9,O72:O73) -> 0 | R71: =SUBTOTAL(9,R72:R73) -> 0 | S71: =SUBTOTAL(9,S72:S73) -> 0
A72: 1 | B72: Tiền ăn | C72: 72000 | F72: =D72*E72*$C72 -> 0 | I72: =G72*H72*$C72 -> 0 | J72: =J71 -> 0 | L72: =J72*K72*$C72 -> 0 | M72: =M71 -> 0 | O72: =M72*N72*$C72 -> 0 | R72: =P72*Q72*$C72 -> 0 | S72: =F72+I72+L72+O72+R72 -> 0
A73: 2 | B73: Trợ cấp ngày công LĐ | C73: 327600 | F73: =D73*E73*$C73 -> 0 | I73: =G73*H73*$C73 -> 0 | J73: =J71 -> 0 | L73: =J73*K73*$C73 -> 0 | M73: =M71 -> 0 | O73: =M73*N73*$C73 -> 0 | R73: =P73*Q73*$C73 -> 0 | S73: =F73+I73+L73+O73+R73 -> 0
A74: * | B74: DQ pháo binh | F74: =SUBTOTAL(9,F75:F76) -> 0 | G74: 0 | I74: =SUBTOTAL(9,I75:I76) -> 0 | J74: =D74 -> 0 | L74: =SUBTOTAL(9,L75:L76) -> 0 | M74: =D74 -> 0 | O74: =SUBTOTAL(9,O75:O76) -> 0 | R74: =SUBTOTAL(9,R75:R76) -> 0 | S74: =SUBTOTAL(9,S75:S76) -> 0
A75: 1 | B75: Tiền ăn | C75: 72000 | F75: =D75*E75*$C75 -> 0 | I75: =G75*H75*$C75 -> 0 | J75: =J74 -> 0 | L75: =J75*K75*$C75 -> 0 | M75: =M74 -> 0 | O75: =M75*N75*$C75 -> 0 | R75: =P75*Q75*$C75 -> 0 | S75: =F75+I75+L75+O75+R75 -> 0
A76: 2 | B76: Trợ cấp ngày công LĐ | C76: 327600 | F76: =D76*E76*$C76 -> 0 | I76: =G76*H76*$C76 -> 0 | J76: =J74 -> 0 | L76: =J76*K76*$C76 -> 0 | M76: =M74 -> 0 | O76: =M76*N76*$C76 -> 0 | R76: =P76*Q76*$C76 -> 0 | S76: =F76+I76+L76+O76+R76 -> 0
A77: D | B77: HỘI THAO | D77: =D78+D81+D84 -> 0 | F77: =SUBTOTAL(9,F78:F87) -> 0 | G77: =G78+G81+G84 -> 20 | I77: =SUBTOTAL(9,I78:I87) -> 23976000 | J77: =J78+J81+J84 -> 20 | L77: =SUBTOTAL(9,L78:L87) -> 23976000 | M77: =M78+M81+M84 -> 20 | O77: =SUBTOTAL(9,O78:O87) -> 23976000 | P77: =P78+P81+P84 -> 20 | R77: =SUBTOTAL(9,R78:R87) -> 23976000 | S77: =SUBTOTAL(9,S78:S87) -> 95904000
A78: 1 | B78: Cấp phường | F78: =SUBTOTAL(9,F79:F80) -> 0 | G78: =G79 -> 20 | I78: =SUBTOTAL(9,I79:I80) -> 23976000 | J78: =G78 -> 20 | L78: =SUBTOTAL(9,L79:L80) -> 23976000 | M78: =G78 -> 20 | O78: =SUBTOTAL(9,O79:O80) -> 23976000 | P78: =G78 -> 20 | R78: =SUBTOTAL(9,R79:R80) -> 23976000 | S78: =SUBTOTAL(9,S79:S80) -> 95904000
A79: - | B79: Tiền ăn | C79: 72000 | F79: =D79*E79*$C79 -> 0 | G79: 20 | H79: 3 | I79: =G79*H79*$C79 -> 4320000 | J79: =G79 -> 20 | K79: 3 | L79: =J79*K79*$C79 -> 4320000 | M79: =G79 -> 20 | N79: 3 | O79: =M79*N79*$C79 -> 4320000 | P79: =G79 -> 20 | Q79: =N79 -> 3 | R79: =P79*Q79*$C79 -> 4320000 | S79: =F79+I79+L79+O79+R79 -> 17280000 | T79: 1 lần/năm (xã, p x 02 VĐV)
A80: - | B80: Trợ cấp ngày công LĐ | C80: 327600 | F80: =D80*E80*$C80 -> 0 | G80: =G79 -> 20 | H80: 3 | I80: =G80*H80*$C80 -> 19656000 | J80: =G80 -> 20 | K80: 3 | L80: =J80*K80*$C80 -> 19656000 | M80: =G80 -> 20 | N80: 3 | O80: =M80*N80*$C80 -> 19656000 | P80: =G80 -> 20 | Q80: =H80 -> 3 | R80: =P80*Q80*$C80 -> 19656000 | S80: =F80+I80+L80+O80+R80 -> 78624000
A81: 2 | B81: Cấp tỉnh | F81: =SUBTOTAL(9,F82:F83) -> 0 | G81: =G82 -> 0 | I81: =SUBTOTAL(9,I82:I83) -> 0 | J81: =D81 -> 0 | L81: =SUBTOTAL(9,L82:L83) -> 0 | O81: =SUBTOTAL(9,O82:O83) -> 0 | R81: =SUBTOTAL(9,R82:R83) -> 0 | S81: =SUBTOTAL(9,S82:S83) -> 0
A82: - | B82: Tiền ăn | C82: 72000 | D82: =D81 -> 0 | F82: =D82*E82*$C82 -> 0 | I82: =G82*H82*$C82 -> 0 | J82: =J81 -> 0 | L82: =J82*K82*$C82 -> 0 | O82: =M82*N82*$C82 -> 0 | R82: =P82*Q82*$C82 -> 0 | S82: =F82+I82+L82+O82+R82 -> 0
A83: - | B83: Trợ cấp ngày công LĐ | C83: 327600 | D83: =D82 -> 0 | F83: =D83*E83*$C83 -> 0 | I83: =G83*H83*$C83 -> 0 | J83: =J82 -> 0 | L83: =J83*K83*$C83 -> 0 | O83: =M83*N83*$C83 -> 0 | R83: =P83*Q83*$C83 -> 0 | S83: =F83+I83+L83+O83+R83 -> 0
A84: 3 | B84: Quân khu | F84: =SUBTOTAL(9,F85:F87) -> 0 | I84: =SUBTOTAL(9,I85:I87) -> 0 | J84: =D84 -> 0 | L84: =SUBTOTAL(9,L85:L87) -> 0 | M84: =M85 -> 0 | O84: =SUBTOTAL(9,O85:O87) -> 0 | P84: =D84 -> 0 | R84: =SUBTOTAL(9,R85:R87) -> 0 | S84: =SUBTOTAL(9,S85:S87) -> 0
A85: - | B85: Tiền ăn | C85: 72000 | F85: =D85*E85*$C85 -> 0 | G85: =G84 -> 0 | I85: =G85*H85*$C85 -> 0 | L85: =J85*K85*$C85 -> 0 | O85: =M85*N85*$C85 -> 0 | R85: =P85*Q85*$C85 -> 0 | S85: =F85+I85+L85+O85+R85 -> 0
A86: - | B86: Trợ cấp ngày công LĐ | C86: 327600 | F86: =D86*E86*$C86 -> 0 | G86: =G84 -> 0 | I86: =G86*H86*$C86 -> 0 | L86: =J86*K86*$C86 -> 0 | O86: =M86*N86*$C86 -> 0 | R86: =P86*Q86*$C86 -> 0 | S86: =F86+I86+L86+O86+R86 -> 0
A87: - | B87: Bảo đảm khác | C87: 20000 | F87: =D87*E87*$C87 -> 0 | G87: =G84 -> 0 | I87: =G87*H87*$C87 -> 0 | L87: =J87*K87*$C87 -> 0 | O87: =M87*N87*$C87 -> 0 | R87: =P87*Q87*$C87 -> 0 | S87: =F87+I87+L87+O87+R87 -> 0
A88: E | B88: TRỰC SSCĐ LỄ, TẾT, SỰ KIỆN TRỌNG ĐẠI | F88: =SUBTOTAL(9,F89:F95) -> 42174000 | I88: =SUBTOTAL(9,I89:I95) -> 46569600 | L88: =SUBTOTAL(9,L89:L95) -> 46569600 | O88: =SUBTOTAL(9,O89:O95) -> 46569600 | R88: =SUBTOTAL(9,R89:R95) -> 46569600 | S88: =SUBTOTAL(9,S89:S95) -> 228452400 | T88: Ngày trực: Tết dương lịch: 3 ngày, Tết cổ truyền: 9 ngày, T/lập Đảng: 3 ngày, Giỗ tổ HV: 3 ngày, Lễ 30/4-01/5: 5 ngày, QK 2/9: 3 ngày, Sự kiện: 02 ngày. Tổng 28 ngày/năm. Ngày ăn thêm: Tết DL: 01 ngày, AL: 05 ngày, Giỗ tổ: 01 ngày, 30/4-1/5: 02 ngày, Qk 2/9: 02 ngày, 22/12: 01 ngày. Tổng 12 ngày.
A89: 1 | B89: DQTT | D89: 28 | F89: =SUBTOTAL(9,F90:F91) -> 24192000 | G89: =D89 -> 28 | I89: =SUBTOTAL(9,I90:I91) -> 24192000 | J89: =D89 -> 28 | L89: =SUBTOTAL(9,L90:L91) -> 24192000 | M89: =D89 -> 28 | O89: =SUBTOTAL(9,O90:O91) -> 24192000 | P89: =D89 -> 28 | R89: =SUBTOTAL(9,R90:R91) -> 24192000 | S89: =SUBTOTAL(9,S90:S91) -> 120960000
A90: - | B90: Tiền ăn
A91: - | B91: Tiền ăn thêm lễ, tết | C91: 72000 | D91: =D89 -> 28 | E91: 12 | F91: =D91*E91*$C91 -> 24192000 | G91: =D89 -> 28 | H91: =E91 -> 12 | I91: =G91*H91*$C91 -> 24192000 | J91: =G89 -> 28 | K91: =E91 -> 12 | L91: =J91*K91*$C91 -> 24192000 | M91: =J89 -> 28 | N91: =E91 -> 12 | O91: =M91*N91*$C91 -> 24192000 | P91: =M89 -> 28 | Q91: =E91 -> 12 | R91: =P91*Q91*$C91 -> 24192000 | S91: =F91+I91+L91+O91+R91 -> 120960000
A92: 2 | B92: Sử dụng 01 trung đội DQ cơ động cấp phường tăng cường | D92: =D93 -> 15 | F92: =SUBTOTAL(9,F93:F95) -> 17982000 | G92: =G93 -> 28 | I92: =SUBTOTAL(9,I93:I95) -> 22377600 | J92: =J93 -> 28 | L92: =SUBTOTAL(9,L93:L95) -> 22377600 | M92: =M93 -> 28 | O92: =SUBTOTAL(9,O93:O95) -> 22377600 | P92: =P93 -> 28 | R92: =SUBTOTAL(9,R93:R95) -> 22377600 | S92: =SUBTOTAL(9,S93:S95) -> 107492400
A93: - | B93: Tiền ăn | C93: 72000 | D93: 15 | E93: 3 | F93: =D93*E93*$C93 -> 3240000 | G93: 28 | H93: 2 | I93: =G93*H93*$C93 -> 4032000 | J93: =G93 -> 28 | K93: 2 | L93: =J93*K93*$C93 -> 4032000 | M93: =G93 -> 28 | N93: 2 | O93: =M93*N93*$C93 -> 4032000 | P93: =M93 -> 28 | Q93: 2 | R93: =P93*Q93*$C93 -> 4032000 | S93: =F93+I93+L93+O93+R93 -> 19368000
A94: - | B94: Tiền ăn thêm lễ, tết | C94: 72000 | F94: =D94*E94*$C94 -> 0 | I94: =G94*H94*$C94 -> 0 | L94: =J94*K94*$C94 -> 0 | O94: =M94*N94*$C94 -> 0 | R94: =P94*Q94*$C94 -> 0 | S94: =F94+I94+L94+O94+R94 -> 0
A95: - | B95: Trợ cấp ngày công LĐ | C95: 327600 | D95: =D93 -> 15 | E95: 3 | F95: =D95*E95*$C95 -> 14742000 | G95: =G93 -> 28 | H95: 2 | I95: =G95*H95*$C95 -> 18345600 | J95: =J93 -> 28 | K95: 2 | L95: =J95*K95*$C95 -> 18345600 | M95: =M93 -> 28 | N95: 2 | O95: =M95*N95*$C95 -> 18345600 | P95: =P93 -> 28 | Q95: 2 | R95: =P95*Q95*$C95 -> 18345600 | S95: =F95+I95+L95+O95+R95 -> 88124400

Sheet PL4.1
A1: Phụ lục 4.1
A2: KINH PHÍ BẢO ĐẢM TIỀN ĂN, TRỢ CẤP NGÀY CÔNG LAO ĐỘNG TẬP HUẤN; HUẤN LUYỆN; HỘI THI, HỘI THAO; DIỄN TẬP; PHỤ CẤP ĐẶC THÙ ĐI BIỂN; BHYT, BHXH, TRỢ CẤP MỘT LẦN ĐỐI VỚI DQTT; TRỰC SẴN SÀNG CHIẾN ĐẤU LỄ, TẾT (Kèm theo Đề án tổ chức lực lượng, huấn luyện, hoạt động và bảo đảm chế độ, chính sách cho Dân quân tự vệ trên địa bàn phường, giai đoạn 2026- 2030)
A4: TT | B4: Đối tượng chế độ hưởng | C4: Mức hưởng /người /ngày | D4: Năm 2026 | G4: Năm 2027 | J4: Năm 2028 | M4: Năm 2029 | P4: Năm 2030 | S4: Tổng 5 năm (đồng) | T4: Ghi chú
D5: Số người | E5: Số ngày huy động | F5: Thành tiền (đồng) | G5: Số người | H5: Số ngày huy động | I5: Thành tiền (đồng) | J5: Số người | K5: Số ngày huy động | L5: Thành tiền (đồng) | M5: Số người | N5: Số ngày huy động | O5: Thành tiền (đồng) | P5: Số người | Q5: Số ngày huy động | R5: Thành tiền (đồng)
A6: * | B6: TỔNG (A+B+C+D+E) | D6: =D8+D11+D14+D17+D20+D23+D26+D29+D32+D35 -> 812 | E6: =SUBTOTAL(9,E7:E37) -> 218 | F6: =SUBTOTAL(9,F7:F37) -> 4070001600 | G6: =D6 -> 812 | H6: =SUBTOTAL(9,H7:H37) -> 218 | I6: =SUBTOTAL(9,I7:I37) -> 2721351600 | J6: =D6 -> 812 | K6: =SUBTOTAL(9,K7:K37) -> 218 | L6: =SUBTOTAL(9,L7:L37) -> 2721351600 | M6: =D6 -> 812 | N6: =SUBTOTAL(9,N7:N37) -> 218 | O6: =SUBTOTAL(9,O7:O37) -> 2721351600 | P6: =D6 -> 812 | Q6: =SUBTOTAL(9,Q7:Q37) -> 218 | R6: =SUBTOTAL(9,R7:R37) -> 2721351600 | S6: =SUBTOTAL(9,S7:S37) -> 14955408000
A7: A | B7: TẬP HUẤN CÁN BỘ | F7: =SUBTOTAL(9,F8:F13) -> 277722000 | I7: =SUBTOTAL(9,I8:I13) -> 277722000 | L7: =SUBTOTAL(9,L8:L13) -> 277722000 | O7: =SUBTOTAL(9,O8:O13) -> 277722000 | R7: =SUBTOTAL(9,R8:R13) -> 277722000 | S7: =SUBTOTAL(9,S8:S13) -> 1388610000
A8: I | B8: b trưởng | D8: 25 | F8: =SUBTOTAL(9,F9:F10) -> 49950000 | G8: =D8 -> 25 | I8: =SUBTOTAL(9,I9:I10) -> 49950000 | J8: =D8 -> 25 | L8: =SUBTOTAL(9,L9:L10) -> 49950000 | M8: =D8 -> 25 | O8: =SUBTOTAL(9,O9:O10) -> 49950000 | P8: =D8 -> 25 | R8: =SUBTOTAL(9,R9:R10) -> 49950000 | S8: =SUBTOTAL(9,S9:S10) -> 249750000 | T8: TH: 05 ngày/năm (-bt DQTT)
A9: 1 | B9: Tiền ăn | C9: 72000 | D9: =D8 -> 25 | E9: 5 | F9: =D9*E9*$C9 -> 9000000 | G9: =G8 -> 25 | H9: 5 | I9: =G9*H9*$C9 -> 9000000 | J9: =J8 -> 25 | K9: 5 | L9: =J9*K9*$C9 -> 9000000 | M9: =M8 -> 25 | N9: 5 | O9: =M9*N9*$C9 -> 9000000 | P9: =P8 -> 25 | Q9: 5 | R9: =P9*Q9*$C9 -> 9000000 | S9: =F9+I9+L9+O9+R9 -> 45000000
A10: 2 | B10: Trợ cấp ngày công LĐ | C10: 327600 | D10: =D9 -> 25 | E10: 5 | F10: =D10*E10*$C10 -> 40950000 | G10: =G9 -> 25 | H10: 5 | I10: =G10*H10*$C10 -> 40950000 | J10: =J9 -> 25 | K10: 5 | L10: =J10*K10*$C10 -> 40950000 | M10: =M9 -> 25 | N10: 5 | O10: =M10*N10*$C10 -> 40950000 | P10: =P9 -> 25 | Q10: 5 | R10: =P10*Q10*$C10 -> 40950000 | S10: =F10+I10+L10+O10+R10 -> 204750000
A11: II | B11: Tổ đội trưởng, Tiểu đội, KĐT | D11: 114 | F11: =SUBTOTAL(9,F12:F13) -> 227772000 | G11: =D11 -> 114 | I11: =SUBTOTAL(9,I12:I13) -> 227772000 | J11: =D11 -> 114 | L11: =SUBTOTAL(9,L12:L13) -> 227772000 | M11: =D11 -> 114 | O11: =SUBTOTAL(9,O12:O13) -> 227772000 | P11: =D11 -> 114 | R11: =SUBTOTAL(9,R12:R13) -> 227772000 | S11: =SUBTOTAL(9,S12:S13) -> 1138860000 | T11: TH: 05 ngày/năm (-at DQTT)
A12: 1 | B12: Tiền ăn | C12: 72000 | D12: =D11 -> 114 | E12: 5 | F12: =D12*E12*$C12 -> 41040000 | G12: =G11 -> 114 | H12: 5 | I12: =G12*H12*$C12 -> 41040000 | J12: =J11 -> 114 | K12: 5 | L12: =J12*K12*$C12 -> 41040000 | M12: =M11 -> 114 | N12: 5 | O12: =M12*N12*$C12 -> 41040000 | P12: =P11 -> 114 | Q12: 5 | R12: =P12*Q12*$C12 -> 41040000 | S12: =F12+I12+L12+O12+R12 -> 205200000
A13: 2 | B13: Trợ cấp ngày công LĐ | C13: 327600 | D13: =D11 -> 114 | E13: 5 | F13: =D13*E13*$C13 -> 186732000 | G13: =G11 -> 114 | H13: 5 | I13: =G13*H13*$C13 -> 186732000 | J13: =J11 -> 114 | K13: 5 | L13: =J13*K13*$C13 -> 186732000 | M13: =M11 -> 114 | N13: 5 | O13: =M13*N13*$C13 -> 186732000 | P13: =P11 -> 114 | Q13: 5 | R13: =P13*Q13*$C13 -> 186732000 | S13: =F13+I13+L13+O13+R13 -> 933660000
A14: III | B14: DQ phòng không | D14: ='PL1'!Y7 -> 84 | F14: =SUBTOTAL(9,F15:F16) -> 402796800 | G14: =D14 -> 84 | I14: =SUBTOTAL(9,I15:I16) -> 402796800 | J14: =D14 -> 84 | L14: =SUBTOTAL(9,L15:L16) -> 402796800 | M14: =D14 -> 84 | O14: =SUBTOTAL(9,O15:O16) -> 402796800 | P14: =D14 -> 84 | R14: =SUBTOTAL(9,R15:R16) -> 402796800 | S14: =SUBTOTAL(9,S15:S16) -> 2013984000 | T14: HL: 12 ngày/năm
A15: 1 | B15: Tiền ăn | C15: 72000 | D15: =D14 -> 84 | E15: 12 | F15: =D15*E15*$C15 -> 72576000 | G15: =G14 -> 84 | H15: 12 | I15: =G15*H15*$C15 -> 72576000 | J15: =J14 -> 84 | K15: 12 | L15: =J15*K15*$C15 -> 72576000 | M15: =M14 -> 84 | N15: 12 | O15: =M15*N15*$C15 -> 72576000 | P15: =P14 -> 84 | Q15: 12 | R15: =P15*Q15*$C15 -> 72576000 | S15: =F15+I15+L15+O15+R15 -> 362880000
A16: 2 | B16: Trợ cấp ngày công LĐ | C16: 327600 | D16: =D14 -> 84 | E16: 12 | F16: =D16*E16*$C16 -> 330220800 | G16: =G14 -> 84 | H16: 12 | I16: =G16*H16*$C16 -> 330220800 | J16: =J14 -> 84 | K16: 12 | L16: =J16*K16*$C16 -> 330220800 | M16: =M14 -> 84 | N16: 12 | O16: =M16*N16*$C16 -> 330220800 | P16: =P14 -> 84 | Q16: 12 | R16: =P16*Q16*$C16 -> 330220800 | S16: =F16+I16+L16+O16+R16 -> 1651104000
A17: IV | B17: DQ pháo binh | D17: ='PL1'!AB7 -> 36 | F17: =SUBTOTAL(9,F18:F19) -> 168307200 | G17: =D17 -> 36 | I17: =SUBTOTAL(9,I18:I19) -> 168307200 | J17: =D17 -> 36 | L17: =SUBTOTAL(9,L18:L19) -> 168307200 | M17: =D17 -> 36 | O17: =SUBTOTAL(9,O18:O19) -> 168307200 | P17: =D17 -> 36 | R17: =SUBTOTAL(9,R18:R19) -> 168307200 | S17: =SUBTOTAL(9,S18:S19) -> 841536000 | T17: HL: 12 ngày/năm
A18: 1 | B18: Tiền ăn | C18: 62000 | D18: =D17 -> 36 | E18: 12 | F18: =D18*E18*$C18 -> 26784000 | G18: =G17 -> 36 | H18: 12 | I18: =G18*H18*$C18 -> 26784000 | J18: =J17 -> 36 | K18: 12 | L18: =J18*K18*$C18 -> 26784000 | M18: =M17 -> 36 | N18: 12 | O18: =M18*N18*$C18 -> 26784000 | P18: =P17 -> 36 | Q18: 12 | R18: =P18*Q18*$C18 -> 26784000 | S18: =F18+I18+L18+O18+R18 -> 133920000
A19: 2 | B19: Trợ cấp ngày công LĐ | C19: 327600 | D19: =D17 -> 36 | E19: 12 | F19: =D19*E19*$C19 -> 141523200 | G19: =G17 -> 36 | H19: 12 | I19: =G19*H19*$C19 -> 141523200 | J19: =J17 -> 36 | K19: 12 | L19: =J19*K19*$C19 -> 141523200 | M19: =M17 -> 36 | N19: 12 | O19: =M19*N19*$C19 -> 141523200 | P19: =P17 -> 36 | Q19: 12 | R19: =P19*Q19*$C19 -> 141523200 | S19: =F19+I19+L19+O19+R19 -> 707616000
A20: V | B20: DQ Trinh sát | D20: 12 | F20: =SUBTOTAL(9,F21:F22) -> 57542400 | G20: =D20 -> 12 | I20: =SUBTOTAL(9,I21:I22) -> 57542400 | J20: =G20 -> 12 | L20: =SUBTOTAL(9,L21:L22) -> 57542400 | M20: =G20 -> 12 | O20: =SUBTOTAL(9,O21:O22) -> 57542400 | P20: =G20 -> 12 | R20: =SUBTOTAL(9,R21:R22) -> 57542400 | S20: =SUBTOTAL(9,S21:S22) -> 287712000 | T20: HL: 12 ngày/năm
A21: 1 | B21: Tiền ăn | C21: 72000 | D21: =D20 -> 12 | E21: 12 | F21: =D21*E21*$C21 -> 10368000 | G21: =G20 -> 12 | H21: 12 | I21: =G21*H21*$C21 -> 10368000 | J21: =J20 -> 12 | K21: 12 | L21: =J21*K21*$C21 -> 10368000 | M21: =M20 -> 12 | N21: 12 | O21: =M21*N21*$C21 -> 10368000 | P21: =P20 -> 12 | Q21: 12 | R21: =P21*Q21*$C21 -> 10368000 | S21: =F21+I21+L21+O21+R21 -> 51840000
A22: 2 | B22: Trợ cấp ngày công LĐ | C22: 327600 | D22: =D20 -> 12 | E22: 12 | F22: =D22*E22*$C22 -> 47174400 | G22: =G20 -> 12 | H22: 12 | I22: =G22*H22*$C22 -> 47174400 | J22: =J20 -> 12 | K22: 12 | L22: =J22*K22*$C22 -> 47174400 | M22: =M20 -> 12 | N22: 12 | O22: =M22*N22*$C22 -> 47174400 | P22: =P20 -> 12 | Q22: 12 | R22: =P22*Q22*$C22 -> 47174400 | S22: =F22+I22+L22+O22+R22 -> 235872000
A23: VI | B23: DQ Công binh | D23: 18 | F23: =SUBTOTAL(9,F24:F25) -> 86313600 | G23: =D23 -> 18 | I23: =SUBTOTAL(9,I24:I25) -> 86313600 | J23: =G23 -> 18 | L23: =SUBTOTAL(9,L24:L25) -> 86313600 | M23: =G23 -> 18 | O23: =SUBTOTAL(9,O24:O25) -> 86313600 | P23: =G23 -> 18 | R23: =SUBTOTAL(9,R24:R25) -> 86313600 | S23: =SUBTOTAL(9,S24:S25) -> 431568000 | T23: HL: 12 ngày/năm
A24: 1 | B24: Tiền ăn | C24: 72000 | D24: =D23 -> 18 | E24: 12 | F24: =D24*E24*$C24 -> 15552000 | G24: =G23 -> 18 | H24: 12 | I24: =G24*H24*$C24 -> 15552000 | J24: =J23 -> 18 | K24: 12 | L24: =J24*K24*$C24 -> 15552000 | M24: =M23 -> 18 | N24: 12 | O24: =M24*N24*$C24 -> 15552000 | P24: =P23 -> 18 | Q24: 12 | R24: =P24*Q24*$C24 -> 15552000 | S24: =F24+I24+L24+O24+R24 -> 77760000
A25: 2 | B25: Trợ cấp ngày công LĐ | C25: 327600 | D25: =D23 -> 18 | E25: 12 | F25: =D25*E25*$C25 -> 70761600 | G25: =G23 -> 18 | H25: 12 | I25: =G25*H25*$C25 -> 70761600 | J25: =J23 -> 18 | K25: 12 | L25: =J25*K25*$C25 -> 70761600 | M25: =M23 -> 18 | N25: 12 | O25: =M25*N25*$C25 -> 70761600 | P25: =P23 -> 18 | Q25: 12 | R25: =P25*Q25*$C25 -> 70761600 | S25: =F25+I25+L25+O25+R25 -> 353808000
A26: VII | B26: DQ Thông tin | D26: 18 | F26: =SUBTOTAL(9,F27:F28) -> 86313600 | G26: =D26 -> 18 | I26: =SUBTOTAL(9,I27:I28) -> 86313600 | J26: =G26 -> 18 | L26: =SUBTOTAL(9,L27:L28) -> 86313600 | M26: =G26 -> 18 | O26: =SUBTOTAL(9,O27:O28) -> 86313600 | P26: =G26 -> 18 | R26: =SUBTOTAL(9,R27:R28) -> 86313600 | S26: =SUBTOTAL(9,S27:S28) -> 431568000 | T26: HL: 12 ngày/năm
A27: 1 | B27: Tiền ăn | C27: 72000 | D27: =D26 -> 18 | E27: 12 | F27: =D27*E27*$C27 -> 15552000 | G27: =G26 -> 18 | H27: 12 | I27: =G27*H27*$C27 -> 15552000 | J27: =J26 -> 18 | K27: 12 | L27: =J27*K27*$C27 -> 15552000 | M27: =M26 -> 18 | N27: 12 | O27: =M27*N27*$C27 -> 15552000 | P27: =P26 -> 18 | Q27: 12 | R27: =P27*Q27*$C27 -> 15552000 | S27: =F27+I27+L27+O27+R27 -> 77760000
A28: 2 | B28: Trợ cấp ngày công LĐ | C28: 327600 | D28: =D26 -> 18 | E28: 12 | F28: =D28*E28*$C28 -> 70761600 | G28: =G26 -> 18 | H28: 12 | I28: =G28*H28*$C28 -> 70761600 | J28: =J26 -> 18 | K28: 12 | L28: =J28*K28*$C28 -> 70761600 | M28: =M26 -> 18 | N28: 12 | O28: =M28*N28*$C28 -> 70761600 | P28: =P26 -> 18 | Q28: 12 | R28: =P28*Q28*$C28 -> 70761600 | S28: =F28+I28+L28+O28+R28 -> 353808000
A29: VIII | B29: DQ Phòng hóa | D29: 12 | F29: =SUBTOTAL(9,F30:F31) -> 57542400 | G29: =D29 -> 12 | I29: =SUBTOTAL(9,I30:I31) -> 57542400 | J29: =G29 -> 12 | L29: =SUBTOTAL(9,L30:L31) -> 57542400 | M29: =G29 -> 12 | O29: =SUBTOTAL(9,O30:O31) -> 57542400 | P29: =G29 -> 12 | R29: =SUBTOTAL(9,R30:R31) -> 57542400 | S29: =SUBTOTAL(9,S30:S31) -> 287712000 | T29: HL: 12 ngày/năm
A30: 1 | B30: Tiền ăn | C30: 72000 | D30: =D29 -> 12 | E30: 12 | F30: =D30*E30*$C30 -> 10368000 | G30: =G29 -> 12 | H30: 12 | I30: =G30*H30*$C30 -> 10368000 | J30: =J29 -> 12 | K30: 12 | L30: =J30*K30*$C30 -> 10368000 | M30: =M29 -> 12 | N30: 12 | O30: =M30*N30*$C30 -> 10368000 | P30: =P29 -> 12 | Q30: 12 | R30: =P30*Q30*$C30 -> 10368000 | S30: =F30+I30+L30+O30+R30 -> 51840000
A31: 2 | B31: Trợ cấp ngày công LĐ | C31: 327600 | D31: =D29 -> 12 | E31: 12 | F31: =D31*E31*$C31 -> 47174400 | G31: =G29 -> 12 | H31: 12 | I31: =G31*H31*$C31 -> 47174400 | J31: =J29 -> 12 | K31: 12 | L31: =J31*K31*$C31 -> 47174400 | M31: =M29 -> 12 | N31: 12 | O31: =M31*N31*$C31 -> 47174400 | P31: =P29 -> 12 | Q31: 12 | R31: =P31*Q31*$C31 -> 47174400 | S31: =F31+I31+L31+O31+R31 -> 235872000
A32: IX | B32: DQ Y tế | D32: 18 | F32: =SUBTOTAL(9,F33:F34) -> 86313600 | G32: =D32 -> 18 | I32: =SUBTOTAL(9,I33:I34) -> 86313600 | J32: =G32 -> 18 | L32: =SUBTOTAL(9,L33:L34) -> 86313600 | M32: =G32 -> 18 | O32: =SUBTOTAL(9,O33:O34) -> 86313600 | P32: =G32 -> 18 | R32: =SUBTOTAL(9,R33:R34) -> 86313600 | S32: =SUBTOTAL(9,S33:S34) -> 431568000 | T32: HL: 12 ngày/năm
A33: 1 | B33: Tiền ăn | C33: 72000 | D33: =D32 -> 18 | E33: 12 | F33: =D33*E33*$C33 -> 15552000 | G33: =G32 -> 18 | H33: 12 | I33: =G33*H33*$C33 -> 15552000 | J33: =J32 -> 18 | K33: 12 | L33: =J33*K33*$C33 -> 15552000 | M33: =M32 -> 18 | N33: 12 | O33: =M33*N33*$C33 -> 15552000 | P33: =P32 -> 18 | Q33: 12 | R33: =P33*Q33*$C33 -> 15552000 | S33: =F33+I33+L33+O33+R33 -> 77760000
A34: 2 | B34: Trợ cấp ngày công LĐ | C34: 327600 | D34: =D32 -> 18 | E34: 12 | F34: =D34*E34*$C34 -> 70761600 | G34: =G32 -> 18 | H34: 12 | I34: =G34*H34*$C34 -> 70761600 | J34: =J32 -> 18 | K34: 12 | L34: =J34*K34*$C34 -> 70761600 | M34: =M32 -> 18 | N34: 12 | O34: =M34*N34*$C34 -> 70761600 | P34: =P32 -> 18 | Q34: 12 | R34: =P34*Q34*$C34 -> 70761600 | S34: =F34+I34+L34+O34+R34 -> 353808000
A35: X | B35: DQ năm thứ nhất | D35: =PL2A!E18 -> 475 | F35: =SUBTOTAL(9,F36:F37) -> 2847150000 | G35: =PL2A!G18 -> 250 | I35: =SUBTOTAL(9,I36:I37) -> 1498500000 | J35: =G35 -> 250 | L35: =SUBTOTAL(9,L36:L37) -> 1498500000 | M35: =G35 -> 250 | O35: =SUBTOTAL(9,O36:O37) -> 1498500000 | P35: =G35 -> 250 | R35: =SUBTOTAL(9,R36:R37) -> 1498500000 | S35: =SUBTOTAL(9,S36:S37) -> 8841150000 | T35: HL: 15 ngày/năm
A36: 1 | B36: Tiền ăn | C36: 72000 | D36: =D35 -> 475 | E36: 15 | F36: =D36*E36*$C36 -> 513000000 | G36: =G35 -> 250 | H36: 15 | I36: =G36*H36*$C36 -> 270000000 | J36: =J35 -> 250 | K36: 15 | L36: =J36*K36*$C36 -> 270000000 | M36: =M35 -> 250 | N36: 15 | O36: =M36*N36*$C36 -> 270000000 | P36: =P35 -> 250 | Q36: 15 | R36: =P36*Q36*$C36 -> 270000000 | S36: =F36+I36+L36+O36+R36 -> 1593000000
A37: 2 | B37: Trợ cấp ngày công LĐ | C37: 327600 | D37: =D35 -> 475 | E37: 15 | F37: =D37*E37*$C37 -> 2334150000 | G37: =G35 -> 250 | H37: 15 | I37: =G37*H37*$C37 -> 1228500000 | J37: =J35 -> 250 | K37: 15 | L37: =J37*K37*$C37 -> 1228500000 | M37: =M35 -> 250 | N37: 15 | O37: =M37*N37*$C37 -> 1228500000 | P37: =P35 -> 250 | Q37: 15 | R37: =P37*Q37*$C37 -> 1228500000 | S37: =F37+I37+L37+O37+R37 -> 7248150000

Sheet PL4.2
A1: Phụ lục 4.2
A2: KINH PHÍ BẢO ĐẢM TIỀN ĂN, TRỢ CẤP NGÀY CÔNG LAO ĐỘNG TẬP HUẤN; HUẤN LUYỆN; HỘI THI, HỘI THAO; DIỄN TẬP; PHỤ CẤP ĐẶC THÙ ĐI BIỂN; BHYT, BHXH, TRỢ CẤP MỘT LẦN ĐỐI VỚI DQTT; TRỰC SẴN SÀNG CHIẾN ĐẤU LỄ, TẾT (Kèm theo Đề án tổ chức lực lượng, huấn luyện, hoạt động và bảo đảm chế độ, chính sách cho Dân quân tự vệ trên địa bàn phường, giai đoạn 2026- 2030)
A4: TT | B4: Đối tượng chế độ hưởng | C4: Mức hưởng /người /ngày | D4: Năm 2026 | G4: Năm 2027 | J4: Năm 2028 | M4: Năm 2029 | P4: Năm 2030 | S4: Tổng 5 năm (đồng) | T4: Ghi chú
D5: Số người | E5: Số ngày huy động | F5: Thành tiền (đồng) | G5: Số người | H5: Số ngày huy động | I5: Thành tiền (đồng) | J5: Số người | K5: Số ngày huy động | L5: Thành tiền (đồng) | M5: Số người | N5: Số ngày huy động | O5: Thành tiền (đồng) | P5: Số người | Q5: Số ngày huy động | R5: Thành tiền (đồng)
A6: * | B6: TỔNG (A+B+C+D+E) | D6: =D8+D15+D22+D25+D41+D44 -> 1237 | E6: =SUBTOTAL(9,E7:E47) -> 1179 | F6: =SUBTOTAL(9,F7:F47) -> 9035736980 | G6: =SUBTOTAL(9,G7:G47) -> 2723 | H6: =SUBTOTAL(9,H7:H47) -> 1155 | I6: =SUBTOTAL(9,I7:I47) -> 6882292580 | J6: =SUBTOTAL(9,J7:J47) -> 2723 | K6: =SUBTOTAL(9,K7:K47) -> 1155 | L6: =SUBTOTAL(9,L7:L47) -> 6882292580 | ... S6: =SUBTOTAL(9,S7:S47) -> 38746723300
A7: A | B7: HUẤN LUYỆN, BẢO HIỂM, TRỢ CẤP | F7: =SUBTOTAL(9,F8:F24) -> 6811746980 | I7: =SUBTOTAL(9,I8:I24) -> 6811746980 | L7: =SUBTOTAL(9,L8:L24) -> 6811746980 | O7: =SUBTOTAL(9,O8:O24) -> 6811746980 | R7: =SUBTOTAL(9,R8:R24) -> 6811746980 | S7: =SUBTOTAL(9,S8:S24) -> 34058734900
A8: I | B8: Trung đội cơ động | D8: =PL2A!E27 -> 84 | F8: =SUBTOTAL(9,F9:F10) -> 402796800 | G8: =D8 -> 84 | I8: =SUBTOTAL(9,I9:I10) -> 402796800 | J8: =G8 -> 84 | L8: =SUBTOTAL(9,L9:L10) -> 402796800 | M8: =G8 -> 84 | O8: =SUBTOTAL(9,O9:O10) -> 402796800 | P8: =G8 -> 84 | R8: =SUBTOTAL(9,R9:R10) -> 402796800 | S8: =SUBTOTAL(9,S9:S10) -> 2013984000 | T8: HL: 12 ngày/năm
A9: 1 | B9: Tiền ăn | C9: 72000 | D9: =D8 -> 84 | E9: 12 | F9: =D9*E9*$C9 -> 72576000 | G9: =G8 -> 84 | H9: 12 | I9: =G9*H9*$C9 -> 72576000 | J9: =J8 -> 84 | K9: 12 | L9: =J9*K9*$C9 -> 72576000 | M9: =M8 -> 84 | N9: 12 | O9: =M9*N9*$C9 -> 72576000 | P9: =P8 -> 84 | Q9: 12 | R9: =P9*Q9*$C9 -> 72576000 | S9: =F9+I9+L9+O9+R9 -> 362880000
A10: 2 | B10: Trợ cấp ngày công LĐ | C10: 327600 | D10: =D9 -> 84 | E10: 12 | F10: =D10*E10*$C10 -> 330220800 | G10: =G9 -> 84 | H10: 12 | I10: =G10*H10*$C10 -> 330220800 | J10: =J9 -> 84 | K10: 12 | L10: =J10*K10*$C10 -> 330220800 | M10: =M9 -> 84 | N10: 12 | O10: =M10*N10*$C10 -> 330220800 | P10: =P9 -> 84 | Q10: 12 | R10: =P10*Q10*$C10 -> 330220800 | S10: =F10+I10+L10+O10+R10 -> 1651104000
A11: II | B11: Hải đội DQTT | D11: ='PL1'!M11 -> 0 | F11: =SUBTOTAL(9,F12:F14) -> 0 | G11: =D11 -> 0 | I11: =SUBTOTAL(9,I12:I14) -> 0 | J11: =D11 -> 0 | L11: =SUBTOTAL(9,L12:L14) -> 0 | M11: =D11 -> 0 | O11: =SUBTOTAL(9,O12:O14) -> 0 | P11: =D11 -> 0 | R11: =SUBTOTAL(9,R12:R14) -> 0 | S11: =SUBTOTAL(9,S12:S14) -> 0
A12: 1 | B12: Đóng BHYT (1 năm) | C12: =105300*12 -> 1263600 | D12: =D11 -> 0 | F12: =D12*C12 -> 0 | G12: =G11 -> 0 | I12: =G12*$C12 -> 0 | J12: =J11 -> 0 | L12: =J12*$C12 -> 0 | M12: =M11 -> 0 | O12: =M12*$C12 -> 0 | P12: =P11 -> 0 | R12: =P12*$C12 -> 0 | S12: =F12+I12+L12+O12+R12 -> 0
A13: 2 | B13: Đóng BHXH (1 năm) | C13: =2300000*22.5%*12 -> 6210000 | D13: =D11 -> 0 | F13: =D13*C13 -> 0 | G13: =G11 -> 0 | I13: =G13*$C13 -> 0 | J13: =J11 -> 0 | L13: =J13*$C13 -> 0 | M13: =M11 -> 0 | O13: =M13*$C13 -> 0 | P13: =P11 -> 0 | R13: =P13*$C13 -> 0 | S13: =F13+I13+L13+O13+R13 -> 0
A14: 3 | B14: Trợ cấp 1 lần (1 năm) | C14: =4680000*2 -> 9360000 | D14: =D11*25% -> 0 | F14: =D14*C14 -> 0 | G14: =D14 -> 0 | I14: =G14*$C14 -> 0 | J14: =D14 -> 0 | L14: =J14*$C14 -> 0 | M14: =D14 -> 0 | O14: =M14*$C14 -> 0 | P14: =D14 -> 0 | R14: =P14*$C14 -> 0 | S14: =F14+I14+L14+O14+R14 -> 0 | T14: Năm 2014 ra 50%, 50% còn lại 3 năm ra
A15: II | B15: Trung đội DQTT | D15: 28 | F15: =SUBTOTAL(9,F16:F21) -> 4473287780 | G15: =D15 -> 28 | I15: =SUBTOTAL(9,I16:I21) -> 4473287780 | J15: =D15 -> 28 | L15: =SUBTOTAL(9,L16:L21) -> 4473287780 | M15: =D15 -> 28 | O15: =SUBTOTAL(9,O16:O21) -> 4473287780 | P15: =D15 -> 28 | R15: =SUBTOTAL(9,R16:R21) -> 4473287780 | S15: =SUBTOTAL(9,S16:S21) -> 22366438900 | T15: Th/trực 365 ngày
A16: 1 | B16: Tiền ăn | C16: 72000 | D16: 28 | E16: 365 | F16: =D16*E16*$C16 -> 735840000 | G16: =G15 -> 28 | H16: 365 | I16: =G16*H16*$C16 -> 735840000 | J16: =J15 -> 28 | K16: 365 | L16: =J16*K16*$C16 -> 735840000 | M16: =M15 -> 28 | N16: 365 | O16: =M16*N16*$C16 -> 735840000 | P16: =P15 -> 28 | Q16: 365 | R16: =P16*Q16*$C16 -> 735840000 | S16: =F16+I16+L16+O16+R16 -> 3679200000
A17: 2 | B17: Trợ cấp ngày công LĐ | C17: 327600 | D17: =D15 -> 28 | E17: 365 | F17: =D17*E17*$C17 -> 3348072000 | G17: =G15 -> 28 | H17: 365 | I17: =G17*H17*$C17 -> 3348072000 | J17: =J15 -> 28 | K17: 365 | L17: =J17*K17*$C17 -> 3348072000 | M17: =M15 -> 28 | N17: 365 | O17: =M17*N17*$C17 -> 3348072000 | P17: =P15 -> 28 | Q17: 365 | R17: =P17*Q17*$C17 -> 3348072000 | S17: =F17+I17+L17+O17+R17 -> 16740360000
A18: 3 | B18: Điện, nước | C18: 134452 | D18: 28 | E18: 365 | F18: =C18*E18 -> 49074980 | G18: =G16 -> 28 | H18: 365 | I18: =H18*C18 -> 49074980 | J18: =J16 -> 28 | K18: 365 | L18: =F18 -> 49074980 | M18: =M16 -> 28 | N18: 365 | O18: =F18 -> 49074980 | P18: =P16 -> 28 | Q18: 365 | R18: =F18 -> 49074980 | S18: =F18+I18+L18+O18+R18 -> 245374900
A19: 4 | B19: Đóng BHYT (1 năm) | C19: =105300*12 -> 1263600 | D19: =D15 -> 28 | F19: =D19*$C19 -> 35380800 | G19: =G15 -> 28 | I19: =G19*$C19 -> 35380800 | J19: =J15 -> 28 | L19: =J19*$C19 -> 35380800 | M19: =M15 -> 28 | O19: =M19*$C19 -> 35380800 | P19: =P15 -> 28 | R19: =P19*$C19 -> 35380800 | S19: =F19+I19+L19+O19+R19 -> 176904000
A20: 5 | B20: Đóng BHXH (1 năm) | C20: =2300000*22.5%*12 -> 6210000 | D20: =D16 -> 28 | F20: =D20*$C20 -> 173880000 | G20: =G16 -> 28 | I20: =G20*$C20 -> 173880000 | J20: =J16 -> 28 | L20: =J20*$C20 -> 173880000 | M20: =M16 -> 28 | O20: =M20*$C20 -> 173880000 | P20: =P16 -> 28 | R20: =P20*$C20 -> 173880000 | S20: =F20+I20+L20+O20+R20 -> 869400000
A21: 6 | B21: Trợ cấp 1 lần (25%/năm) | C21: =4680000*2 -> 9360000 | D21: =ROUND(D15*25%,0) -> 7 | F21: =D21*$C21*2 -> 131040000 | G21: =D21 -> 7 | I21: =G21*$C21*2 -> 131040000 | J21: =D21 -> 7 | L21: =J21*$C21*2 -> 131040000 | M21: =D21 -> 7 | O21: =M21*$C21*2 -> 131040000 | P21: =D21 -> 7 | R21: =P21*$C21*2 -> 131040000 | S21: =F21+I21+L21+O21+R21 -> 655200000
A22: III | B22: DQ tại chỗ | D22: =PL2A!E35 -> 692 | F22: =SUBTOTAL(9,F23:F24) -> 1935662400 | G22: =D22 -> 692 | I22: =SUBTOTAL(9,I23:I24) -> 1935662400 | J22: =G22 -> 692 | L22: =SUBTOTAL(9,L23:L24) -> 1935662400 | M22: =G22 -> 692 | O22: =SUBTOTAL(9,O23:O24) -> 1935662400 | P22: =G22 -> 692 | R22: =SUBTOTAL(9,R23:R24) -> 1935662400 | S22: =SUBTOTAL(9,S23:S24) -> 9678312000 | T22: HL: 7 ngày/năm
A23: 1 | B23: Tiền ăn | C23: 72000 | D23: =D22 -> 692 | E23: 7 | F23: =D23*E23*$C23 -> 348768000 | G23: =G22 -> 692 | H23: 7 | I23: =G23*H23*$C23 -> 348768000 | J23: =J22 -> 692 | K23: 7 | L23: =J23*K23*$C23 -> 348768000 | M23: =M22 -> 692 | N23: 7 | O23: =M23*N23*$C23 -> 348768000 | P23: =P22 -> 692 | Q23: 7 | R23: =P23*Q23*$C23 -> 348768000 | S23: =F23+I23+L23+O23+R23 -> 1743840000
A24: 2 | B24: Trợ cấp ngày công LĐ | C24: 327600 | D24: =D22 -> 692 | E24: 7 | F24: =D24*E24*$C24 -> 1586894400 | G24: =G22 -> 692 | H24: 7 | I24: =G24*H24*$C24 -> 1586894400 | J24: =J22 -> 692 | K24: 7 | L24: =J24*K24*$C24 -> 1586894400 | M24: =M22 -> 692 | N24: 7 | O24: =M24*N24*$C24 -> 1586894400 | P24: =P22 -> 692 | Q24: 7 | R24: =P24*Q24*$C24 -> 1586894400 | S24: =F24+I24+L24+O24+R24 -> 7934472000
A25: B | B25: DIỄN TẬP | D25: =D26 -> 390 | E25: =E26 -> 0 | F25: =SUBTOTAL(9,F26:F28) -> 2181816000 | G25: =G26 -> 0 | H25: =H26 -> 0 | I25: =SUBTOTAL(9,I26:I28) -> 0 | J25: =J26 -> 0 | K25: =K26 -> 0 | L25: =SUBTOTAL(9,L26:L28) -> 0 | M25: =M26 -> 390 | N25: =N26 -> 0 | O25: =SUBTOTAL(9,O26:O28) -> 2181816000 | P25: =P26 -> 0 | Q25: =Q26 -> 0 | R25: =SUBTOTAL(9,R26:R28) -> 0 | S25: =SUBTOTAL(9,S26:S28) -> 4363632000
A26: I | B26: Chiến đấu PT cấp phường | D26: 390 | F26: =SUBTOTAL(9,F27:F28) -> 2181816000 | I26: =SUBTOTAL(9,I27:I28) -> 0 | L26: =SUBTOTAL(9,L27:L28) -> 0 | M26: =D26 -> 390 | O26: =SUBTOTAL(9,O27:O28) -> 2181816000 | R26: =SUBTOTAL(9,R27:R28) -> 0 | S26: =SUBTOTAL(9,S27:S28) -> 4363632000 | T26: Mỗi năm 30% cấp xã x 1bDQCĐ
A27: 1 | B27: Tiền ăn | C27: 72000 | D27: 390 | E27: 14 | F27: =D27*E27*$C27 -> 393120000 | G27: =G26 -> 0 | I27: =G27*H27*$C27 -> 0 | J27: =J26 -> 0 | L27: =J27*K27*$C27 -> 0 | M27: =M26 -> 390 | N27: 14 | O27: =M27*N27*$C27 -> 393120000 | R27: =P27*Q27*$C27 -> 0 | S27: =F27+I27+L27+O27+R27 -> 786240000
A28: 2 | B28: Trợ cấp ngày công LĐ | C28: 327600 | D28: =D27 -> 390 | E28: 14 | F28: =D28*E28*$C28 -> 1788696000 | G28: =G27 -> 0 | I28: =G28*H28*$C28 -> 0 | J28: =J27 -> 0 | L28: =J28*K28*$C28 -> 0 | M28: =M27 -> 390 | N28: 14 | O28: =M28*N28*$C28 -> 1788696000 | R28: =P28*Q28*$C28 -> 0 | S28: =F28+I28+L28+O28+R28 -> 3577392000
A29: C | B29: HỘI THAO | D29: =D30+D33+D36 -> 0 | F29: =SUBTOTAL(9,F30:F39) -> 0 | G29: =G30+G33+G36 -> 20 | I29: =SUBTOTAL(9,I30:I39) -> 23976000 | J29: =J30+J33+J36 -> 20 | L29: =SUBTOTAL(9,L30:L39) -> 23976000 | M29: =M30+M33+M36 -> 20 | O29: =SUBTOTAL(9,O30:O39) -> 23976000 | P29: =P30+P33+P36 -> 20 | R29: =SUBTOTAL(9,R30:R39) -> 23976000 | S29: =SUBTOTAL(9,S30:S39) -> 95904000
A30: 1 | B30: Cấp phường | F30: =SUBTOTAL(9,F31:F32) -> 0 | G30: =G31 -> 20 | I30: =SUBTOTAL(9,I31:I32) -> 23976000 | J30: =G30 -> 20 | L30: =SUBTOTAL(9,L31:L32) -> 23976000 | M30: =G30 -> 20 | O30: =SUBTOTAL(9,O31:O32) -> 23976000 | P30: =G30 -> 20 | R30: =SUBTOTAL(9,R31:R32) -> 23976000 | S30: =SUBTOTAL(9,S31:S32) -> 95904000
A31: - | B31: Tiền ăn | C31: 72000 | F31: =D31*E31*$C31 -> 0 | G31: 20 | H31: 3 | I31: =G31*H31*$C31 -> 4320000 | J31: =G31 -> 20 | K31: 3 | L31: =J31*K31*$C31 -> 4320000 | M31: =G31 -> 20 | N31: 3 | O31: =M31*N31*$C31 -> 4320000 | P31: =G31 -> 20 | Q31: =N31 -> 3 | R31: =P31*Q31*$C31 -> 4320000 | S31: =F31+I31+L31+O31+R31 -> 17280000 | T31: 1 lần/năm (xã, p x 02 VĐV)
A32: - | B32: Trợ cấp ngày công LĐ | C32: 327600 | F32: =D32*E32*$C32 -> 0 | G32: =G31 -> 20 | H32: 3 | I32: =G32*H32*$C32 -> 19656000 | J32: =G32 -> 20 | K32: 3 | L32: =J32*K32*$C32 -> 19656000 | M32: =G32 -> 20 | N32: 3 | O32: =M32*N32*$C32 -> 19656000 | P32: =G32 -> 20 | Q32: =H32 -> 3 | R32: =P32*Q32*$C32 -> 19656000 | S32: =F32+I32+L32+O32+R32 -> 78624000
A33: 2 | B33: Cấp tỉnh | F33: =SUBTOTAL(9,F34:F35) -> 0 | G33: =G34 -> 0 | I33: =SUBTOTAL(9,I34:I35) -> 0 | J33: =D33 -> 0 | L33: =SUBTOTAL(9,L34:L35) -> 0 | O33: =SUBTOTAL(9,O34:O35) -> 0 | R33: =SUBTOTAL(9,R34:R35) -> 0 | S33: =SUBTOTAL(9,S34:S35) -> 0
A34: - | B34: Tiền ăn | C34: 72000 | D34: =D33 -> 0 | F34: =D34*E34*$C34 -> 0 | I34: =G34*H34*$C34 -> 0 | J34: =J33 -> 0 | L34: =J34*K34*$C34 -> 0 | O34: =M34*N34*$C34 -> 0 | R34: =P34*Q34*$C34 -> 0 | S34: =F34+I34+L34+O34+R34 -> 0
A35: - | B35: Trợ cấp ngày công LĐ | C35: 327600 | D35: =D34 -> 0 | F35: =D35*E35*$C35 -> 0 | I35: =G35*H35*$C35 -> 0 | J35: =J34 -> 0 | L35: =J35*K35*$C35 -> 0 | O35: =M35*N35*$C35 -> 0 | R35: =P35*Q35*$C35 -> 0 | S35: =F35+I35+L35+O35+R35 -> 0
A36: 3 | B36: Quân khu | F36: =SUBTOTAL(9,F37:F39) -> 0 | I36: =SUBTOTAL(9,I37:I39) -> 0 | J36: =D36 -> 0 | L36: =SUBTOTAL(9,L37:L39) -> 0 | M36: =M37 -> 0 | O36: =SUBTOTAL(9,O37:O39) -> 0 | P36: =D36 -> 0 | R36: =SUBTOTAL(9,R37:R39) -> 0 | S36: =SUBTOTAL(9,S37:S39) -> 0
A37: - | B37: Tiền ăn | C37: 72000 | F37: =D37*E37*$C37 -> 0 | G37: =G36 -> 0 | I37: =G37*H37*$C37 -> 0 | L37: =J37*K37*$C37 -> 0 | O37: =M37*N37*$C37 -> 0 | R37: =P37*Q37*$C37 -> 0 | S37: =F37+I37+L37+O37+R37 -> 0
A38: - | B38: Trợ cấp ngày công LĐ | C38: 327600 | F38: =D38*E38*$C38 -> 0 | G38: =G36 -> 0 | I38: =G38*H38*$C38 -> 0 | L38: =J38*K38*$C38 -> 0 | O38: =M38*N38*$C38 -> 0 | R38: =P38*Q38*$C38 -> 0 | S38: =F38+I38+L38+O38+R38 -> 0
A39: - | B39: Bảo đảm khác | C39: 20000 | F39: =D39*E39*$C39 -> 0 | G39: =G36 -> 0 | I39: =G39*H39*$C39 -> 0 | L39: =J39*K39*$C39 -> 0 | O39: =M39*N39*$C39 -> 0 | R39: =P39*Q39*$C39 -> 0 | S39: =F39+I39+L39+O39+R39 -> 0
A40: D | B40: TRỰC SSCĐ LỄ, TẾT, SỰ KIỆN TRỌNG ĐẠI | F40: =SUBTOTAL(9,F41:F47) -> 42174000 | I40: =SUBTOTAL(9,I41:I47) -> 46569600 | L40: =SUBTOTAL(9,L41:L47) -> 46569600 | O40: =SUBTOTAL(9,O41:O47) -> 46569600 | R40: =SUBTOTAL(9,R41:R47) -> 46569600 | S40: =SUBTOTAL(9,S41:S47) -> 228452400 | T40: Ngày trực: Tết dương lịch: 3 ngày, Tết cổ truyền: 9 ngày, T/lập Đảng: 3 ngày, Giỗ tổ HV: 3 ngày, Lễ 30/4-01/5: 5 ngày, QK 2/9: 3 ngày, Sự kiện: 02 ngày. Tổng 28 ngày/năm. Ngày ăn thêm: Tết DL: 01 ngày, AL: 05 ngày, Giỗ tổ: 01 ngày, 30/4-1/5: 02 ngày, Qk 2/9: 02 ngày, 22/12: 01 ngày. Tổng 12 ngày.
A41: 1 | B41: DQTT | D41: 28 | F41: =SUBTOTAL(9,F42:F43) -> 24192000 | G41: =D41 -> 28 | I41: =SUBTOTAL(9,I42:I43) -> 24192000 | J41: =D41 -> 28 | L41: =SUBTOTAL(9,L42:L43) -> 24192000 | M41: =D41 -> 28 | O41: =SUBTOTAL(9,O42:O43) -> 24192000 | P41: =D41 -> 28 | R41: =SUBTOTAL(9,R42:R43) -> 24192000 | S41: =SUBTOTAL(9,S42:S43) -> 120960000
A42: - | B42: Tiền ăn
A43: - | B43: Tiền ăn thêm lễ, tết | C43: 72000 | D43: =D41 -> 28 | E43: 12 | F43: =D43*E43*$C43 -> 24192000 | G43: =D41 -> 28 | H43: =E43 -> 12 | I43: =G43*H43*$C43 -> 24192000 | J43: =G41 -> 28 | K43: =E43 -> 12 | L43: =J43*K43*$C43 -> 24192000 | M43: =J41 -> 28 | N43: =E43 -> 12 | O43: =M43*N43*$C43 -> 24192000 | P43: =M41 -> 28 | Q43: =E43 -> 12 | R43: =P43*Q43*$C43 -> 24192000 | S43: =F43+I43+L43+O43+R43 -> 120960000
A44: 2 | B44: Sử dụng 01 trung đội DQ cơ động cấp phường tăng cường | D44: =D45 -> 15 | F44: =SUBTOTAL(9,F45:F47) -> 17982000 | G44: =G45 -> 28 | I44: =SUBTOTAL(9,I45:I47) -> 22377600 | J44: =J45 -> 28 | L44: =SUBTOTAL(9,L45:L47) -> 22377600 | M44: =M45 -> 28 | O44: =SUBTOTAL(9,O45:O47) -> 22377600 | P44: =P45 -> 28 | R44: =SUBTOTAL(9,R45:R47) -> 22377600 | S44: =SUBTOTAL(9,S45:S47) -> 107492400
A45: - | B45: Tiền ăn | C45: 72000 | D45: 15 | E45: 3 | F45: =D45*E45*$C45 -> 3240000 | G45: 28 | H45: 2 | I45: =G45*H45*$C45 -> 4032000 | J45: =G45 -> 28 | K45: 2 | L45: =J45*K45*$C45 -> 4032000 | M45: =G45 -> 28 | N45: 2 | O45: =M45*N45*$C45 -> 4032000 | P45: =M45 -> 28 | Q45: 2 | R45: =P45*Q45*$C45 -> 4032000 | S45: =F45+I45+L45+O45+R45 -> 19368000
A46: - | B46: Tiền ăn thêm lễ, tết | C46: 72000 | F46: =D46*E46*$C46 -> 0 | I46: =G46*H46*$C46 -> 0 | L46: =J46*K46*$C46 -> 0 | O46: =M46*N46*$C46 -> 0 | R46: =P46*Q46*$C46 -> 0 | S46: =F46+I46+L46+O46+R46 -> 0
A47: - | B47: Trợ cấp ngày công LĐ | C47: 327600 | D47: =D45 -> 15 | E47: 3 | F47: =D47*E47*$C47 -> 14742000 | G47: =G45 -> 28 | H47: 2 | I47: =G47*H47*$C47 -> 18345600 | J47: =J45 -> 28 | K47: 2 | L47: =J47*K47*$C47 -> 18345600 | M47: =M45 -> 28 | N47: 2 | O47: =M47*N47*$C47 -> 18345600 | P47: =P45 -> 28 | Q47: 2 | R47: =P47*Q47*$C47 -> 18345600 | S47: =F47+I47+L47+O47+R47 -> 88124400

Sheet PL5
A1: Phụ lục 5
A2: KINH PHÍ BẢO ĐẢM CÔNG CỤ HỖ TRỢ, VŨ KHÍ THÔ SƠ, TRANG THIẾT BỊ PHƯƠNG TIỆN KỸ THUẬT; CƠ SỞ VẬT CHẤT (Kèm theo Đề án tổ chức lực lượng, huấn luyện, hoạt động và bảo đảm chế độ, chính sách cho Dân quân tự vệ trên địa bàn phường, giai đoạn 2026- 2030)
A4: TT | B4: Loại vật chất | C4: Số lượng | D4: ĐVT | E4: Đơn giá (đồng) | F4: Năm 2026 | H4: Năm 2027 | J4: Năm 2028 | L4: Năm 2029 | N4: Năm 2030 | P4: Tổng 5 năm | Q4: Ghi chú
F5: SL | G5: Thành tiền (đồng) | H5: SL | I5: Thành tiền (đồng) | J5: SL | K5: Thành tiền (đồng) | L5: SL | M5: Thành tiền (đồng) | N5: SL | O5: Thành tiền (đồng)
A6: * | B6: TỔNG CỘNG | F6: =SUBTOTAL(9,F7:F45) -> 530 | G6: =SUBTOTAL(9,G7:G45) -> 583632200 | H6: =SUBTOTAL(9,H7:H45) -> 554 | I6: =SUBTOTAL(9,I7:I45) -> 562432200 | J6: =SUBTOTAL(9,J7:J45) -> 518 | K6: =SUBTOTAL(9,K7:K45) -> 471632200 | L6: =SUBTOTAL(9,L7:L45) -> 516 | M6: =SUBTOTAL(9,M7:M45) -> 431632200 | ... P6: =SUBTOTAL(9,P7:P45) -> 2067485000 | R6: 144063459000 | S6: =R6-P6 -> 141995974000
A7: I | B7: Công cụ hỗ trợ, vũ khí thô sơ, trang thiết bị, phương tiện kỹ thuật | F7: =SUBTOTAL(9,F8:F20) -> 239 | G7: =SUBTOTAL(9,G8:G20) -> 415476000 | H7: =SUBTOTAL(9,H8:H20) -> 238 | I7: =SUBTOTAL(9,I8:I20) -> 413476000 | J7: =SUBTOTAL(9,J8:J20) -> 238 | K7: =SUBTOTAL(9,K8:K20) -> 413476000 | L7: =SUBTOTAL(9,L8:L20) -> 238 | M7: =SUBTOTAL(9,M8:M20) -> 413476000 | ... P7: =SUBTOTAL(9,P8:P20) -> 1655904000
A8: 1 | B8: Công cụ hỗ trợ | C8: ='PL1'!K7+'PL1'!M7 -> 112 | F8: =SUBTOTAL(9,F9:F18) -> 238 | G8: =SUBTOTAL(9,G9:G18) -> 413476000 | H8: =SUBTOTAL(9,H9:H18) -> 238 | I8: =SUBTOTAL(9,I9:I18) -> 413476000 | J8: =SUBTOTAL(9,J9:J18) -> 238 | K8: =SUBTOTAL(9,K9:K18) -> 413476000 | L8: =SUBTOTAL(9,L9:L18) -> 238 | M8: =SUBTOTAL(9,M9:M18) -> 413476000 | ... P8: =SUBTOTAL(9,P9:P18) -> 1653904000
A9: - | B9: Dùi cui cao su dài 50cm | C9: =C8 -> 112 | D9: Cái | E9: 200000 | F9: =ROUND($C9*25%,0) -> 28 | G9: =$E9*F9 -> 5600000 | H9: =ROUND($C9*25%,0) -> 28 | I9: =$E9*H9 -> 5600000 | J9: =ROUND($C9*25%,0) -> 28 | K9: =$E9*J9 -> 5600000 | L9: =C9-F9-H9-J9 -> 28 | M9: =$E9*L9 -> 5600000 | N9: =C9-(F9+H9+J9+L9) -> 0 | O9: =$E9*N9 -> 0 | P9: =G9+I9+K9+M9+O9 -> 22400000 | Q9: Trang bị cho 100% quân số DQ cơ động, thường trực: mỗi năm trang bị 25% quân số trong 4 năm đủ (riêng Roi điện, khóa số 8 trang bị 25% quân số, mỗi năm trang bị 25%)
A10: - | B10: Roi điện | C10: =ROUND(C8*25%,0) -> 28 | D10: Cái | E10: 3500000 | F10: =ROUND($C10*25%,0) -> 7 | G10: =$E10*F10 -> 24500000 | H10: =ROUND($C10*25%,0) -> 7 | I10: =$E10*H10 -> 24500000 | J10: =ROUND($C10*25%,0) -> 7 | K10: =$E10*J10 -> 24500000 | L10: =C10-F10-H10-J10 -> 7 | M10: =$E10*L10 -> 24500000 | N10: =C10-(F10+H10+J10+L10) -> 0 | O10: =$E10*N10 -> 0 | P10: =G10+I10+K10+M10+O10 -> 98000000
A11: - | B11: Lá chắn 1400x800x6mm | C11: =C8 -> 112 | D11: Cái | E11: 3500000 | F11: =ROUND($C11*25%,0) -> 28 | G11: =$E11*F11 -> 98000000 | H11: =ROUND($C11*25%,0) -> 28 | I11: =$E11*H11 -> 98000000 | J11: =ROUND($C11*25%,0) -> 28 | K11: =$E11*J11 -> 98000000 | L11: =C11-F11-H11-J11 -> 28 | M11: =$E11*L11 -> 98000000 | N11: =C11-(F11+H11+J11+L11) -> 0 | O11: =$E11*N11 -> 0 | P11: =G11+I11+K11+M11+O11 -> 392000000
A12: - | B12: Trường côn | C12: =C8 -> 112 | D12: Cái | E12: 400000 | F12: =ROUND($C12*25%,0) -> 28 | G12: =$E12*F12 -> 11200000 | H12: =ROUND($C12*25%,0) -> 28 | I12: =$E12*H12 -> 11200000 | J12: =ROUND($C12*25%,0) -> 28 | K12: =$E12*J12 -> 11200000 | L12: =C12-F12-H12-J12 -> 28 | M12: =$E12*L12 -> 11200000 | N12: =C12-(F12+H12+J12+L12) -> 0 | O12: =$E12*N12 -> 0 | P12: =G12+I12+K12+M12+O12 -> 44800000
A13: - | B13: Áo chống đâm | C13: =C8 -> 112 | D13: Cái | E13: 3600000 | F13: =ROUND($C13*25%,0) -> 28 | G13: =$E13*F13 -> 100800000 | H13: =ROUND($C13*25%,0) -> 28 | I13: =$E13*H13 -> 100800000 | J13: =ROUND($C13*25%,0) -> 28 | K13: =$E13*J13 -> 100800000 | L13: =C13-F13-H13-J13 -> 28 | M13: =$E13*L13 -> 100800000 | N13: =C13-(F13+H13+J13+L13) -> 0 | O13: =$E13*N13 -> 0 | P13: =G13+I13+K13+M13+O13 -> 403200000
A14: - | B14: Khóa số 8 | C14: =C10 -> 28 | D14: Cái | E14: 800000 | F14: =ROUND($C14*25%,0) -> 7 | G14: =$E14*F14 -> 5600000 | H14: =ROUND($C14*25%,0) -> 7 | I14: =$E14*H14 -> 5600000 | J14: =ROUND($C14*25%,0) -> 7 | K14: =$E14*J14 -> 5600000 | L14: =C14-F14-H14-J14 -> 7 | M14: =$E14*L14 -> 5600000 | N14: =C14-(F14+H14+J14+L14) -> 0 | O14: =$E14*N14 -> 0 | P14: =G14+I14+K14+M14+O14 -> 22400000
A15: - | B15: Bộ ốp bảo vệ chân | C15: =C8 -> 112 | D15: Bộ | E15: 1480000 | F15: =ROUND($C15*25%,0) -> 28 | G15: =$E15*F15 -> 41440000 | H15: =ROUND($C15*25%,0) -> 28 | I15: =$E15*H15 -> 41440000 | J15: =ROUND($C15*25%,0) -> 28 | K15: =$E15*J15 -> 41440000 | L15: =C15-F15-H15-J15 -> 28 | M15: =$E15*L15 -> 41440000 | N15: =C15-(F15+H15+J15+L15) -> 0 | O15: =$E15*N15 -> 0 | P15: =G15+I15+K15+M15+O15 -> 165760000
A16: - | B16: Bộ ốp bảo vệ tay | C16: =C8 -> 112 | D16: Bộ | E16: 1412000 | F16: =ROUND($C16*25%,0) -> 28 | G16: =$E16*F16 -> 39536000 | H16: =ROUND($C16*25%,0) -> 28 | I16: =$E16*H16 -> 39536000 | J16: =ROUND($C16*25%,0) -> 28 | K16: =$E16*J16 -> 39536000 | L16: =C16-F16-H16-J16 -> 28 | M16: =$E16*L16 -> 39536000 | N16: =C16-(F16+H16+J16+L16) -> 0 | O16: =$E16*N16 -> 0 | P16: =G16+I16+K16+M16+O16 -> 158144000
A17: - | B17: Đèn pin nghiệp vụ | C17: =C8 -> 112 | D17: Cái | E17: 400000 | F17: =ROUND($C17*25%,0) -> 28 | G17: =$E17*F17 -> 11200000 | H17: =ROUND($C17*25%,0) -> 28 | I17: =$E17*H17 -> 11200000 | J17: =ROUND($C17*25%,0) -> 28 | K17: =$E17*J17 -> 11200000 | L17: =C17-F17-H17-J17 -> 28 | M17: =$E17*L17 -> 11200000 | N17: =C17-(F17+H17+J17+L17) -> 0 | O17: =$E17*N17 -> 0 | P17: =G17+I17+K17+M17+O17 -> 44800000
A18: - | B18: Mũ chống bạo loạn có lưới | C18: =C8 -> 112 | D18: Cái | E18: 2700000 | F18: =ROUND($C18*25%,0) -> 28 | G18: =$E18*F18 -> 75600000 | H18: =ROUND($C18*25%,0) -> 28 | I18: =$E18*H18 -> 75600000 | J18: =ROUND($C18*25%,0) -> 28 | K18: =$E18*J18 -> 75600000 | L18: =C18-F18-H18-J18 -> 28 | M18: =$E18*L18 -> 75600000 | N18: =C18-(F18+H18+J18+L18) -> 0 | O18: =$E18*N18 -> 0 | P18: =G18+I18+K18+M18+O18 -> 302400000
A19: 2 | B19: Trang thiết bị, phương tiện kỹ thuật | C19: 1 | F19: =SUBTOTAL(9,F20:F20) -> 1 | G19: =SUBTOTAL(9,G20:G20) -> 2000000 | H19: =SUBTOTAL(9,H20:H20) -> 0 | I19: =SUBTOTAL(9,I20:I20) -> 0 | J19: =SUBTOTAL(9,J20:J20) -> 0 | K19: =SUBTOTAL(9,K20:K20) -> 0 | L19: =SUBTOTAL(9,L20:L20) -> 0 | M19: =SUBTOTAL(9,M20:M20) -> 0 | ... P19: =SUBTOTAL(9,P20:P20) -> 2000000 | Q19: Cấp xã
A20: - | B20: Loa tay | C20: 1 | D20: Cái | E20: 2000000 | F20: =C20 -> 1 | G20: =$E20*F20 -> 2000000 | I20: =$E20*H20 -> 0 | K20: =$E20*J20 -> 0 | M20: =$E20*L20 -> 0 | N20: =C20-(F20+H20+J20+L20) -> 0 | O20: =$E20*N20 -> 0 | P20: =G20+I20+K20+M20+O20 -> 2000000 | Q20: 1 chiếc/1 xã (P) năm đầu đủ
A21: II | B21: Bảo đảm cơ sở vật chất | F21: =SUBTOTAL(9,F22:F37) -> 274 | G21: =SUBTOTAL(9,G22:G37) -> 151096200 | H21: =SUBTOTAL(9,H22:H37) -> 299 | I21: =SUBTOTAL(9,I22:I37) -> 131896200 | J21: =SUBTOTAL(9,J22:J37) -> 263 | K21: =SUBTOTAL(9,K22:K37) -> 41096200 | L21: =SUBTOTAL(9,L22:L37) -> 261 | M21: =SUBTOTAL(9,M22:M37) -> 1096200 | ... P21: =SUBTOTAL(9,P22:P37) -> 326281000
A22: 1 | B22: Trang thiết bị nhà làm việc Ban CHQS cấp xã | C22: 1 | F22: =SUBTOTAL(9,F23:F34) -> 11 | G22: =SUBTOTAL(9,G23:G35) -> 150000000 | H22: =SUBTOTAL(9,H23:H34) -> 38 | I22: =SUBTOTAL(9,I23:I35) -> 130800000 | J22: =SUBTOTAL(9,J23:J34) -> 2 | K22: =SUBTOTAL(9,K23:K35) -> 40000000 | L22: =SUBTOTAL(9,L23:L34) -> 0 | M22: =SUBTOTAL(9,M23:M35) -> 0 | N22: =SUBTOTAL(9,N23:N34) -> 0 | O22: =SUBTOTAL(9,O23:O35) -> 0 | P22: =SUBTOTAL(9,P23:P35) -> 320800000 | Q22: Chỉ trang bị những nội dung chưa có
A23: - | B23: Bàn ghế giao ban, hội họp | D23: Cái | E23: 15000000 | F23: =ROUND($C23/5,0) -> 0 | G23: =$E23*F23 -> 0 | H23: 1 | I23: =$E23*H23 -> 15000000 | J23: =ROUND($C23/5,0) -> 0 | K23: =$E23*J23 -> 0 | L23: =ROUND($C23/5,0) -> 0 | M23: =$E23*L23 -> 0 | O23: =$E23*N23 -> 0 | P23: =G23+I23+K23+M23+O23 -> 15000000 | Q23: 1 cái/1 xã (P,TT)
A24: - | B24: Máy scan | C24: 1 | D24: Cái | E24: 7000000 | F24: 1 | G24: =$E24*F24 -> 7000000 | H24: =ROUND($C24/5,0) -> 0 | I24: =$E24*H24 -> 0 | J24: =ROUND($C24/5,0) -> 0 | K24: =$E24*J24 -> 0 | L24: =ROUND($C24/5,0) -> 0 | M24: =$E24*L24 -> 0 | N24: =C24-(F24+H24+J24+L24) -> 0 | O24: =$E24*N24 -> 0 | P24: =G24+I24+K24+M24+O24 -> 7000000 | Q24: 1 cái/xã trọng điểm
A25: - | B25: Biển tên trụ sở Ban CHQS | D25: Cái | E25: 1000000 | F25: =ROUND($C25/5,0) -> 0 | G25: =$E25*F25 -> 0 | H25: 2 | I25: =$E25*H25 -> 2000000 | J25: =ROUND($C25/5,0) -> 0 | K25: =$E25*J25 -> 0 | L25: =ROUND($C25/5,0) -> 0 | M25: =$E25*L25 -> 0 | O25: =$E25*N25 -> 0 | P25: =G25+I25+K25+M25+O25 -> 2000000 | Q25: 1 cái/1 xã (P,TT)
A26: - | B26: Máy in | D26: Cái | E26: 4000000 | F26: 3 | G26: =$E26*F26 -> 12000000 | H26: 2 | I26: =$E26*H26 -> 8000000 | J26: =ROUND($C26/5,0) -> 0 | K26: =$E26*J26 -> 0 | L26: =ROUND($C26/5,0) -> 0 | M26: =$E26*L26 -> 0 | O26: =$E26*N26 -> 0 | P26: =G26+I26+K26+M26+O26 -> 20000000 | Q26: 5 cái/1 xã (P,TT)
A27: - | B27: Tủ đựng công cụ hỗ trợ | C27: 1 | D27: Cái | E27: 8000000 | F27: 0 | G27: =$E27*F27 -> 0 | H27: 2 | I27: =$E27*H27 -> 16000000 | J27: =ROUND($C27/5,0) -> 0 | K27: =$E27*J27 -> 0 | L27: =ROUND($C27/5,0) -> 0 | M27: =$E27*L27 -> 0 | O27: =$E27*N27 -> 0 | P27: =G27+I27+K27+M27+O27 -> 16000000 | Q27: 1 cái/1 xã (P,TT)
A28: - | B28: Tủ trang phục DQ dùng chung | C28: =C22 -> 1 | D28: Cái | E28: 7300000 | F28: 0 | G28: =$E28*F28 -> 0 | H28: =C28-F28 -> 1 | I28: =$E28*H28 -> 7300000 | K28: =$E28*J28 -> 0 | M28: =$E28*L28 -> 0 | N28: =C28-(F28+H28+J28+L28) -> 0 | O28: =$E28*N28 -> 0 | P28: =G28+I28+K28+M28+O28 -> 7300000 | Q28: 1 cái/1 xã (P,TT) 2 năm đầu đủ
A29: - | B29: Máy vi tính | D29: Bộ | E29: 20000000 | F29: 2 | G29: =$E29*F29 -> 40000000 | H29: 3 | I29: =$E29*H29 -> 60000000 | J29: 2 | K29: =$E29*J29 -> 40000000 | L29: =ROUND($C29/5,0) -> 0 | M29: =$E29*L29 -> 0 | N29: 0 | O29: =$E29*N29 -> 0 | P29: =G29+I29+K29+M29+O29 -> 140000000 | Q29: 1 cái/1 xã (P,TT)
A30: - | B30: Tủ đựng tài liệu | D30: Cái | E30: 7000000 | F30: 4 | G30: =$E30*F30 -> 28000000 | H30: =ROUND($C30/5,0) -> 0 | I30: =$E30*H30 -> 0 | J30: =ROUND($C30/5,0) -> 0 | K30: =$E30*J30 -> 0 | L30: =ROUND($C30/5,0) -> 0 | M30: =$E30*L30 -> 0 | N30: 0 | O30: =$E30*N30 -> 0 | P30: =G30+I30+K30+M30+O30 -> 28000000 | Q30: 1 cái/1 xã (P,TT)
A31: - | B31: Máy photo | D31: Cái | E31: 53000000 | F31: 1 | G31: =$E31*F31 -> 53000000 | H31: =ROUND($C31/5,0) -> 0 | I31: =$E31*H31 -> 0 | J31: =ROUND($C31/5,0) -> 0 | K31: =$E31*J31 -> 0 | L31: =ROUND($C31/5,0) -> 0 | M31: =$E31*L31 -> 0 | O31: =$E31*N31 -> 0 | P31: =G31+I31+K31+M31+O31 -> 53000000 | Q31: 1 cái/1 xã (P,TT)
A32: - | B32: Bảng lịch công tác | D32: Cái | E32: 1500000 | F32: =ROUND($C32/5,0) -> 0 | G32: =$E32*F32 -> 0 | H32: 9 | I32: =$E32*H32 -> 13500000 | J32: =ROUND($C32/5,0) -> 0 | K32: =$E32*J32 -> 0 | L32: =ROUND($C32/5,0) -> 0 | M32: =$E32*L32 -> 0 | O32: =$E32*N32 -> 0 | P32: =G32+I32+K32+M32+O32 -> 13500000 | Q32: 1 cái/1 xã (P,TT)
A33: - | B33: Bảng chức trách nhiệm vụ | D33: Cái | E33: 800000 | F33: =ROUND($C33/5,0) -> 0 | G33: =$E33*F33 -> 0 | H33: 9 | I33: =$E33*H33 -> 7200000 | J33: =ROUND($C33/5,0) -> 0 | K33: =$E33*J33 -> 0 | L33: =ROUND($C33/5,0) -> 0 | M33: =$E33*L33 -> 0 | O33: =$E33*N33 -> 0 | P33: =G33+I33+K33+M33+O33 -> 7200000 | Q33: 4 cái/1 xã (P,TT)
A34: - | B34: Biển tên chức danh để bàn | D34: Cái | E34: 200000 | F34: =ROUND($C34/5,0) -> 0 | G34: =$E34*F34 -> 0 | H34: 9 | I34: =$E34*H34 -> 1800000 | J34: =ROUND($C34/5,0) -> 0 | K34: =$E34*J34 -> 0 | L34: =ROUND($C34/5,0) -> 0 | M34: =$E34*L34 -> 0 | O34: =$E34*N34 -> 0 | P34: =G34+I34+K34+M34+O34 -> 1800000 | Q34: 3 cái/1 xã (P,TT)
A35: - | B35: Két sắt đựng tài liệu mật | C35: 1 | D35: Cái | E35: 5000000 | F35: 2 | G35: =$E35*F35 -> 10000000 | H35: =ROUND($C35/5,0) -> 0 | I35: =$E35*H35 -> 0 | J35: =ROUND($C35/5,0) -> 0 | K35: =$E35*J35 -> 0 | L35: =ROUND($C35/5,0) -> 0 | M35: =$E35*L35 -> 0 | N35: 0 | O35: =$E35*N35 -> 0 | P35: =G35+I35+K35+M35+O35 -> 10000000 | Q35: 1 cái/1 xã (P,TT), 20%/năm
A36: 2 | B36: Vật chất văn hóa tinh thần | C36: 1 | F36: =SUBTOTAL(9,F37:F37) -> 261 | G36: =SUBTOTAL(9,G37:G37) -> 1096200 | H36: =SUBTOTAL(9,H37:H37) -> 261 | I36: =SUBTOTAL(9,I37:I37) -> 1096200 | J36: =SUBTOTAL(9,J37:J37) -> 261 | K36: =SUBTOTAL(9,K37:K37) -> 1096200 | L36: =SUBTOTAL(9,L37:L37) -> 261 | M36: =SUBTOTAL(9,M37:M37) -> 1096200 | ... P36: =SUBTOTAL(9,P37:P37) -> 5481000 | Q36: 261 ngày/năm (trừ 52 tuần*2 ngày=108 ngày thứ 7, CN)
A37: - | B37: Báo Quân đội nhân dân | D37: Tờ | E37: 4200 | F37: =C36*261 -> 261 | G37: =$E37*F37 -> 1096200 | H37: =F37 -> 261 | I37: =$E37*H37 -> 1096200 | J37: =F37 -> 261 | K37: =$E37*J37 -> 1096200 | L37: =F37 -> 261 | M37: =$E37*L37 -> 1096200 | N37: =F37 -> 261 | O37: =$E37*N37 -> 1096200 | P37: =G37+I37+K37+M37+O37 -> 5481000 | Q37: 1tờ/ngày (129xã + 8bDQTT + 64aDQTT + Hải đội)
A38: III | B38: Vật chất huấn luyện, hoạt động | F38: =SUBTOTAL(9,F39:F41) -> 12 | G38: =SUBTOTAL(9,G39:G41) -> 12000000 | H38: =SUBTOTAL(9,H39:H41) -> 12 | I38: =SUBTOTAL(9,I39:I41) -> 12000000 | J38: =SUBTOTAL(9,J39:J41) -> 12 | K38: =SUBTOTAL(9,K39:K41) -> 12000000 | L38: =SUBTOTAL(9,L39:L41) -> 12 | M38: =SUBTOTAL(9,M39:M41) -> 12000000 | ... P38: =SUBTOTAL(9,P39:P41) -> 60000000
A39: - | B39: Bộ bia bắn bờ (4, 7, 8) | C39: 1 | D39: Bộ | E39: 1000000 | F39: 6 | G39: =$E39*F39 -> 6000000 | H39: 6 | I39: =$E39*H39 -> 6000000 | J39: 6 | K39: =$E39*J39 -> 6000000 | L39: 6 | M39: =$E39*L39 -> 6000000 | N39: 6 | O39: =$E39*N39 -> 6000000 | P39: =G39+I39+K39+M39+O39 -> 30000000 | Q39: 1 bộ/xã (P,TT)
A40: - | B40: Bộ bia bắn biển (4, 7, 8) | C40: 3 | D40: Bộ | E40: 12000000 | G40: =$E40*F40 -> 0 | I40: =$E40*H40 -> 0 | K40: =$E40*J40 -> 0 | M40: =$E40*L40 -> 0 | O40: =$E40*N40 -> 0 | P40: =G40+I40+K40+M40+O40 -> 0 | Q40: 3 bộ/huyện ven biển
A41: - | B41: Bia, cờ huấn luyện chiến thuật | C41: 1 | D41: Bộ | E41: 1000000 | F41: 6 | G41: =$E41*F41 -> 6000000 | H41: 6 | I41: =$E41*H41 -> 6000000 | J41: 6 | K41: =$E41*J41 -> 6000000 | L41: 6 | M41: =$E41*L41 -> 6000000 | N41: 6 | O41: =$E41*N41 -> 6000000 | P41: =G41+I41+K41+M41+O41 -> 30000000 | Q41: 1 bộ/xã (P,TT)
A42: IV | B42: Bảo đảm khác (khen thưởng) | F42: =SUBTOTAL(9,F43:F45) -> 5 | G42: =SUBTOTAL(9,G43:G45) -> 5060000 | H42: =SUBTOTAL(9,H43:H45) -> 5 | I42: =SUBTOTAL(9,I43:I45) -> 5060000 | J42: =SUBTOTAL(9,J43:J45) -> 5 | K42: =SUBTOTAL(9,K43:K45) -> 5060000 | L42: =SUBTOTAL(9,L43:L45) -> 5 | M42: =SUBTOTAL(9,M43:M45) -> 5060000 | ... P42: =SUBTOTAL(9,P43:P45) -> 25300000
A43: - | B43: Khen thưởng đơn vị tiên tiến | C43: =ROUND(('PL1'!D7+'PL1'!L7+'PL1'!N7+'PL1'!O7+'PL1'!P7)*10%,0) -> 1 | D43: Đvị | E43: 2024000 | F43: =C43 -> 1 | G43: =F43*E43 -> 2024000 | H43: =F43 -> 1 | I43: =H43*E43 -> 2024000 | J43: =F43 -> 1 | K43: =J43*E43 -> 2024000 | L43: =F43 -> 1 | M43: =L43*E43 -> 2024000 | N43: =F43 -> 1 | O43: =N43*E43 -> 2024000 | P43: =G43+I43+K43+M43+O43 -> 10120000 | Q43: 10% Ban CHQS cấp xã, CQTC, đơn vị DQCĐ, DQTT
A44: - | B44: Khen thưởng cá nhân CSTĐ | D44: Người | E44: 2530000 | F44: =C44 -> 0 | G44: =F44*E44 -> 0 | H44: =F44 -> 0 | I44: =H44*E44 -> 0 | J44: =F44 -> 0 | K44: =J44*E44 -> 0 | L44: =F44 -> 0 | M44: =L44*E44 -> 0 | N44: =F44 -> 0 | O44: =N44*E44 -> 0 | P44: =G44+I44+K44+M44+O44 -> 0 | Q44: 5% cán bộ chỉ huy, chiến sĩ DQCĐ, DQTT
A45: - | B45: Khen thưởng cá nhân CSTT | C45: 4 | D45: Người | E45: 759000 | F45: =C45 -> 4 | G45: =F45*E45 -> 3036000 | H45: =F45 -> 4 | I45: =H45*E45 -> 3036000 | J45: =F45 -> 4 | K45: =J45*E45 -> 3036000 | L45: =F45 -> 4 | M45: =L45*E45 -> 3036000 | N45: =F45 -> 4 | O45: =N45*E45 -> 3036000 | P45: =G45+I45+K45+M45+O45 -> 15180000 | Q45: 10% cán bộ chỉ huy, chiến sĩ DQCĐ, DQTT
O46: Pl2+pl3+pl4+pl5= | P46: =PL2A!O7+#REF!+#REF!+P6 -> #REF!

Sheet TONG HOP
B1: PHÂN KỲ
B2: TỔNG DỰ TOÁN NGÂN SÁCH CỦA ĐỀ ÁN 2026-2030
A4: TT | B4: Năm Nội dung | C4: PHÂN KỲ
C5: 2026 | D5: 2027 | E5: 2028 | F5: 2029 | G5: 2030 | H5: Cộng
A6: I | B6: Thực chi (nội dung bắt buộc) (1+2+3+4) | C6: =SUBTOTAL(9,C7:C10) -> 17529452380 | D6: =SUBTOTAL(9,D7:D10) -> 11914748260 | E6: =SUBTOTAL(9,E7:E10) -> 13181360040 | F6: =SUBTOTAL(9,F7:F10) -> 14397830960 | G6: =SUBTOTAL(9,G7:G10) -> 13006485340 | H6: =SUBTOTAL(9,H7:H10) -> 70029876980
A7: 1 | B7: Trang phục | C7: =PL2A!F7+PL2B!F7 -> 2659224000 | D7: =PL2A!H7+PL2B!H7 -> 567814280 | E7: =PL2A!J7+PL2B!J7 -> 1925226060 | F7: =PL2A!L7+PL2B!L7 -> 999880980 | G7: =PL2A!N7+PL2B!N7 -> 2203827360 | H7: =SUM(C7:G7) -> 8355972680
A8: 2 | B8: Phụ cấp các loại | C8: ='PL3'!I6 -> 1180857600 | D8: ='PL3'!K6 -> 1180857600 | E8: ='PL3'!M6 -> 1180857600 | F8: ='PL3'!O6 -> 1180857600 | G8: ='PL3'!Q6 -> 1180857600 | H8: =SUM(C8:G8) -> 5904288000
A9: 3 | B9: Ngày công, tiền ăn tập huấn, huấn huyện, diễn tập, hội thi, hội thao, bảo hiểm y tế, bảo hiểm xã hội, trực SSCĐ lễ, Tết | C9: ='PL4'!F6 -> 13105738580 | D9: ='PL4'!I6 -> 9603644180 | E9: ='PL4'!L6 -> 9603644180 | F9: ='PL4'!O6 -> 11785460180 | G9: ='PL4'!R6 -> 9603644180 | H9: =SUM(C9:G9) -> 53702131300
A10: 4 | B10: Công cụ, vũ khí thô sơ, trang thiết bị nhà làm việc, khen thưởng … | C10: ='PL5'!G6 -> 583632200 | D10: ='PL5'!I6 -> 562432200 | E10: ='PL5'!K6 -> 471632200 | F10: ='PL5'!M6 -> 431632200 | G10: ='PL5'!O6 -> 18156200 | H10: =SUM(C10:G10) -> 2067485000
A11: II | B11: Dự phòng tăng thêm (2%) | C11: =SUBTOTAL(9,C12:C13) -> 350589048 | D11: =SUBTOTAL(9,D12:D13) -> 238294965 | E11: =SUBTOTAL(9,E12:E13) -> 263627201 | F11: =SUBTOTAL(9,F12:F13) -> 287956619 | G11: =SUBTOTAL(9,G12:G13) -> 260129707 | H11: =SUBTOTAL(9,H12:H13) -> 1400597540
A12: 5
A13: 5 | B13: Dự phòng 2% (nội dung khác) | C13: =ROUND((C6+C12)*2%,0) -> 350589048 | D13: =ROUND((D6+D12)*2%,0) -> 238294965 | E13: =ROUND((E6+E12)*2%,0) -> 263627201 | F13: =ROUND((F6+F12)*2%,0) -> 287956619 | G13: =ROUND((G6+G12)*2%,0) -> 260129707 | H13: =SUM(C13:G13) -> 1400597540
A14: * | B14: Tổng khái toán | C14: =SUBTOTAL(9,C6:C13) -> 17880041428 | D14: =SUBTOTAL(9,D6:D13) -> 12153043225 | E14: =SUBTOTAL(9,E6:E13) -> 13444987241 | F14: =SUBTOTAL(9,F6:F13) -> 14685787579 | G14: =SUBTOTAL(9,G6:G13) -> 13266615047 | H14: =SUBTOTAL(9,H6:H13) -> 71430474520
G15: (3)+(5) | H15: =H9+H12 -> 53702131300

Sheet phu luc kem cv UBND
A1: Phụ lục
A2: KINH PHÍ THỰC HIỆN ĐỀ ÁN TỔ CHỨC XÂY DỰNG, HUẤN LUYỆN, HOẠT ĐỘNG, BẢO ĐẢM CHẾ ĐỘ, CHÍNH SÁCH CHO LỰC LƯỢNG DÂN QUÂN TỰ VỆ GIAI ĐOẠN 2026-2030 (Kèm theo Đề án tổ chức lực lượng, huấn luyện, hoạt động và bảo đảm chế độ, chính sách cho Dân quân tự vệ trên địa bàn phường, giai đoạn 2026- 2030)
A4: TT | B4: Nội dung | C4: Bộ CHQS tỉnh đề nghị
C5: Giai đoạn 2026-2030 | D5: Năm 2026 | E5: Năm 2027 | F5: Năm 2028 | G5: Năm 2029 | H5: Năm 2030
A6: I | B6: Tổng khái toán | C6: ='TONG HOP'!$H$14 -> 71430474520 | D6: ='TONG HOP'!C14 -> 17880041428 | E6: ='TONG HOP'!D14 -> 12153043225 | F6: ='TONG HOP'!E14 -> 13444987241 | G6: ='TONG HOP'!F14 -> 14685787579 | H6: ='TONG HOP'!G14 -> 13266615047
A7: II | B7: Kinh phí thực hiện kế hoạch | C7: ='TONG HOP'!$H$6 -> 70029876980 | D7: ='TONG HOP'!C6 -> 17529452380 | E7: ='TONG HOP'!D6 -> 11914748260 | F7: ='TONG HOP'!E6 -> 13181360040 | G7: ='TONG HOP'!F6 -> 14397830960 | H7: ='TONG HOP'!G6 -> 13006485340
A8: 1 | B8: Kinh phí bảo đảm trang phục cho lực lượng dân quân | C8: ='TONG HOP'!H7 -> 8355972680 | D8: ='TONG HOP'!C7 -> 2659224000 | E8: ='TONG HOP'!D7 -> 567814280 | F8: ='TONG HOP'!E7 -> 1925226060 | G8: ='TONG HOP'!F7 -> 999880980 | H8: ='TONG HOP'!G7 -> 2203827360
A9: 2 | B9: Kinh phí bảo đảm phụ cấp tháng, phụ cấp chức vụ, phụ cấp thâm niên, phụ cấp đặc thù quốc phòng, quân sự, trợ cấp 1 lần cho các đối tượng theo qui định; | C9: ='TONG HOP'!H8 -> 5904288000 | D9: ='TONG HOP'!C8 -> 1180857600 | E9: ='TONG HOP'!D8 -> 1180857600 | F9: ='TONG HOP'!E8 -> 1180857600 | G9: ='TONG HOP'!F8 -> 1180857600 | H9: ='TONG HOP'!G8 -> 1180857600
A10: 3 | B10: Kinh phí bảo đảm tiền ăn, ngày công khi tập huấn, huấn luyện, diễn tập, hội thi, hội thao, trực SSCĐ | C10: ='TONG HOP'!H9 -> 53702131300 | D10: ='TONG HOP'!C9 -> 13105738580 | E10: ='TONG HOP'!D9 -> 9603644180 | F10: ='TONG HOP'!E9 -> 9603644180 | G10: ='TONG HOP'!F9 -> 11785460180 | H10: ='TONG HOP'!G9 -> 9603644180
A11: 4 | B11: Kinh phí bảo đảm công cụ, vũ khí thô sơ, phương tiện, trang thiết bị, vật chất làm việc, vật chất huấn luyện, khen thưởng | C11: ='TONG HOP'!H10 -> 2067485000 | D11: ='TONG HOP'!C10 -> 583632200 | E11: ='TONG HOP'!D10 -> 562432200 | F11: ='TONG HOP'!E10 -> 471632200 | G11: ='TONG HOP'!F10 -> 431632200 | H11: ='TONG HOP'!G10 -> 18156200
A12: III | B12: ='TONG HOP'!B12 -> 0 | C12: ='TONG HOP'!H12 -> 0 | D12: ='TONG HOP'!C12 -> 0 | E12: ='TONG HOP'!D12 -> 0 | F12: ='TONG HOP'!E12 -> 0 | G12: ='TONG HOP'!F12 -> 0 | H12: ='TONG HOP'!G12 -> 0
A13: III | B13: Dự phòng phát sinh 2% | C13: ='TONG HOP'!$H$13 -> 1400597540 | D13: ='TONG HOP'!C13 -> 350589048 | E13: ='TONG HOP'!D13 -> 238294965 | F13: ='TONG HOP'!E13 -> 263627201 | G13: ='TONG HOP'!F13 -> 287956619 | H13: ='TONG HOP'!G13 -> 260129707

Sheet tieu chuan
A1: QUY HOẠCH CẤP TRANG PHỤC DQTV THEO LUẬT 2019-NGHỊ ĐỊNH 72-2020
A3: TT | B3: Đối tượng | C3: Năm đầu (2026)
C4: Quần áo | D4: Giày da | E4: Giày vải | F4: Tất chân | G4: Mũ cứng sao mũ | H4: Mũ mềm sao mũ | I4: Dây lưng | J4: Quần, áo mưa | K4: Quần lớt | L4: Áo lót | M4: Khăn mặt | N4: Chăn | O4: Màn | P4: Gối | Q4: Chiếu | R4: Đệm giường | S4: Ba lô | T4: Áo ấm
A5: 1 | B5: b trưởng DQ cơ động | C5: 2 | D5: 1 | E5: 1 | F5: 2 | G5: 1 | H5: 1 | I5: 1 | J5: 1 | K5: - | L5: - | M5: - | N5: - | O5: - | P5: - | Q5: - | R5: - | S5: - | T5: -
A6: 2 | B6: CTV cấp phường, Tổ đội, btrưởng DQTV trở lên | C6: 2 | D6: 1 | E6: 1 | F6: 2 | G6: 1 | H6: 1 | I6: 1 | J6: 1 | K6: - | L6: - | M6: - | N6: - | O6: - | P6: - | Q6: - | R6: - | S6: - | T6: -
A7: 3 | B7: a trưởng, c/sĩ DQ cơ động | C7: 2 | D7: - | E7: 1 | F7: 2 | G7: 1 | H7: 1 | I7: 1 | J7: 1 | K7: - | L7: - | M7: - | N7: - | O7: - | P7: - | Q7: - | R7: - | S7: - | T7: -
A8: 4 | B8: a trưởng, chiến sĩ DQ tại chỗ, B.chủng | C8: 2 | D8: - | E8: 1 | F8: 2 | G8: 1 | H8: 1 | I8: 1 | J8: 1 | K8: - | L8: - | M8: - | N8: - | O8: - | P8: - | Q8: - | R8: - | S8: - | T8: -
A9: 5 | B9: b trưởng DQTT | C9: 2 | D9: 1 | E9: 1 | F9: 2 | G9: 1 | H9: 1 | I9: 1 | J9: 1 | K9: 2 | L9: 2 | M9: 2 | N9: 1 | O9: 1 | P9: 1 | Q9: 1 | R9: 1 | S9: 1
A10: 6 | B10: a trưởng, c/sĩ DQ thường trực | C10: 2 | D10: - | E10: 2 | F10: 2 | G10: 1 | H10: 1 | I10: 1 | J10: 1 | K10: 2 | L10: 2 | M10: 2 | N10: 1 | O10: 1 | P10: 1 | Q10: 1 | R10: 1 | S10: 1 | T10: 1
A11: 7 | B11: Trang phục dùng chung DQTV
A13: TT | B13: Đối tượng | C13: Năm 2 (2027)
C14: Quần áo | D14: Giày da | E14: Giày vải | F14: Tất chân | G14: Mũ cứng sao mũ | H14: Mũ mềm sao mũ | I14: Dây lưng | J14: Quần, áo mưa | K14: Quần lớt | L14: Áo lót | M14: Khăn mặt | N14: Chăn | O14: Màn | P14: Gối | Q14: Chiếu | R14: Đệm giường | S14: Ba lô | T14: Áo ấm
A15: 1 | B15: b trưởng DQ cơ động | C15: 1 | D15: - | E15: 1 | F15: 2 | G15: - | H15: - | I15: - | J15: - | K15: - | L15: - | M15: - | N15: - | O15: - | P15: - | Q15: - | R15: - | S15: - | T15: -
A16: 2 | B16: CTV cấp phường, Tổ đội, btrưởng DQTV trở lên | C16: - | D16: - | E16: - | F16: 2 | G16: - | H16: - | I16: - | J16: - | K16: - | L16: - | M16: - | N16: - | O16: - | P16: - | Q16: - | R16: - | S16: - | T16: -
A17: 3 | B17: a trưởng, csĩ DQ cơ động | C17: 1 | D17: - | E17: 1 | F17: 2 | G17: - | H17: - | I17: - | J17: - | K17: - | L17: - | M17: - | N17: - | O17: - | P17: - | Q17: - | R17: - | S17: - | T17: -
A18: 4 | B18: a trưởng, chiến sĩ DQ tại chỗ, B/chủng | C18: - | D18: - | E18: - | F18: - | G18: - | H18: - | I18: - | J18: - | N18: - | O18: - | P18: - | R18: - | S18: - | T18: -
A19: 5 | B19: b trưởng DQTT | C19: 2 | D19: 1 | E19: 1 | F19: 2 | G19: - | H19: - | I19: - | J19: - | K19: 2 | L19: 2 | M19: 2 | N19: - | O19: - | P19: - | Q19: 1 | R19: - | S19: - | T19: -
A20: 6 | B20: a trưởng, csĩ DQ thường trực | C20: 2 | D20: - | E20: 2 | F20: 2 | G20: - | H20: - | I20: - | J20: - | K20: 2 | L20: 2 | M20: 2 | N20: - | O20: - | P20: - | Q20: 1 | R20: - | S20: - | T20: 1
A21: 7 | B21: Trang phục dùng chung DQTV
A23: TT | B23: Đối tượng | C23: Năm 3 (2028)
C24: Quần áo | D24: Giày da | E24: Giày vải | F24: Tất chân | G24: Mũ cứng sao mũ | H24: Mũ mềm sao mũ | I24: Dây lưng | J24: Quần, áo mưa | K24: Quần lớt | L24: Áo lót | M24: Khăn mặt | N24: Chăn | O24: Màn | P24: Gối | Q24: Chiếu | R24: Đệm giường | S24: Ba lô | T24: Áo ấm
A25: 1 | B25: b trưởng DQ cơ động | C25: 1 | D25: 1 | E25: 1 | F25: 2 | G25: 1 | H25: 1 | I25: 1
A26: 2 | B26: CTV cấp phường, Tổ đội, btrưởng DQTV trở lên | C26: 1 | D26: 1 | E26: 1 | F26: 2
A27: 3 | B27: a trưởng, c/sĩ DQ cơ động | C27: 1 | D27: - | E27: 1 | F27: 2 | G27: 1 | H27: 1 | I27: 1 | J27: 1
A28: 4 | B28: a trưởng, chiến sĩ DQ tại chỗ, B/chủng | C28: 2 | D28: - | E28: 1 | F28: 2 | G28: - | H28: - | I28: 1 | J28: -
A29: 5 | B29: b trưởng DQTT | C29: 2 | D29: 1 | E29: 1 | F29: 2 | G29: 1 | H29: 1 | I29: 1 | K29: 2 | L29: 2 | M29: 2 | N29: 1 | O29: 1 | P29: 1 | Q29: 1
A30: 6 | B30: a trưởng, csĩ DQ thường trực | C30: 2 | D30: - | E30: 2 | F30: 2 | G30: 1 | H30: 1 | I30: 1 | J30: 1 | K30: 2 | L30: 2 | M30: 2 | N30: 1 | O30: 1 | P30: 1 | Q30: 1 | R30: 1 | S30: 1 | T30: 1
A31: 7 | B31: Trang phục dùng chung DQTV
A33: TT | B33: Đối tượng | C33: Năm 4 (2029)
C34: Quần áo | D34: Giày da | E34: Giày vải | F34: Tất chân | G34: Mũ cứng sao mũ | H34: Mũ mềm sao mũ | I34: Dây lưng | J34: Quần, áo mưa | K34: Quần lớt | L34: Áo lót | M34: Khăn mặt | N34: Chăn | O34: Màn | P34: Gối | Q34: Chiếu | R34: Đệm giường | S34: Ba lô | T34: Áo ấm
A35: 1 | B35: b trưởng DQ cơ động | C35: 1 | E35: 1 | F35: 2 | J35: 1
A36: 2 | B36: CTV cấp phường, Tổ đội, btrưởng DQTV trở lên | C36: - | D36: - | E36: - | F36: 2 | G36: 1 | H36: 1 | I36: 1 | J36: 1
A37: 3 | B37: a trưởng, csĩ DQ cơ động | C37: 1 | D37: - | E37: 1 | F37: 2 | G37: 1 | H37: 1 | I37: 1 | J37: 1
A38: 4 | B38: a trưởng, chiến sĩ DQ tại chỗ, Bchủng | G38: 1 | H38: 1 | J38: 1
A39: 5 | B39: b trưởng DQTT | C39: 1 | D39: 1 | E39: 1 | F39: 2 | G39: - | H39: - | I39: - | J39: 1 | K39: 2 | L39: 2 | M39: 2 | N39: - | O39: - | P39: - | Q39: 1 | R39: - | S39: - | T39: -
A40: 6 | B40: a trưởng, csĩ DQ thường trực | C40: 2 | D40: - | E40: 2 | F40: 2 | G40: - | H40: - | I40: - | J40: - | K40: 2 | L40: 2 | M40: 2 | N40: - | O40: - | P40: - | Q40: 1 | R40: - | S40: - | T40: 1
A41: 7 | B41: Trang phục dùng chung DQTV
A43: TT | B43: Đối tượng | C43: Năm 5 (2030)
C44: Quần áo | D44: Giày da | E44: Giày vải | F44: Tất chân | G44: Mũ cứng sao mũ | H44: Mũ mềm sao mũ | I44: Dây lưng | J44: Quần, áo mưa | K44: Quần lớt | L44: Áo lót | M44: Khăn mặt | N44: Chăn | O44: Màn | P44: Gối | Q44: Chiếu | R44: Đệm giường | S44: Ba lô | T44: Áo ấm
A45: 1 | B45: b trưởng DQ cơ động | C45: 1 | D45: 1 | E45: 1 | F45: 2 | G45: 1 | H45: 1 | I45: 1
A46: 2 | B46: CTV cấp phường, Tổ đội, btrưởng DQTV trở lên | C46: 1 | D46: 1 | E46: 1 | F46: 2
A47: 3 | B47: a trưởng, c/sĩ DQ cơ động | C47: 1 | D47: - | E47: 1 | F47: 2 | G47: 1 | H47: 1 | I47: 1 | J47: 1
A48: 4 | B48: a trưởng, chiến sĩ DQ tại chỗ, B/chủng | C48: 2 | D48: - | E48: 1 | F48: 2 | G48: - | H48: - | I48: 1 | J48: -
A49: 5 | B49: b trưởng DQTT | C49: 1 | D49: 1 | E49: 1 | F49: 2 | G49: 1 | H49: 1 | I49: 1 | K49: 2 | L49: 2 | M49: 2 | N49: 1 | O49: 1 | P49: 1 | Q49: 1 | R49: 1 | S49: 1
A50: 6 | B50: a trưởng, csĩ DQ thường trực | C50: 2 | D50: - | E50: 2 | F50: 2 | G50: 1 | H50: 1 | I50: 1 | J50: 1 | K50: 2 | L50: 2 | M50: 2 | N50: 1 | O50: 1 | P50: 1 | Q50: 1 | R50: 1 | S50: 1 | T50: 1
A51: 7 | B51: Trang phục dùng chung DQTV
B53: b trưởng DQCĐ | C53: Năm đầu: 2 bộ quân áo, 2 đôi tất, mỗi thứ còn lại 01 cái (bộ, đôi)
C54: Niên hạn | D54: 1 năm: Quần áo, giày vải, tất (1 bộ đồ, 1 đôi giày vải, 2đôi tất/năm)
D55: 2 năm: Mũ cứng, mũ mềm, dây lưng, caravat, Giày da đen (1cái, 1 đôi)
D56: 3 năm: Quần áo mưa (1bộ)
B57: CTV cấp phường, tổ đội, btrưởng DQTV trở lên | C57: Năm đầu: 2 bộ quân áo, 2 đôi tất, mỗi thứ còn lại 01 cái (bộ, đôi)
C58: Niên hạn | D58: 1 năm: Tất (2đôi/năm)
D59: 2 năm: Quần áo, giày da đen, giày vải (mỗi loại 1bộ (đôi))
D60: 3 năm: Mũ cứng, mũ mềm, dây lưng, quần áo mưa, calavat (mỗi thứ 01 cái)
B61: DQ cơ động | C61: Năm đầu: 2 bộ quân áo, 2 đôi tất, mỗi thứ còn lại 01 cái (bộ, đôi)
C62: Niên hạn | D62: 1 năm: Quần áo, giày vải, tất (1 bộ đồ, 1 đôi giày vải, 2đôi tất/năm)
D63: 2 năm: Mũ cứng, mũ mềm, dây lưng
D64: 3 năm: áo mưa
B65: DQ tại chỗ, binh chủng PK, PB TT, TS, CB, PH, Y tế | C65: Năm đầu: 2 bộ quân áo, 2 đôi tất, mỗi thứ còn lại 01 cái (bộ, đôi)
C66: Niên hạn | D66: 2 năm: Quần áo, dây lưng, bít tất, giày vải (2 bộ quần áo, 2 đôi tất, 1 dây lưng, 1 đôi giày vải/2 năm)
D67: 3 năm: Mũ cứng, mũ mềm, áo mưa
B68: btr DQ Thường trực | C68: Năm đầu: 2 bộ quân áo, 2 quần(áo) lót, 2 khăn mặt, 2 đôi tất, Mỗi thứ còn lại 1 cái (đôi),
C69: Niên hạn | D69: 1 năm: 1 bộ quần áo, 2 quần áo lót, 2 khăn mặt, 2 đôi tất, 1 đôi giày da đen, 1 đôi giày vải, 1 chiếu
D70: 2 năm: Mũ cứng, mũ mềm, caravat, dây lưng, chăn, màn, gối
D71: 3 năm: Quần áo mưa (1bộ)
D72: 4 năm: Đệm giường, Ba lô
B73: a trưởng, chiến sĩ DQ Thường trực | C73: Năm đầu: 2 bộ quần áo, 2 quần(áo) lót, 2 khăn mặt, 2 đôi giày vải, 2 đôi tất, Mỗi thứ còn lại 1 cái (đôi)
C74: Niên hạn | D74: 1 năm: 2 bộ quần áo, 2 quần áo lót, 2 khăn mặt, 2 đôi tất, 2 đôi giày vải, 1 chiếu, 1 áo ấm
D75: 2 năm: Mũ cứng, mũ mềm, dây lưng, chăn, màn, gối, áo mưa.
D76: 4 năm: Đệm giường, Ba lô
